BEGIN:VCALENDAR
VERSION:2.0
PRODID:-//Rural Northeast Wisconsin Families - ECPv6.15.20//NONSGML v1.0//EN
CALSCALE:GREGORIAN
METHOD:PUBLISH
X-WR-CALNAME:Rural Northeast Wisconsin Families
X-ORIGINAL-URL:https://ruralnewfamilies.com
X-WR-CALDESC:Events for Rural Northeast Wisconsin Families
REFRESH-INTERVAL;VALUE=DURATION:PT1H
X-Robots-Tag:noindex
X-PUBLISHED-TTL:PT1H
BEGIN:VTIMEZONE
TZID:America/Chicago
BEGIN:DAYLIGHT
TZOFFSETFROM:-0600
TZOFFSETTO:-0500
TZNAME:CDT
DTSTART:20250309T080000
END:DAYLIGHT
BEGIN:STANDARD
TZOFFSETFROM:-0500
TZOFFSETTO:-0600
TZNAME:CST
DTSTART:20251102T070000
END:STANDARD
BEGIN:DAYLIGHT
TZOFFSETFROM:-0600
TZOFFSETTO:-0500
TZNAME:CDT
DTSTART:20260308T080000
END:DAYLIGHT
BEGIN:STANDARD
TZOFFSETFROM:-0500
TZOFFSETTO:-0600
TZNAME:CST
DTSTART:20261101T070000
END:STANDARD
BEGIN:DAYLIGHT
TZOFFSETFROM:-0600
TZOFFSETTO:-0500
TZNAME:CDT
DTSTART:20270314T080000
END:DAYLIGHT
BEGIN:STANDARD
TZOFFSETFROM:-0500
TZOFFSETTO:-0600
TZNAME:CST
DTSTART:20271107T070000
END:STANDARD
END:VTIMEZONE
BEGIN:VEVENT
DTSTART;TZID=America/Chicago:20260301T140000
DTEND;TZID=America/Chicago:20260301T150000
DTSTAMP:20260421T140513
CREATED:20260103T082359Z
LAST-MODIFIED:20260103T082401Z
UID:10012018-1772373600-1772377200@ruralnewfamilies.com
SUMMARY:Awesome Ambassadors at Bay Beach Wildlife Sanctuary every Sunday 2p-3p starting 12/14/25!
DESCRIPTION:Starting December 14th through April 19. 2026\, join us every Sunday 2p-3p at the Observation Building for our Awesome Ambassador program!Learn about the Wildlife Sanctuary’s awesome ambassadors! This fun program allows visitors to get up close with the animals and talk with the animal care staff. Bring your camera! \n\n\n\n \n\n\n\nBuy some corn to feed the outside birds too. ($5/bag).  They’re excited for visitors too. (Dress for the weather) \n\n\n\n2025-2026 Winter WLS Program Brochure – Bay Beach Wildlife Sanctuary Printable Program Schedule
URL:https://ruralnewfamilies.com/event/awesome-ambassadors-at-bay-beach-wildlife-sanctuary-every-sunday-2p-3p-starting-12-14-25-2/2026-03-01/
LOCATION:Bay Beach Wildlife Sanctuary\, East Shore Drive 1660\, Green Bay\, WI\, 54302\, United States
CATEGORIES:Community Resource,FREE,Hunting/Fishing/Outdoor Sports/Education,Natural Resources Protection,Nature Center,Youth & Family Programs
GEO:44.5275131;-87.9737794
X-APPLE-STRUCTURED-LOCATION;VALUE=URI;X-ADDRESS=Bay Beach Wildlife Sanctuary East Shore Drive 1660 Green Bay WI 54302 United States;X-APPLE-RADIUS=500;X-TITLE=East Shore Drive 1660:geo:-87.9737794,44.5275131
END:VEVENT
BEGIN:VEVENT
DTSTART;TZID=America/Chicago:20260301T183000
DTEND;TZID=America/Chicago:20260301T200000
DTSTAMP:20260421T140513
CREATED:20260103T062257Z
LAST-MODIFIED:20260103T073205Z
UID:10012003-1772389800-1772395200@ruralnewfamilies.com
SUMMARY:🤰 Connecting Mothers - Virtual Teen Mom Support Group
DESCRIPTION:We’re starting 2026 a little differently at MMIB.  \n\n\n\nFor Quarter 1\, we’re intentionally centering teen moms — holding space\, offering community\, and leading with compassion. \n\n\n\nThis space is also open to moms who’ve been there before\, want to support from a place of understanding\, or know a teen mom who could benefit from this space. \n\n\n\nBecause sometimes the most powerful support comes from someone who truly gets it. \n\n\n\nIf this speaks to you — whether you’re a teen mom\, were once a teen mom\, want to support\, or know someone who might need this — we’d love to have you. \n\n\n\nFlyer details below.  \n\n\n\nAs Always… Mommies Make It Better  \n\n\n\n**Note** This is Peer Support – NOT therapy or clinical treatment. \n\n\n\n\nJoin Meeting Here
URL:https://ruralnewfamilies.com/event/%f0%9f%a4%b0-connecting-mothers-virtual-teen-mom-support-group/2026-03-01/
LOCATION:Wisconsin
CATEGORIES:Community Resource,FREE,Health and Safety,Inclusive Events,Parent,Teen,Youth & Family Programs
END:VEVENT
END:VCALENDAR