BEGIN:VCALENDAR
VERSION:2.0
PRODID:-//Rural Northeast Wisconsin Families - ECPv6.15.20//NONSGML v1.0//EN
CALSCALE:GREGORIAN
METHOD:PUBLISH
X-WR-CALNAME:Rural Northeast Wisconsin Families
X-ORIGINAL-URL:https://ruralnewfamilies.com
X-WR-CALDESC:Events for Rural Northeast Wisconsin Families
REFRESH-INTERVAL;VALUE=DURATION:PT1H
X-Robots-Tag:noindex
X-PUBLISHED-TTL:PT1H
BEGIN:VTIMEZONE
TZID:America/Chicago
BEGIN:DAYLIGHT
TZOFFSETFROM:-0600
TZOFFSETTO:-0500
TZNAME:CDT
DTSTART:20250309T080000
END:DAYLIGHT
BEGIN:STANDARD
TZOFFSETFROM:-0500
TZOFFSETTO:-0600
TZNAME:CST
DTSTART:20251102T070000
END:STANDARD
BEGIN:DAYLIGHT
TZOFFSETFROM:-0600
TZOFFSETTO:-0500
TZNAME:CDT
DTSTART:20260308T080000
END:DAYLIGHT
BEGIN:STANDARD
TZOFFSETFROM:-0500
TZOFFSETTO:-0600
TZNAME:CST
DTSTART:20261101T070000
END:STANDARD
BEGIN:DAYLIGHT
TZOFFSETFROM:-0600
TZOFFSETTO:-0500
TZNAME:CDT
DTSTART:20270314T080000
END:DAYLIGHT
BEGIN:STANDARD
TZOFFSETFROM:-0500
TZOFFSETTO:-0600
TZNAME:CST
DTSTART:20271107T070000
END:STANDARD
END:VTIMEZONE
BEGIN:VEVENT
DTSTART;TZID=America/Chicago:20260305T100000
DTEND;TZID=America/Chicago:20260305T170000
DTSTAMP:20260425T030556
CREATED:20260204T035744Z
LAST-MODIFIED:20260204T035746Z
UID:10012300-1772704800-1772730000@ruralnewfamilies.com
SUMMARY:Milwaukee Public Museum - FREE Admission
DESCRIPTION:Come see the Permanent Exhibits for FREE!  Children must be accompanied by an adult to receive free admission. \n\n\n\nReservations\n\n\n\nAdmission is free\, but we strongly recommend advance reservations.* Walk-up tickets are not guaranteed. \n\n\n\nNOTE: Please stay tuned as future dates are added. Reservations for Kohl’s Thank You Thursday can be made 7 days prior to the dates listed above. \n\n\n\nChildren ages 0-3 must be included when making your reservation.
URL:https://ruralnewfamilies.com/event/milwaukee-public-museum-free-admission/2026-03-05/
LOCATION:Milwaukee Public Museum\, 800 West Wells St\, Milwaukee\, Wisconsin\, United States
CATEGORIES:Community Events & Parades,Community Resource,FREE,Indoor Event,Library/Museum,Music, Arts, Culture, & Tours,Plan Ahead,Plan Ahead- RSVP Suggested- not required,Youth & Family Programs
GEO:43.0406616;-87.9211463
X-APPLE-STRUCTURED-LOCATION;VALUE=URI;X-ADDRESS=Milwaukee Public Museum 800 West Wells St Milwaukee Wisconsin United States;X-APPLE-RADIUS=500;X-TITLE=800 West Wells St:geo:-87.9211463,43.0406616
END:VEVENT
BEGIN:VEVENT
DTSTART;TZID=America/Chicago:20260305T160000
DTEND;TZID=America/Chicago:20260305T200000
DTSTAMP:20260425T030556
CREATED:20260216T200400Z
LAST-MODIFIED:20260216T200438Z
UID:10012583-1772726400-1772740800@ruralnewfamilies.com
SUMMARY:Sam25 Free Health Clinic
DESCRIPTION:Doctors Available every week\n\n\n\nFREE Healthcare\n\n\n\nVideo Counseling Available\n\n\n\nHelp Finding Health Insurance\n\n\n\nWalk-Ins Welcome\n\n\n\nID or Documention NOT required\n\n\n\nFor those uninsured or living near the poverty level
URL:https://ruralnewfamilies.com/event/sam25-free-health-clinic/2026-03-05/
LOCATION:Sam25\, East Richmond Street 105\, Shawano\, WI\, 54166\, United States
CATEGORIES:Community Resource,FREE,Health and Safety
GEO:44.7747944;-88.608432
X-APPLE-STRUCTURED-LOCATION;VALUE=URI;X-ADDRESS=Sam25 East Richmond Street 105 Shawano WI 54166 United States;X-APPLE-RADIUS=500;X-TITLE=East Richmond Street 105:geo:-88.608432,44.7747944
END:VEVENT
BEGIN:VEVENT
DTSTART;TZID=America/Chicago:20260305T183000
DTEND;TZID=America/Chicago:20260305T200000
DTSTAMP:20260425T030556
CREATED:20260221T051236Z
LAST-MODIFIED:20260221T051239Z
UID:10012719-1772735400-1772740800@ruralnewfamilies.com
SUMMARY:Meet the Author: Therese Langer Woelfel
DESCRIPTION:Meet the Author \n\n\n\nTherese Langer Woelfel — writer\, business leader\, and granddaughter of a Great Lakes lighthouse keeper — brings history to life through personal family stories. \n\n\n\nHer upcoming OCHS Speaker Series program shares the remarkable legacy of her mother\, Vivian Langer\, and the lighthouse life that shaped their family. \n\n\n\nFind the Book Here: Our Guiding Light – Wisdom from the Lighthouse Keeper’s Daughter \n\n\n\nFree and Open to the Public
URL:https://ruralnewfamilies.com/event/meet-the-author-therese-langer-woelfel/
LOCATION:The Beyer Home and Carriage Museum\, Park Avenue 915\, Oconto\, Wisconsin\, 54153\, United States
CATEGORIES:FREE,Library/Museum,Speaker Series
GEO:44.892968;-87.8653681
X-APPLE-STRUCTURED-LOCATION;VALUE=URI;X-ADDRESS=The Beyer Home and Carriage Museum Park Avenue 915 Oconto Wisconsin 54153 United States;X-APPLE-RADIUS=500;X-TITLE=Park Avenue 915:geo:-87.8653681,44.892968
END:VEVENT
END:VCALENDAR