BEGIN:VCALENDAR
VERSION:2.0
PRODID:-//Rural Northeast Wisconsin Families - ECPv6.15.20//NONSGML v1.0//EN
CALSCALE:GREGORIAN
METHOD:PUBLISH
X-WR-CALNAME:Rural Northeast Wisconsin Families
X-ORIGINAL-URL:https://ruralnewfamilies.com
X-WR-CALDESC:Events for Rural Northeast Wisconsin Families
REFRESH-INTERVAL;VALUE=DURATION:PT1H
X-Robots-Tag:noindex
X-PUBLISHED-TTL:PT1H
BEGIN:VTIMEZONE
TZID:America/Chicago
BEGIN:DAYLIGHT
TZOFFSETFROM:-0600
TZOFFSETTO:-0500
TZNAME:CDT
DTSTART:20250309T080000
END:DAYLIGHT
BEGIN:STANDARD
TZOFFSETFROM:-0500
TZOFFSETTO:-0600
TZNAME:CST
DTSTART:20251102T070000
END:STANDARD
BEGIN:DAYLIGHT
TZOFFSETFROM:-0600
TZOFFSETTO:-0500
TZNAME:CDT
DTSTART:20260308T080000
END:DAYLIGHT
BEGIN:STANDARD
TZOFFSETFROM:-0500
TZOFFSETTO:-0600
TZNAME:CST
DTSTART:20261101T070000
END:STANDARD
BEGIN:DAYLIGHT
TZOFFSETFROM:-0600
TZOFFSETTO:-0500
TZNAME:CDT
DTSTART:20270314T080000
END:DAYLIGHT
BEGIN:STANDARD
TZOFFSETFROM:-0500
TZOFFSETTO:-0600
TZNAME:CST
DTSTART:20271107T070000
END:STANDARD
END:VTIMEZONE
BEGIN:VEVENT
DTSTART;TZID=America/Chicago:20260309T000000
DTEND;TZID=America/Chicago:20260309T235959
DTSTAMP:20260421T140614
CREATED:20260308T101926Z
LAST-MODIFIED:20260308T104554Z
UID:10012846-1773014400-1773100799@ruralnewfamilies.com
SUMMARY:March Mammal Madness
DESCRIPTION:It’s almost time for March Mammal Madness! All are invited to enter a bracket into our bracket pool for this entertaining and educational tournament. \n\n\n\nAll you need to do is make your predictions for the different matchups by completing a bracket. Then you can just follow along as the results are revealed. \n\n\n\nFor more information\, click the link below. \n\n\n\nhttps://newlt.org/march-mammal-madness/ \n\n\n\nClick here to sign up by March 9th
URL:https://ruralnewfamilies.com/event/march-mammal-madness/
LOCATION:Wisconsin
CATEGORIES:Community Resource,FREE,Hunting/Fishing/Outdoor Sports/Education,Natural Resources Protection,Nature Center,Outdoor Recreation,Plan Ahead,RSVP - Pre-Registration Required,Youth & Family Programs
END:VEVENT
BEGIN:VEVENT
DTSTART;TZID=America/Chicago:20260309T101500
DTEND;TZID=America/Chicago:20260309T111500
DTSTAMP:20260421T140614
CREATED:20260128T041836Z
LAST-MODIFIED:20260128T041921Z
UID:10012192-1773051300-1773054900@ruralnewfamilies.com
SUMMARY:Babygarten
DESCRIPTION:An event for babies!  Come\, play\, learn and grow together!  \n\n\n\nActivities include: \n\n\n\n\nStorytime and singing\n\n\n\nNursery Rhymes\n\n\n\nSocial Playtime\n\n\n\nCraft (once per month)
URL:https://ruralnewfamilies.com/event/babygarten-2/2026-03-09/
LOCATION:Marion Public Library\, North Main Street 120\, Marion\, Wisconsin\, 54950\, United States
CATEGORIES:FREE,Indoor Event,Library/Museum,Life Stages And Special Communities,Storytime,Youth & Family Programs
GEO:44.6712452;-88.8889175
X-APPLE-STRUCTURED-LOCATION;VALUE=URI;X-ADDRESS=Marion Public Library North Main Street 120 Marion Wisconsin 54950 United States;X-APPLE-RADIUS=500;X-TITLE=North Main Street 120:geo:-88.8889175,44.6712452
END:VEVENT
BEGIN:VEVENT
DTSTART;TZID=America/Chicago:20260309T103000
DTEND;TZID=America/Chicago:20260309T113000
DTSTAMP:20260421T140614
CREATED:20260208T054249Z
LAST-MODIFIED:20260208T054251Z
UID:10012399-1773052200-1773055800@ruralnewfamilies.com
SUMMARY:Playgroup
DESCRIPTION:Come to our meeting room every Monday for our Playgroup!   \n\n\n\nLots of Toy Stations\, Storytime and a Snack!
URL:https://ruralnewfamilies.com/event/playgroup/2026-03-09/
LOCATION:Oconto Falls Library\, North Main Street 251\, Oconto Falls\, WI\, 54154\, United States
CATEGORIES:Community Resource,FREE,Library/Museum,Storytime
GEO:44.876309;-88.1455453
X-APPLE-STRUCTURED-LOCATION;VALUE=URI;X-ADDRESS=Oconto Falls Library North Main Street 251 Oconto Falls WI 54154 United States;X-APPLE-RADIUS=500;X-TITLE=North Main Street 251:geo:-88.1455453,44.876309
END:VEVENT
BEGIN:VEVENT
DTSTART;TZID=America/Chicago:20260309T140000
DTEND;TZID=America/Chicago:20260309T150000
DTSTAMP:20260421T140614
CREATED:20260308T085416Z
LAST-MODIFIED:20260308T085418Z
UID:10012806-1773064800-1773068400@ruralnewfamilies.com
SUMMARY:❄️ Homeschool Hop
DESCRIPTION:Homeschool families explore snow science\, share books and make snowflake art!
URL:https://ruralnewfamilies.com/event/%e2%9d%84%ef%b8%8f-homeschool-hop/
LOCATION:Shawano County Library\, 128 S Sawyer St\, Shawano\, WI 54166\, USA\, South Sawyer Street 128\, Shawano\, WI\, 54166\, United States
CATEGORIES:FREE,Homeschool/Virtual School,Library/Museum
GEO:44.7810031;-88.6071624
X-APPLE-STRUCTURED-LOCATION;VALUE=URI;X-ADDRESS=Shawano County Library 128 S Sawyer St Shawano WI 54166 USA South Sawyer Street 128 Shawano WI 54166 United States;X-APPLE-RADIUS=500;X-TITLE=South Sawyer Street 128:geo:-88.6071624,44.7810031
END:VEVENT
BEGIN:VEVENT
DTSTART;TZID=America/Chicago:20260309T140000
DTEND;TZID=America/Chicago:20260309T170000
DTSTAMP:20260421T140614
CREATED:20260308T082603Z
LAST-MODIFIED:20260308T082606Z
UID:10012770-1773064800-1773075600@ruralnewfamilies.com
SUMMARY:❄️ teenSTEAM - Science of Snow
DESCRIPTION:New teen program! Join us as we look at the science of snowflakes and then make some of our own. Perfect for homeschoolers! Will run at the same time as the children’s Homeschool Hop.
URL:https://ruralnewfamilies.com/event/%e2%9d%84%ef%b8%8f-teensteam-science-of-snow/
LOCATION:Shawano County Library\, 128 S Sawyer St\, Shawano\, WI 54166\, USA\, South Sawyer Street 128\, Shawano\, WI\, 54166\, United States
CATEGORIES:FREE,Homeschool/Virtual School,Library/Museum,Teen
GEO:44.7810031;-88.6071624
X-APPLE-STRUCTURED-LOCATION;VALUE=URI;X-ADDRESS=Shawano County Library 128 S Sawyer St Shawano WI 54166 USA South Sawyer Street 128 Shawano WI 54166 United States;X-APPLE-RADIUS=500;X-TITLE=South Sawyer Street 128:geo:-88.6071624,44.7810031
END:VEVENT
BEGIN:VEVENT
DTSTART;TZID=America/Chicago:20260309T160000
DTEND;TZID=America/Chicago:20260309T180000
DTSTAMP:20260421T140614
CREATED:20260308T095137Z
LAST-MODIFIED:20260308T095139Z
UID:10012842-1773072000-1773079200@ruralnewfamilies.com
SUMMARY:Teen Only Night: DND Club
DESCRIPTION:Join us for DND adventures every 2nd Monday!  Come solve clues\, meet magical beings and let your creativity shine. \n\n\n\nBring your creativity
URL:https://ruralnewfamilies.com/event/teen-only-night-dnd-club/
LOCATION:New London Public Library\, 406 S Pearl St\, New London\, Wisconsin\, 54961\, United States
CATEGORIES:FREE,Library/Museum,Teen
GEO:44.3895883;-88.7393637
X-APPLE-STRUCTURED-LOCATION;VALUE=URI;X-ADDRESS=New London Public Library 406 S Pearl St New London Wisconsin 54961 United States;X-APPLE-RADIUS=500;X-TITLE=406 S Pearl St:geo:-88.7393637,44.3895883
END:VEVENT
BEGIN:VEVENT
DTSTART;TZID=America/Chicago:20260309T180000
DTEND;TZID=America/Chicago:20260309T200000
DTSTAMP:20260421T140614
CREATED:20260306T224740Z
LAST-MODIFIED:20260306T224742Z
UID:10012779-1773079200-1773086400@ruralnewfamilies.com
SUMMARY:Last Light Hike
DESCRIPTION:Join us and the Kaukauna Public Library at 1000 Islands as we celebrate the moon and the return of daylight savings time. Take a magical\, self-guided night hike along our illuminated boardwalk trail. Kids will enjoy reading Moon Child by Nadia Krilanovich along our storybook walk loop. End the night by relaxing with your loved ones by the fire and enjoying some popcorn and hot chocolate. FREE (Donations appreciated for refreshments) \n\n\n\n**No Pets**
URL:https://ruralnewfamilies.com/event/last-light-hike/
LOCATION:1000 Islands Nature Center\, 1000 Beaulieu Ct\, Kaukauna\, WI\, 54130\, United States
CATEGORIES:FREE,Kids Outdoors,Library/Museum,Nature Center,Outdoor Event,Outdoor Recreation
GEO:44.2752616;-88.262054
X-APPLE-STRUCTURED-LOCATION;VALUE=URI;X-ADDRESS=1000 Islands Nature Center 1000 Beaulieu Ct Kaukauna WI 54130 United States;X-APPLE-RADIUS=500;X-TITLE=1000 Beaulieu Ct:geo:-88.262054,44.2752616
END:VEVENT
END:VCALENDAR