BEGIN:VCALENDAR
VERSION:2.0
PRODID:-//Rural Northeast Wisconsin Families - ECPv6.15.20//NONSGML v1.0//EN
CALSCALE:GREGORIAN
METHOD:PUBLISH
X-ORIGINAL-URL:https://ruralnewfamilies.com
X-WR-CALDESC:Events for Rural Northeast Wisconsin Families
REFRESH-INTERVAL;VALUE=DURATION:PT1H
X-Robots-Tag:noindex
X-PUBLISHED-TTL:PT1H
BEGIN:VTIMEZONE
TZID:America/Chicago
BEGIN:DAYLIGHT
TZOFFSETFROM:-0600
TZOFFSETTO:-0500
TZNAME:CDT
DTSTART:20250309T080000
END:DAYLIGHT
BEGIN:STANDARD
TZOFFSETFROM:-0500
TZOFFSETTO:-0600
TZNAME:CST
DTSTART:20251102T070000
END:STANDARD
BEGIN:DAYLIGHT
TZOFFSETFROM:-0600
TZOFFSETTO:-0500
TZNAME:CDT
DTSTART:20260308T080000
END:DAYLIGHT
BEGIN:STANDARD
TZOFFSETFROM:-0500
TZOFFSETTO:-0600
TZNAME:CST
DTSTART:20261101T070000
END:STANDARD
BEGIN:DAYLIGHT
TZOFFSETFROM:-0600
TZOFFSETTO:-0500
TZNAME:CDT
DTSTART:20270314T080000
END:DAYLIGHT
BEGIN:STANDARD
TZOFFSETFROM:-0500
TZOFFSETTO:-0600
TZNAME:CST
DTSTART:20271107T070000
END:STANDARD
END:VTIMEZONE
BEGIN:VEVENT
DTSTART;TZID=America/Chicago:20260312T130000
DTEND;TZID=America/Chicago:20260312T140000
DTSTAMP:20260423T051004
CREATED:20260109T194309Z
LAST-MODIFIED:20260109T194311Z
UID:10012073-1773320400-1773324000@ruralnewfamilies.com
SUMMARY:Bingo
DESCRIPTION:Come join us for Bingo and refreshments!   \n\n\n\nFREE Bingo and great prizes! \n\n\n\n \n\n\n\nThis is something for ALL ages!
URL:https://ruralnewfamilies.com/event/bingo-8/2026-03-12/
LOCATION:Marion Public Library\, North Main Street 120\, Marion\, Wisconsin\, 54950\, United States
CATEGORIES:Community Events & Parades,FREE,Indoor Event,Library/Museum,Life Stages And Special Communities,Senior Connections
GEO:44.6712452;-88.8889175
X-APPLE-STRUCTURED-LOCATION;VALUE=URI;X-ADDRESS=Marion Public Library North Main Street 120 Marion Wisconsin 54950 United States;X-APPLE-RADIUS=500;X-TITLE=North Main Street 120:geo:-88.8889175,44.6712452
END:VEVENT
BEGIN:VEVENT
DTSTART;TZID=America/Chicago:20260312T160000
DTEND;TZID=America/Chicago:20260312T200000
DTSTAMP:20260423T051004
CREATED:20260216T200400Z
LAST-MODIFIED:20260216T200438Z
UID:10012584-1773331200-1773345600@ruralnewfamilies.com
SUMMARY:Sam25 Free Health Clinic
DESCRIPTION:Doctors Available every week\n\n\n\nFREE Healthcare\n\n\n\nVideo Counseling Available\n\n\n\nHelp Finding Health Insurance\n\n\n\nWalk-Ins Welcome\n\n\n\nID or Documention NOT required\n\n\n\nFor those uninsured or living near the poverty level
URL:https://ruralnewfamilies.com/event/sam25-free-health-clinic/2026-03-12/
LOCATION:Sam25\, East Richmond Street 105\, Shawano\, WI\, 54166\, United States
CATEGORIES:Community Resource,FREE,Health and Safety
GEO:44.7747944;-88.608432
X-APPLE-STRUCTURED-LOCATION;VALUE=URI;X-ADDRESS=Sam25 East Richmond Street 105 Shawano WI 54166 United States;X-APPLE-RADIUS=500;X-TITLE=East Richmond Street 105:geo:-88.608432,44.7747944
END:VEVENT
BEGIN:VEVENT
DTSTART;TZID=America/Chicago:20260312T180000
DTEND;TZID=America/Chicago:20260312T210000
DTSTAMP:20260423T051004
CREATED:20260227T030023Z
LAST-MODIFIED:20260318T195205Z
UID:10012767-1773338400-1773349200@ruralnewfamilies.com
SUMMARY:🇺🇸 Clintonville Board of Education Candidate Debate
DESCRIPTION:Come to a fun and engaging Candidate Debate where the audience is in charge of the questions! \n\n\n\nCandidates are NOT given any questions prior to the debate.   \n\n\n\nTentative Schedule of Events: \n\n\n\n\n6pm – Arrive and fill out question cards for the candidates\n\n\n\n6:30pm – Special Guest Speaker (TBD)\n\n\n\n7pm – Candidate Debate\n\n\n\n8pm – Informal Meet and Greet with the candidates\n\n\n\n\nWhat to expect: \n\n\n\n\nThere will be index cards and pencils available for you to write your questions when you arrive.\n\n\n\nModerator Kathy will read the questions to the candidates.  \n\n\n\nFamily-friendly event.  The candidates want to hear from taxpayers AND students.  (This isn’t a case of  🎶”I’d like to help you\, but you’re too young to vote” 🎶 (Summertime Blues)\n\n\n\nCandidates will be given a set amount of time for questions.  \n\n\n\nThere is plenty of time to laugh and have fun.  This event is completely audience-driven.  It’s a great introduction for kids to see our voting process in action.  \n\n\n\nThere will be time after the debate for an informal meet and greet with the candidates. \n\n\n\nBring cash for snacks and beverages at the venue. \n\n\n\n\n\n\n\n\n\n\n\n\nThis event will be recorded.  The recording will be available on YouTube following the event.  The link will be shared here. \n\n\n\nAdditional Q&A FAQ’s – Click HERE\n\n\n\n\nFB Event\n\n\n\n\nYouTube Recording – will go live at 8am 3/18/2026 \n\n\n\nEvent Feedback Form
URL:https://ruralnewfamilies.com/event/%f0%9f%87%ba%f0%9f%87%b8-clintonville-board-of-education-candidate-debate/
LOCATION:Memory Lanes\, County Highway I 250\, Clintonville\, Wisconsin\, 54929\, United States
CATEGORIES:Community Events & Parades,Election,FREE,Inclusive Events,Plan Ahead,School Board
ATTACH;FMTTYPE=image/png:https://ruralnewfamilies.com/wp-content/uploads/2026/02/Clintonville-School-District-board-of-Education-Debatefinal.png
GEO:44.6057597;-88.7605982
X-APPLE-STRUCTURED-LOCATION;VALUE=URI;X-ADDRESS=Memory Lanes County Highway I 250 Clintonville Wisconsin 54929 United States;X-APPLE-RADIUS=500;X-TITLE=County Highway I 250:geo:-88.7605982,44.6057597
END:VEVENT
END:VCALENDAR