BEGIN:VCALENDAR
VERSION:2.0
PRODID:-//Rural Northeast Wisconsin Families - ECPv6.15.20//NONSGML v1.0//EN
CALSCALE:GREGORIAN
METHOD:PUBLISH
X-ORIGINAL-URL:https://ruralnewfamilies.com
X-WR-CALDESC:Events for Rural Northeast Wisconsin Families
REFRESH-INTERVAL;VALUE=DURATION:PT1H
X-Robots-Tag:noindex
X-PUBLISHED-TTL:PT1H
BEGIN:VTIMEZONE
TZID:America/Chicago
BEGIN:DAYLIGHT
TZOFFSETFROM:-0600
TZOFFSETTO:-0500
TZNAME:CDT
DTSTART:20250309T080000
END:DAYLIGHT
BEGIN:STANDARD
TZOFFSETFROM:-0500
TZOFFSETTO:-0600
TZNAME:CST
DTSTART:20251102T070000
END:STANDARD
BEGIN:DAYLIGHT
TZOFFSETFROM:-0600
TZOFFSETTO:-0500
TZNAME:CDT
DTSTART:20260308T080000
END:DAYLIGHT
BEGIN:STANDARD
TZOFFSETFROM:-0500
TZOFFSETTO:-0600
TZNAME:CST
DTSTART:20261101T070000
END:STANDARD
BEGIN:DAYLIGHT
TZOFFSETFROM:-0600
TZOFFSETTO:-0500
TZNAME:CDT
DTSTART:20270314T080000
END:DAYLIGHT
BEGIN:STANDARD
TZOFFSETFROM:-0500
TZOFFSETTO:-0600
TZNAME:CST
DTSTART:20271107T070000
END:STANDARD
END:VTIMEZONE
BEGIN:VEVENT
DTSTART;TZID=America/Chicago:20260318T100000
DTEND;TZID=America/Chicago:20260318T110000
DTSTAMP:20260423T123926
CREATED:20250820T034700Z
LAST-MODIFIED:20250820T034702Z
UID:10010929-1773828000-1773831600@ruralnewfamilies.com
SUMMARY:Drop In Playgroup
DESCRIPTION:Join Miss Kelly for drop-in playgroup!   \n\n\n\nStorytime\, free play\, snack\, music\, fun activities!
URL:https://ruralnewfamilies.com/event/drop-in-playgroup-2/2026-03-18/
LOCATION:Marion Public Library\, North Main Street 120\, Marion\, Wisconsin\, 54950\, United States
CATEGORIES:FREE,Indoor Event,Library/Museum,Storytime
GEO:44.6712452;-88.8889175
X-APPLE-STRUCTURED-LOCATION;VALUE=URI;X-ADDRESS=Marion Public Library North Main Street 120 Marion Wisconsin 54950 United States;X-APPLE-RADIUS=500;X-TITLE=North Main Street 120:geo:-88.8889175,44.6712452
END:VEVENT
BEGIN:VEVENT
DTSTART;TZID=America/Chicago:20260318T133000
DTEND;TZID=America/Chicago:20260318T163000
DTSTAMP:20260423T123926
CREATED:20260316T225419Z
LAST-MODIFIED:20260316T225421Z
UID:10012861-1773840600-1773851400@ruralnewfamilies.com
SUMMARY:Speed Puzzle Competition
DESCRIPTION:Get your team together and sign up! \n\n\n\nSnacks and prizes provided
URL:https://ruralnewfamilies.com/event/speed-puzzle-competition-2/
LOCATION:Marion Public Library\, North Main Street 120\, Marion\, Wisconsin\, 54950\, United States
CATEGORIES:FREE,Library/Museum
GEO:44.6712452;-88.8889175
X-APPLE-STRUCTURED-LOCATION;VALUE=URI;X-ADDRESS=Marion Public Library North Main Street 120 Marion Wisconsin 54950 United States;X-APPLE-RADIUS=500;X-TITLE=North Main Street 120:geo:-88.8889175,44.6712452
END:VEVENT
BEGIN:VEVENT
DTSTART;TZID=America/Chicago:20260318T140000
DTEND;TZID=America/Chicago:20260318T150000
DTSTAMP:20260423T123926
CREATED:20260218T012426Z
LAST-MODIFIED:20260218T012430Z
UID:10012642-1773842400-1773846000@ruralnewfamilies.com
SUMMARY:🧶 Hook and Knit
DESCRIPTION:Knit and Hook1st & 3rd Wednesdays of the month at 2 PM.​​Bring your knitting\, crocheting\, needle point\, or whatever you’re working on at the time. ​Come and work on your crafts and get to know others.
URL:https://ruralnewfamilies.com/event/%f0%9f%a7%b6-hook-and-knit/2026-03-18/
LOCATION:Suring Public Library\, East Main Street 604\, Suring\, Wisconsin\, 54174\, United States
CATEGORIES:DIY Crafts,FREE,Library/Museum
GEO:44.9992682;-88.3729785
X-APPLE-STRUCTURED-LOCATION;VALUE=URI;X-ADDRESS=Suring Public Library East Main Street 604 Suring Wisconsin 54174 United States;X-APPLE-RADIUS=500;X-TITLE=East Main Street 604:geo:-88.3729785,44.9992682
END:VEVENT
BEGIN:VEVENT
DTSTART;TZID=America/Chicago:20260318T190000
DTEND;TZID=America/Chicago:20260318T200000
DTSTAMP:20260423T123926
CREATED:20260317T010816Z
LAST-MODIFIED:20260317T010819Z
UID:10012897-1773860400-1773864000@ruralnewfamilies.com
SUMMARY:Weather 101 Virtual Classes: Machine Learning at the Storm Prediction Center
DESCRIPTION:Check out the entire season’s lineup here: weather.gov/ohx/weather101.
URL:https://ruralnewfamilies.com/event/weather-101-virtual-classes-machine-learning-at-the-storm-prediction-center/
LOCATION:Wisconsin
CATEGORIES:Class,Community Events & Parades,FREE,Health and Safety,Plan Ahead,RSVP - Pre-Registration Required
END:VEVENT
END:VCALENDAR