BEGIN:VCALENDAR
VERSION:2.0
PRODID:-//Rural Northeast Wisconsin Families - ECPv6.15.20//NONSGML v1.0//EN
CALSCALE:GREGORIAN
METHOD:PUBLISH
X-ORIGINAL-URL:https://ruralnewfamilies.com
X-WR-CALDESC:Events for Rural Northeast Wisconsin Families
REFRESH-INTERVAL;VALUE=DURATION:PT1H
X-Robots-Tag:noindex
X-PUBLISHED-TTL:PT1H
BEGIN:VTIMEZONE
TZID:America/Chicago
BEGIN:DAYLIGHT
TZOFFSETFROM:-0600
TZOFFSETTO:-0500
TZNAME:CDT
DTSTART:20250309T080000
END:DAYLIGHT
BEGIN:STANDARD
TZOFFSETFROM:-0500
TZOFFSETTO:-0600
TZNAME:CST
DTSTART:20251102T070000
END:STANDARD
BEGIN:DAYLIGHT
TZOFFSETFROM:-0600
TZOFFSETTO:-0500
TZNAME:CDT
DTSTART:20260308T080000
END:DAYLIGHT
BEGIN:STANDARD
TZOFFSETFROM:-0500
TZOFFSETTO:-0600
TZNAME:CST
DTSTART:20261101T070000
END:STANDARD
BEGIN:DAYLIGHT
TZOFFSETFROM:-0600
TZOFFSETTO:-0500
TZNAME:CDT
DTSTART:20270314T080000
END:DAYLIGHT
BEGIN:STANDARD
TZOFFSETFROM:-0500
TZOFFSETTO:-0600
TZNAME:CST
DTSTART:20271107T070000
END:STANDARD
END:VTIMEZONE
BEGIN:VEVENT
DTSTART;TZID=America/Chicago:20260319T100000
DTEND;TZID=America/Chicago:20260319T110000
DTSTAMP:20260423T082359
CREATED:20260317T010958Z
LAST-MODIFIED:20260317T011001Z
UID:10012898-1773914400-1773918000@ruralnewfamilies.com
SUMMARY:Weather 101 Virtual Classes: Fire Weather
DESCRIPTION:Check out the entire season’s lineup here: weather.gov/ohx/weather101.
URL:https://ruralnewfamilies.com/event/weather-101-virtual-classes-fire-weather/
LOCATION:Wisconsin
CATEGORIES:Class,Community Events & Parades,FREE,Health and Safety,Plan Ahead,RSVP - Pre-Registration Required
END:VEVENT
BEGIN:VEVENT
DTSTART;TZID=America/Chicago:20260319T160000
DTEND;TZID=America/Chicago:20260319T200000
DTSTAMP:20260423T082359
CREATED:20260216T200400Z
LAST-MODIFIED:20260216T200438Z
UID:10012585-1773936000-1773950400@ruralnewfamilies.com
SUMMARY:Sam25 Free Health Clinic
DESCRIPTION:Doctors Available every week\n\n\n\nFREE Healthcare\n\n\n\nVideo Counseling Available\n\n\n\nHelp Finding Health Insurance\n\n\n\nWalk-Ins Welcome\n\n\n\nID or Documention NOT required\n\n\n\nFor those uninsured or living near the poverty level
URL:https://ruralnewfamilies.com/event/sam25-free-health-clinic/2026-03-19/
LOCATION:Sam25\, East Richmond Street 105\, Shawano\, WI\, 54166\, United States
CATEGORIES:Community Resource,FREE,Health and Safety
GEO:44.7747944;-88.608432
X-APPLE-STRUCTURED-LOCATION;VALUE=URI;X-ADDRESS=Sam25 East Richmond Street 105 Shawano WI 54166 United States;X-APPLE-RADIUS=500;X-TITLE=East Richmond Street 105:geo:-88.608432,44.7747944
END:VEVENT
BEGIN:VEVENT
DTSTART;TZID=America/Chicago:20260319T163000
DTEND;TZID=America/Chicago:20260319T180000
DTSTAMP:20260423T082359
CREATED:20260308T100227Z
LAST-MODIFIED:20260308T100229Z
UID:10012843-1773937800-1773943200@ruralnewfamilies.com
SUMMARY:Teen Only Night: Beaded Fairy Lights
DESCRIPTION:Drop In Event \n\n\n\nFor more information call the New London Library
URL:https://ruralnewfamilies.com/event/teen-only-night-beaded-fairy-lights/
LOCATION:New London Public Library\, 406 S Pearl St\, New London\, Wisconsin\, 54961\, United States
CATEGORIES:FREE,Library/Museum,Teen
GEO:44.3895883;-88.7393637
X-APPLE-STRUCTURED-LOCATION;VALUE=URI;X-ADDRESS=New London Public Library 406 S Pearl St New London Wisconsin 54961 United States;X-APPLE-RADIUS=500;X-TITLE=406 S Pearl St:geo:-88.7393637,44.3895883
END:VEVENT
END:VCALENDAR