BEGIN:VCALENDAR
VERSION:2.0
PRODID:-//Rural Northeast Wisconsin Families - ECPv6.15.20//NONSGML v1.0//EN
CALSCALE:GREGORIAN
METHOD:PUBLISH
X-WR-CALNAME:Rural Northeast Wisconsin Families
X-ORIGINAL-URL:https://ruralnewfamilies.com
X-WR-CALDESC:Events for Rural Northeast Wisconsin Families
REFRESH-INTERVAL;VALUE=DURATION:PT1H
X-Robots-Tag:noindex
X-PUBLISHED-TTL:PT1H
BEGIN:VTIMEZONE
TZID:America/Chicago
BEGIN:DAYLIGHT
TZOFFSETFROM:-0600
TZOFFSETTO:-0500
TZNAME:CDT
DTSTART:20250309T080000
END:DAYLIGHT
BEGIN:STANDARD
TZOFFSETFROM:-0500
TZOFFSETTO:-0600
TZNAME:CST
DTSTART:20251102T070000
END:STANDARD
BEGIN:DAYLIGHT
TZOFFSETFROM:-0600
TZOFFSETTO:-0500
TZNAME:CDT
DTSTART:20260308T080000
END:DAYLIGHT
BEGIN:STANDARD
TZOFFSETFROM:-0500
TZOFFSETTO:-0600
TZNAME:CST
DTSTART:20261101T070000
END:STANDARD
BEGIN:DAYLIGHT
TZOFFSETFROM:-0600
TZOFFSETTO:-0500
TZNAME:CDT
DTSTART:20270314T080000
END:DAYLIGHT
BEGIN:STANDARD
TZOFFSETFROM:-0500
TZOFFSETTO:-0600
TZNAME:CST
DTSTART:20271107T070000
END:STANDARD
END:VTIMEZONE
BEGIN:VEVENT
DTSTART;TZID=America/Chicago:20260425T100000
DTEND;TZID=America/Chicago:20260425T120000
DTSTAMP:20260425T053237
CREATED:20260329T082356Z
LAST-MODIFIED:20260329T082358Z
UID:10012983-1777111200-1777118400@ruralnewfamilies.com
SUMMARY:Spring Walk and Trail Clean Up
DESCRIPTION:Spring Walk and cleanup of the Mountain-Bay State Trail and Shawano Park-to-Park Loops \n\n\n\nBring gloves and wear bright clothing Walk an in-town Park-to-Park Loop or the Mountain-Bay State Trail and clean up along the way Free water and snacks \n\n\n\nBring the Whole Family!  This event is stroller/wheelchair accessible.  Well-behaved Pets are welcome to come too!  \n\n\n\nPublic Restrooms are available at the Mountain Bay Trailhead Center
URL:https://ruralnewfamilies.com/event/spring-walk-and-trail-clean-up-2/
LOCATION:All Aboard Nutrition\, 620 S Main St\, Shawano\, Wisconsin\, 54166\, United States
CATEGORIES:Community Events & Parades,FREE,Natural Resources Protection,Outdoor Event,Outdoor Recreation,Volunteer Opportunity,Wheel-Chair Accessible
GEO:44.7737323;-88.6082581
X-APPLE-STRUCTURED-LOCATION;VALUE=URI;X-ADDRESS=All Aboard Nutrition 620 S Main St Shawano Wisconsin 54166 United States;X-APPLE-RADIUS=500;X-TITLE=620 S Main St:geo:-88.6082581,44.7737323
END:VEVENT
BEGIN:VEVENT
DTSTART;TZID=America/Chicago:20260502T080000
DTEND;TZID=America/Chicago:20260502T120000
DTSTAMP:20260425T053237
CREATED:20260419T045645Z
LAST-MODIFIED:20260419T045647Z
UID:10015182-1777708800-1777723200@ruralnewfamilies.com
SUMMARY:🌷 Mother's Day Flowerbox Workshop
DESCRIPTION:Join us for our 3rd Mother’s Day Flowerbox Workshop!Let our team help your kids create their own flowerbox gift for Mom (or Grandma or Aunt). (The flowerboxes will be completely assembled for the ride home)
URL:https://ruralnewfamilies.com/event/%f0%9f%8c%b7-mothers-day-flowerbox-workshop/
LOCATION:Sawmill Surplus of WI\, Superior Street 119\, Antigo\, Wisconsin\, 54409\, United States
CATEGORIES:Class,DIY Crafts,Holidays,Mother's Day,Outdoor Event,Plan Ahead,RSVP - Pre-Registration Required,Youth & Family Programs
GEO:45.1335562;-89.1515363
X-APPLE-STRUCTURED-LOCATION;VALUE=URI;X-ADDRESS=Sawmill Surplus of WI Superior Street 119 Antigo Wisconsin 54409 United States;X-APPLE-RADIUS=500;X-TITLE=Superior Street 119:geo:-89.1515363,45.1335562
END:VEVENT
BEGIN:VEVENT
DTSTART;TZID=America/Chicago:20260509T083000
DTEND;TZID=America/Chicago:20260509T103000
DTSTAMP:20260425T053237
CREATED:20260410T211447Z
LAST-MODIFIED:20260410T211707Z
UID:10013237-1778315400-1778322600@ruralnewfamilies.com
SUMMARY:🚲 Shawano Optimist Club Bike Rodeo
DESCRIPTION:Shawano Optimist Bike Rodeo 2026 \n\n\n\n\nBike Course Skills\n\n\n\nBike Maintenance Check and Licensing\n\n\n\nFree Bike Helmets\n\n\n\nPolice\, Fire\, and ambulance tours\n\n\n\nDrawings for FREE Bikes and Prizes\n\n\n\nPlease bring your own bike\n\n\n\nMust be present to win/claim prizes and bikes\n\n\n\n\nScreenshot
URL:https://ruralnewfamilies.com/event/shawano-optimist-club-bike-rodeo/
LOCATION:Zion Lutheran Church – Shawano\, South Union Street 1254\, Shawano\, WI\, 54166\, United States
CATEGORIES:Child Safety,Community Meetings,FREE,Health and Safety,Outdoor Event,Youth & Family Programs
GEO:44.7661776;-88.6030824
X-APPLE-STRUCTURED-LOCATION;VALUE=URI;X-ADDRESS=Zion Lutheran Church – Shawano South Union Street 1254 Shawano WI 54166 United States;X-APPLE-RADIUS=500;X-TITLE=South Union Street 1254:geo:-88.6030824,44.7661776
END:VEVENT
END:VCALENDAR