BEGIN:VCALENDAR
VERSION:2.0
PRODID:-//Rural Northeast Wisconsin Families - ECPv6.15.20//NONSGML v1.0//EN
CALSCALE:GREGORIAN
METHOD:PUBLISH
X-WR-CALNAME:Rural Northeast Wisconsin Families
X-ORIGINAL-URL:https://ruralnewfamilies.com
X-WR-CALDESC:Events for Rural Northeast Wisconsin Families
REFRESH-INTERVAL;VALUE=DURATION:PT1H
X-Robots-Tag:noindex
X-PUBLISHED-TTL:PT1H
BEGIN:VTIMEZONE
TZID:America/Chicago
BEGIN:DAYLIGHT
TZOFFSETFROM:-0600
TZOFFSETTO:-0500
TZNAME:CDT
DTSTART:20250309T080000
END:DAYLIGHT
BEGIN:STANDARD
TZOFFSETFROM:-0500
TZOFFSETTO:-0600
TZNAME:CST
DTSTART:20251102T070000
END:STANDARD
BEGIN:DAYLIGHT
TZOFFSETFROM:-0600
TZOFFSETTO:-0500
TZNAME:CDT
DTSTART:20260308T080000
END:DAYLIGHT
BEGIN:STANDARD
TZOFFSETFROM:-0500
TZOFFSETTO:-0600
TZNAME:CST
DTSTART:20261101T070000
END:STANDARD
BEGIN:DAYLIGHT
TZOFFSETFROM:-0600
TZOFFSETTO:-0500
TZNAME:CDT
DTSTART:20270314T080000
END:DAYLIGHT
BEGIN:STANDARD
TZOFFSETFROM:-0500
TZOFFSETTO:-0600
TZNAME:CST
DTSTART:20271107T070000
END:STANDARD
END:VTIMEZONE
BEGIN:VEVENT
DTSTART;TZID=America/Chicago:20260906T103000
DTEND;TZID=America/Chicago:20260906T180000
DTSTAMP:20260425T161447
CREATED:20260329T071307Z
LAST-MODIFIED:20260329T071309Z
UID:10012972-1788690600-1788717600@ruralnewfamilies.com
SUMMARY:El Tequila New London Food Truck
DESCRIPTION:El Tequila New London is bringing their food truck to Clintonville Every Sunday!   \n\n\n\n \n\n\n\n\n\n\n\nMenu: \n\n\n\n**Note** This is last year’s Menu.  Today is the First Sunday in Clintonville for the 2026 Season
URL:https://ruralnewfamilies.com/event/el-tequila-new-london-food-truck-4/2026-09-06/
LOCATION:Fire & Iron Gathering\, South Main Street 291\, Clintonville\, WI\, 54929\, United States
CATEGORIES:Shopping
GEO:44.6089182;-88.7629815
X-APPLE-STRUCTURED-LOCATION;VALUE=URI;X-ADDRESS=Fire & Iron Gathering South Main Street 291 Clintonville WI 54929 United States;X-APPLE-RADIUS=500;X-TITLE=South Main Street 291:geo:-88.7629815,44.6089182
END:VEVENT
BEGIN:VEVENT
DTSTART;TZID=America/Chicago:20260913T103000
DTEND;TZID=America/Chicago:20260913T180000
DTSTAMP:20260425T161448
CREATED:20260329T071307Z
LAST-MODIFIED:20260329T071309Z
UID:10012973-1789295400-1789322400@ruralnewfamilies.com
SUMMARY:El Tequila New London Food Truck
DESCRIPTION:El Tequila New London is bringing their food truck to Clintonville Every Sunday!   \n\n\n\n \n\n\n\n\n\n\n\nMenu: \n\n\n\n**Note** This is last year’s Menu.  Today is the First Sunday in Clintonville for the 2026 Season
URL:https://ruralnewfamilies.com/event/el-tequila-new-london-food-truck-4/2026-09-13/
LOCATION:Fire & Iron Gathering\, South Main Street 291\, Clintonville\, WI\, 54929\, United States
CATEGORIES:Shopping
GEO:44.6089182;-88.7629815
X-APPLE-STRUCTURED-LOCATION;VALUE=URI;X-ADDRESS=Fire & Iron Gathering South Main Street 291 Clintonville WI 54929 United States;X-APPLE-RADIUS=500;X-TITLE=South Main Street 291:geo:-88.7629815,44.6089182
END:VEVENT
BEGIN:VEVENT
DTSTART;TZID=America/Chicago:20260920T103000
DTEND;TZID=America/Chicago:20260920T180000
DTSTAMP:20260425T161448
CREATED:20260329T071307Z
LAST-MODIFIED:20260329T071309Z
UID:10012974-1789900200-1789927200@ruralnewfamilies.com
SUMMARY:El Tequila New London Food Truck
DESCRIPTION:El Tequila New London is bringing their food truck to Clintonville Every Sunday!   \n\n\n\n \n\n\n\n\n\n\n\nMenu: \n\n\n\n**Note** This is last year’s Menu.  Today is the First Sunday in Clintonville for the 2026 Season
URL:https://ruralnewfamilies.com/event/el-tequila-new-london-food-truck-4/2026-09-20/
LOCATION:Fire & Iron Gathering\, South Main Street 291\, Clintonville\, WI\, 54929\, United States
CATEGORIES:Shopping
GEO:44.6089182;-88.7629815
X-APPLE-STRUCTURED-LOCATION;VALUE=URI;X-ADDRESS=Fire & Iron Gathering South Main Street 291 Clintonville WI 54929 United States;X-APPLE-RADIUS=500;X-TITLE=South Main Street 291:geo:-88.7629815,44.6089182
END:VEVENT
BEGIN:VEVENT
DTSTART;TZID=America/Chicago:20260927T103000
DTEND;TZID=America/Chicago:20260927T180000
DTSTAMP:20260425T161448
CREATED:20260329T071307Z
LAST-MODIFIED:20260329T071309Z
UID:10012975-1790505000-1790532000@ruralnewfamilies.com
SUMMARY:El Tequila New London Food Truck
DESCRIPTION:El Tequila New London is bringing their food truck to Clintonville Every Sunday!   \n\n\n\n \n\n\n\n\n\n\n\nMenu: \n\n\n\n**Note** This is last year’s Menu.  Today is the First Sunday in Clintonville for the 2026 Season
URL:https://ruralnewfamilies.com/event/el-tequila-new-london-food-truck-4/2026-09-27/
LOCATION:Fire & Iron Gathering\, South Main Street 291\, Clintonville\, WI\, 54929\, United States
CATEGORIES:Shopping
GEO:44.6089182;-88.7629815
X-APPLE-STRUCTURED-LOCATION;VALUE=URI;X-ADDRESS=Fire & Iron Gathering South Main Street 291 Clintonville WI 54929 United States;X-APPLE-RADIUS=500;X-TITLE=South Main Street 291:geo:-88.7629815,44.6089182
END:VEVENT
BEGIN:VEVENT
DTSTART;TZID=America/Chicago:20261004T103000
DTEND;TZID=America/Chicago:20261004T180000
DTSTAMP:20260425T161448
CREATED:20260329T071307Z
LAST-MODIFIED:20260329T071309Z
UID:10012976-1791109800-1791136800@ruralnewfamilies.com
SUMMARY:El Tequila New London Food Truck
DESCRIPTION:El Tequila New London is bringing their food truck to Clintonville Every Sunday!   \n\n\n\n \n\n\n\n\n\n\n\nMenu: \n\n\n\n**Note** This is last year’s Menu.  Today is the First Sunday in Clintonville for the 2026 Season
URL:https://ruralnewfamilies.com/event/el-tequila-new-london-food-truck-4/2026-10-04/
LOCATION:Fire & Iron Gathering\, South Main Street 291\, Clintonville\, WI\, 54929\, United States
CATEGORIES:Shopping
GEO:44.6089182;-88.7629815
X-APPLE-STRUCTURED-LOCATION;VALUE=URI;X-ADDRESS=Fire & Iron Gathering South Main Street 291 Clintonville WI 54929 United States;X-APPLE-RADIUS=500;X-TITLE=South Main Street 291:geo:-88.7629815,44.6089182
END:VEVENT
BEGIN:VEVENT
DTSTART;TZID=America/Chicago:20261011T103000
DTEND;TZID=America/Chicago:20261011T180000
DTSTAMP:20260425T161448
CREATED:20260329T071307Z
LAST-MODIFIED:20260329T071309Z
UID:10012977-1791714600-1791741600@ruralnewfamilies.com
SUMMARY:El Tequila New London Food Truck
DESCRIPTION:El Tequila New London is bringing their food truck to Clintonville Every Sunday!   \n\n\n\n \n\n\n\n\n\n\n\nMenu: \n\n\n\n**Note** This is last year’s Menu.  Today is the First Sunday in Clintonville for the 2026 Season
URL:https://ruralnewfamilies.com/event/el-tequila-new-london-food-truck-4/2026-10-11/
LOCATION:Fire & Iron Gathering\, South Main Street 291\, Clintonville\, WI\, 54929\, United States
CATEGORIES:Shopping
GEO:44.6089182;-88.7629815
X-APPLE-STRUCTURED-LOCATION;VALUE=URI;X-ADDRESS=Fire & Iron Gathering South Main Street 291 Clintonville WI 54929 United States;X-APPLE-RADIUS=500;X-TITLE=South Main Street 291:geo:-88.7629815,44.6089182
END:VEVENT
BEGIN:VEVENT
DTSTART;TZID=America/Chicago:20261018T103000
DTEND;TZID=America/Chicago:20261018T180000
DTSTAMP:20260425T161448
CREATED:20260329T071307Z
LAST-MODIFIED:20260329T071309Z
UID:10012978-1792319400-1792346400@ruralnewfamilies.com
SUMMARY:El Tequila New London Food Truck
DESCRIPTION:El Tequila New London is bringing their food truck to Clintonville Every Sunday!   \n\n\n\n \n\n\n\n\n\n\n\nMenu: \n\n\n\n**Note** This is last year’s Menu.  Today is the First Sunday in Clintonville for the 2026 Season
URL:https://ruralnewfamilies.com/event/el-tequila-new-london-food-truck-4/2026-10-18/
LOCATION:Fire & Iron Gathering\, South Main Street 291\, Clintonville\, WI\, 54929\, United States
CATEGORIES:Shopping
GEO:44.6089182;-88.7629815
X-APPLE-STRUCTURED-LOCATION;VALUE=URI;X-ADDRESS=Fire & Iron Gathering South Main Street 291 Clintonville WI 54929 United States;X-APPLE-RADIUS=500;X-TITLE=South Main Street 291:geo:-88.7629815,44.6089182
END:VEVENT
BEGIN:VEVENT
DTSTART;TZID=America/Chicago:20261025T103000
DTEND;TZID=America/Chicago:20261025T180000
DTSTAMP:20260425T161448
CREATED:20260329T071307Z
LAST-MODIFIED:20260329T071309Z
UID:10012979-1792924200-1792951200@ruralnewfamilies.com
SUMMARY:El Tequila New London Food Truck
DESCRIPTION:El Tequila New London is bringing their food truck to Clintonville Every Sunday!   \n\n\n\n \n\n\n\n\n\n\n\nMenu: \n\n\n\n**Note** This is last year’s Menu.  Today is the First Sunday in Clintonville for the 2026 Season
URL:https://ruralnewfamilies.com/event/el-tequila-new-london-food-truck-4/2026-10-25/
LOCATION:Fire & Iron Gathering\, South Main Street 291\, Clintonville\, WI\, 54929\, United States
CATEGORIES:Shopping
GEO:44.6089182;-88.7629815
X-APPLE-STRUCTURED-LOCATION;VALUE=URI;X-ADDRESS=Fire & Iron Gathering South Main Street 291 Clintonville WI 54929 United States;X-APPLE-RADIUS=500;X-TITLE=South Main Street 291:geo:-88.7629815,44.6089182
END:VEVENT
END:VCALENDAR