BEGIN:VCALENDAR
VERSION:2.0
PRODID:-//Rural Northeast Wisconsin Families - ECPv6.15.20//NONSGML v1.0//EN
CALSCALE:GREGORIAN
METHOD:PUBLISH
X-WR-CALNAME:Rural Northeast Wisconsin Families
X-ORIGINAL-URL:https://ruralnewfamilies.com
X-WR-CALDESC:Events for Rural Northeast Wisconsin Families
REFRESH-INTERVAL;VALUE=DURATION:PT1H
X-Robots-Tag:noindex
X-PUBLISHED-TTL:PT1H
BEGIN:VTIMEZONE
TZID:America/Chicago
BEGIN:DAYLIGHT
TZOFFSETFROM:-0600
TZOFFSETTO:-0500
TZNAME:CDT
DTSTART:20240310T080000
END:DAYLIGHT
BEGIN:STANDARD
TZOFFSETFROM:-0500
TZOFFSETTO:-0600
TZNAME:CST
DTSTART:20241103T070000
END:STANDARD
BEGIN:DAYLIGHT
TZOFFSETFROM:-0600
TZOFFSETTO:-0500
TZNAME:CDT
DTSTART:20250309T080000
END:DAYLIGHT
BEGIN:STANDARD
TZOFFSETFROM:-0500
TZOFFSETTO:-0600
TZNAME:CST
DTSTART:20251102T070000
END:STANDARD
BEGIN:DAYLIGHT
TZOFFSETFROM:-0600
TZOFFSETTO:-0500
TZNAME:CDT
DTSTART:20260308T080000
END:DAYLIGHT
BEGIN:STANDARD
TZOFFSETFROM:-0500
TZOFFSETTO:-0600
TZNAME:CST
DTSTART:20261101T070000
END:STANDARD
END:VTIMEZONE
BEGIN:VEVENT
DTSTART;TZID=America/Chicago:20250215T190000
DTEND;TZID=America/Chicago:20250215T210000
DTSTAMP:20260425T065904
CREATED:20240404T152054Z
LAST-MODIFIED:20240404T153249Z
UID:10003033-1739646000-1739653200@ruralnewfamilies.com
SUMMARY:AA Meeting
DESCRIPTION:
URL:https://ruralnewfamilies.com/event/aa-meeting-2/2025-02-15/
LOCATION:Clintonville United Methodist Church\, 13th Street 24\, Clintonville\, Wisconsin\, 54929\, United States
CATEGORIES:AA/NA Meetings
GEO:44.6252503;-88.7595837
X-APPLE-STRUCTURED-LOCATION;VALUE=URI;X-ADDRESS=Clintonville United Methodist Church 13th Street 24 Clintonville Wisconsin 54929 United States;X-APPLE-RADIUS=500;X-TITLE=13th Street 24:geo:-88.7595837,44.6252503
END:VEVENT
BEGIN:VEVENT
DTSTART;TZID=America/Chicago:20250214T190000
DTEND;TZID=America/Chicago:20250214T210000
DTSTAMP:20260425T065904
CREATED:20240404T152054Z
LAST-MODIFIED:20240404T153249Z
UID:10003032-1739559600-1739566800@ruralnewfamilies.com
SUMMARY:AA Meeting
DESCRIPTION:
URL:https://ruralnewfamilies.com/event/aa-meeting-2/2025-02-14/
LOCATION:Clintonville United Methodist Church\, 13th Street 24\, Clintonville\, Wisconsin\, 54929\, United States
CATEGORIES:AA/NA Meetings
GEO:44.6252503;-88.7595837
X-APPLE-STRUCTURED-LOCATION;VALUE=URI;X-ADDRESS=Clintonville United Methodist Church 13th Street 24 Clintonville Wisconsin 54929 United States;X-APPLE-RADIUS=500;X-TITLE=13th Street 24:geo:-88.7595837,44.6252503
END:VEVENT
BEGIN:VEVENT
DTSTART;TZID=America/Chicago:20250214T080000
DTEND;TZID=America/Chicago:20250214T130000
DTSTAMP:20260425T065904
CREATED:20250129T055705Z
LAST-MODIFIED:20250209T215212Z
UID:10008149-1739520000-1739538000@ruralnewfamilies.com
SUMMARY:🇺🇸 ✔️ Spring Primary Election - Clintonville School District - Last Day In-Person Absentee Voting
DESCRIPTION:Due to the amount of candidates running for school board\, there will be an election in February. \n\n\n\nThe two offices you’ll be voting for: The State Superintendent of Public Instruction and 2 seats on the Clintonville School Board. \n\n\n\nTo view your sample ballot: Click here \n\n\n\nComplete Voter Information: Click Here \n\n\n\nImportant Dates: \n\n\n\n\nLast Day to Request Mailed Ballot:\n\n\n\nLast Recommended Date to Return Ballot by Mail:\n\n\n\nLast Date for In-person Absentee Ballot voting:  February 14th 1:30pm.  (after 1:30pm by appointment only)\n\n\n\nGeneral Voter Deadlines (individual municipalities may vary.  Contact your clerk for exact details)\n\n\n\n\nabsentee ballots 2-18-25Download\n\n\n\nCandidate Social Pages: \n\n\n\n\nMarie Vandenberg\n\n\n\nChristopher Hoffmann\n\n\n\nTanya Hepp-Netrefa\n\n\n\nPatrick Huss\n\n\n\nDavid Battenberg\n\n\n\nLaurie Vollrath – Incumbent\n\n\n\nMark Zachow – Incumbent\n\n\n\n\nState Superintentent: \n\n\n\n\nJill Underly – Incumbent\n\n\n\nBrittany Kinser\n\n\n\nJeff Wright\n\n\n\n\nUpcoming Events: \n\n\n\n2/8:Coffee Chat with the Candidates – The Living Room2/10: School Board Meeting 6pm2/11: Moderated Q&A – Memory Lanes 6pm \n\n\n\n \n\n\n\nAdditional Media Coverage:
URL:https://ruralnewfamilies.com/event/%f0%9f%87%ba%f0%9f%87%b8-%e2%9c%94%ef%b8%8f-spring-primary-election-clintonville-school-district-last-day-in-person-absentee-voting/
LOCATION:Clintonville City Hall\, 10th Street 50\, Clintonville\, Wisconsin\, 54929\, United States
CATEGORIES:Election,Plan Ahead,School Board
GEO:44.6232352;-88.7629749
X-APPLE-STRUCTURED-LOCATION;VALUE=URI;X-ADDRESS=Clintonville City Hall 10th Street 50 Clintonville Wisconsin 54929 United States;X-APPLE-RADIUS=500;X-TITLE=10th Street 50:geo:-88.7629749,44.6232352
END:VEVENT
BEGIN:VEVENT
DTSTART;TZID=America/Chicago:20250213T190000
DTEND;TZID=America/Chicago:20250213T210000
DTSTAMP:20260425T065904
CREATED:20240404T152054Z
LAST-MODIFIED:20240404T153249Z
UID:10003031-1739473200-1739480400@ruralnewfamilies.com
SUMMARY:AA Meeting
DESCRIPTION:
URL:https://ruralnewfamilies.com/event/aa-meeting-2/2025-02-13/
LOCATION:Clintonville United Methodist Church\, 13th Street 24\, Clintonville\, Wisconsin\, 54929\, United States
CATEGORIES:AA/NA Meetings
GEO:44.6252503;-88.7595837
X-APPLE-STRUCTURED-LOCATION;VALUE=URI;X-ADDRESS=Clintonville United Methodist Church 13th Street 24 Clintonville Wisconsin 54929 United States;X-APPLE-RADIUS=500;X-TITLE=13th Street 24:geo:-88.7595837,44.6252503
END:VEVENT
BEGIN:VEVENT
DTSTART;TZID=America/Chicago:20250213T100000
DTEND;TZID=America/Chicago:20250213T110000
DTSTAMP:20260425T065904
CREATED:20240314T191404Z
LAST-MODIFIED:20241202T045650Z
UID:10000292-1739440800-1739444400@ruralnewfamilies.com
SUMMARY:Bilingual Storytime
DESCRIPTION:Join us Bilingual storytime!  Books\, songs\, activities in both English and Spanish followed by a craft!
URL:https://ruralnewfamilies.com/event/bilingual-storytime-11/
LOCATION:Clintonville Public Library\, 75 Hemlock St\, Clintonville\, WI 54929\, USA\, Hemlock Street 75\, Clintonville\, WI\, 54929\, United States
GEO:44.6216244;-88.7646184
X-APPLE-STRUCTURED-LOCATION;VALUE=URI;X-ADDRESS=Clintonville Public Library 75 Hemlock St Clintonville WI 54929 USA Hemlock Street 75 Clintonville WI 54929 United States;X-APPLE-RADIUS=500;X-TITLE=Hemlock Street 75:geo:-88.7646184,44.6216244
END:VEVENT
BEGIN:VEVENT
DTSTART;TZID=America/Chicago:20250213T093000
DTEND;TZID=America/Chicago:20250213T103000
DTSTAMP:20260425T065904
CREATED:20240322T221908Z
LAST-MODIFIED:20240322T221910Z
UID:10000607-1739439000-1739442600@ruralnewfamilies.com
SUMMARY:AA Meeting
DESCRIPTION:
URL:https://ruralnewfamilies.com/event/aa-meeting/2025-02-13/
LOCATION:Hope Community Church\, Tristan Drive 302\, Shawano\, Wisconsin\, 54166\, United States
CATEGORIES:AA/NA Meetings
GEO:44.7777864;-88.5480222
X-APPLE-STRUCTURED-LOCATION;VALUE=URI;X-ADDRESS=Hope Community Church Tristan Drive 302 Shawano Wisconsin 54166 United States;X-APPLE-RADIUS=500;X-TITLE=Tristan Drive 302:geo:-88.5480222,44.7777864
END:VEVENT
BEGIN:VEVENT
DTSTART;TZID=America/Chicago:20250212T190000
DTEND;TZID=America/Chicago:20250212T210000
DTSTAMP:20260425T065904
CREATED:20240404T152054Z
LAST-MODIFIED:20240404T153249Z
UID:10003030-1739386800-1739394000@ruralnewfamilies.com
SUMMARY:AA Meeting
DESCRIPTION:
URL:https://ruralnewfamilies.com/event/aa-meeting-2/2025-02-12/
LOCATION:Clintonville United Methodist Church\, 13th Street 24\, Clintonville\, Wisconsin\, 54929\, United States
CATEGORIES:AA/NA Meetings
GEO:44.6252503;-88.7595837
X-APPLE-STRUCTURED-LOCATION;VALUE=URI;X-ADDRESS=Clintonville United Methodist Church 13th Street 24 Clintonville Wisconsin 54929 United States;X-APPLE-RADIUS=500;X-TITLE=13th Street 24:geo:-88.7595837,44.6252503
END:VEVENT
BEGIN:VEVENT
DTSTART;TZID=America/Chicago:20250212T180000
DTEND;TZID=America/Chicago:20250212T210000
DTSTAMP:20260425T065904
CREATED:20241115T030613Z
LAST-MODIFIED:20241115T030616Z
UID:10007825-1739383200-1739394000@ruralnewfamilies.com
SUMMARY:Indoor Pickleball
DESCRIPTION:New this fall! Are you looking for somewhere warm to play Pickleball? There’s a $5 drop in fee \n\n\n\nSee you there!
URL:https://ruralnewfamilies.com/event/indoor-pickleball/2025-02-12/
LOCATION:Shawano Community Middle School\, South Union Street 1050\, Shawano\, Wisconsin\, 54166\, United States
CATEGORIES:Indoor Event,Park and Rec
GEO:44.7692004;-88.601184
X-APPLE-STRUCTURED-LOCATION;VALUE=URI;X-ADDRESS=Shawano Community Middle School South Union Street 1050 Shawano Wisconsin 54166 United States;X-APPLE-RADIUS=500;X-TITLE=South Union Street 1050:geo:-88.601184,44.7692004
END:VEVENT
BEGIN:VEVENT
DTSTART;TZID=America/Chicago:20250212T170000
DTEND;TZID=America/Chicago:20250212T190000
DTSTAMP:20260425T065904
CREATED:20250210T213856Z
LAST-MODIFIED:20250210T213858Z
UID:10008118-1739379600-1739386800@ruralnewfamilies.com
SUMMARY:Kids Cultural Event hosted by CAP Services
DESCRIPTION:Join us at Central Wisconsin Children’s Museum for a night of cultural learning.Admission for the event is FREE for everyone\, not just our CWCM Members!Take a night to explore CWCM\, learn about other cultures\, meet community members\, and create something amazing!
URL:https://ruralnewfamilies.com/event/kids-cultural-event-hosted-by-cap-services/
LOCATION:Central Wisconsin Children’s Museum\, 1100 Main St\, Stevens Point\, WI\, 54481\, United States
CATEGORIES:Community Resource,DIY Crafts,FREE,Indoor Event,Library/Museum
GEO:44.5237347;-89.583372
X-APPLE-STRUCTURED-LOCATION;VALUE=URI;X-ADDRESS=Central Wisconsin Children’s Museum 1100 Main St Stevens Point WI 54481 United States;X-APPLE-RADIUS=500;X-TITLE=1100 Main St:geo:-89.583372,44.5237347
END:VEVENT
BEGIN:VEVENT
DTSTART;TZID=America/Chicago:20250212T100000
DTEND;TZID=America/Chicago:20250212T110000
DTSTAMP:20260425T065904
CREATED:20240424T184449Z
LAST-MODIFIED:20240424T184452Z
UID:10005880-1739354400-1739358000@ruralnewfamilies.com
SUMMARY:🇺🇸 ☕️ Veteran Coffee Clutch
DESCRIPTION:Come chat with fellow Veterans over coffee and snacks!
URL:https://ruralnewfamilies.com/event/%f0%9f%87%ba%f0%9f%87%b8-%e2%98%95%ef%b8%8f-veteran-coffee-clutch/2025-02-12/
LOCATION:Shawano Health Services\, South Lincoln Street 1436\, Shawano\, Wisconsin\, 54166\, United States
CATEGORIES:Veterans
GEO:44.7631921;-88.602917
X-APPLE-STRUCTURED-LOCATION;VALUE=URI;X-ADDRESS=Shawano Health Services South Lincoln Street 1436 Shawano Wisconsin 54166 United States;X-APPLE-RADIUS=500;X-TITLE=South Lincoln Street 1436:geo:-88.602917,44.7631921
END:VEVENT
BEGIN:VEVENT
DTSTART;TZID=America/Chicago:20250211T190000
DTEND;TZID=America/Chicago:20250211T210000
DTSTAMP:20260425T065904
CREATED:20250210T214313Z
LAST-MODIFIED:20250210T214316Z
UID:10008162-1739300400-1739307600@ruralnewfamilies.com
SUMMARY:🏒 Shawano Hawks (HS) Game
DESCRIPTION:Watch the Shawano Hawks HS Hockey Team play Manitowoc! \n\n\n\n\n\n\n\nCan’t make the game in person? You can sign up for Livebarn and watch anytime! (Use code b729-8efb to save 10%.) See the flyer for the discount code. \n\n\n\n\n\n\n\n(100% of the Admission fees stay with the hockey league) \n\n\n\n**Special Event on 2/11 – Bring unopened jars of peanut butter and jelly for FREE admission**
URL:https://ruralnewfamilies.com/event/%f0%9f%8f%92-shawano-hawks-hs-game-5/
LOCATION:Crawford Center\, South Waukechon Street 251\, Shawano\, Wisconsin\, 54166\, United States
CATEGORIES:Hunting/Fishing/Outdoor Sports/Education
GEO:44.7790645;-88.5908429
X-APPLE-STRUCTURED-LOCATION;VALUE=URI;X-ADDRESS=Crawford Center South Waukechon Street 251 Shawano Wisconsin 54166 United States;X-APPLE-RADIUS=500;X-TITLE=South Waukechon Street 251:geo:-88.5908429,44.7790645
END:VEVENT
BEGIN:VEVENT
DTSTART;TZID=America/Chicago:20250211T190000
DTEND;TZID=America/Chicago:20250211T210000
DTSTAMP:20260425T065904
CREATED:20240404T152054Z
LAST-MODIFIED:20240404T153249Z
UID:10003029-1739300400-1739307600@ruralnewfamilies.com
SUMMARY:AA Meeting
DESCRIPTION:
URL:https://ruralnewfamilies.com/event/aa-meeting-2/2025-02-11/
LOCATION:Clintonville United Methodist Church\, 13th Street 24\, Clintonville\, Wisconsin\, 54929\, United States
CATEGORIES:AA/NA Meetings
GEO:44.6252503;-88.7595837
X-APPLE-STRUCTURED-LOCATION;VALUE=URI;X-ADDRESS=Clintonville United Methodist Church 13th Street 24 Clintonville Wisconsin 54929 United States;X-APPLE-RADIUS=500;X-TITLE=13th Street 24:geo:-88.7595837,44.6252503
END:VEVENT
BEGIN:VEVENT
DTSTART;TZID=America/Chicago:20250211T180000
DTEND;TZID=America/Chicago:20250211T193000
DTSTAMP:20260425T065904
CREATED:20250205T021052Z
LAST-MODIFIED:20250216T050458Z
UID:10008155-1739296800-1739302200@ruralnewfamilies.com
SUMMARY:Spring Primary Election - Moderated Q&A Event - (Clintonville)
DESCRIPTION:Come learn about the 7 school board candidates currently running for Clintonville Board of Education in a moderated Q&A session. \n\n\n\n\n\n\n\n7 School Board Members\, 2 seats. \n\n\n\n \n\n\n\nIn the event you missed the in-person event\, the event was recorded for your convenience: Video Recording – candidates were given the time and date prior to the event.  The Opening statement question was asked by the moderator.  All other questions were written by the audience participants when they arrived. All answers are uncut and unrehearsed. \n\n\n\n\n🇺🇸 ✔️ Spring Primary Election – Clintonville School District
URL:https://ruralnewfamilies.com/event/clintonville-school-board-moderated-qa-event/
LOCATION:Memory Lanes\, County Highway I 250\, Clintonville\, Wisconsin\, 54929\, United States
CATEGORIES:Election,FREE,School Board
GEO:44.6057597;-88.7605982
X-APPLE-STRUCTURED-LOCATION;VALUE=URI;X-ADDRESS=Memory Lanes County Highway I 250 Clintonville Wisconsin 54929 United States;X-APPLE-RADIUS=500;X-TITLE=County Highway I 250:geo:-88.7605982,44.6057597
END:VEVENT
BEGIN:VEVENT
DTSTART;TZID=America/Chicago:20250211T163000
DTEND;TZID=America/Chicago:20250211T183000
DTSTAMP:20260425T065904
CREATED:20241115T031129Z
LAST-MODIFIED:20241115T031132Z
UID:10007838-1739291400-1739298600@ruralnewfamilies.com
SUMMARY:Learn English - Free Class
DESCRIPTION:We are thrilled to announce we will be offering ELL classes again in Clintonville starting January 7. No cost! Help spread the word. A skills test is required prior to registering. Call 715-823-1555 for more information.
URL:https://ruralnewfamilies.com/event/learn-english-free-class/2025-02-11/
LOCATION:FVTC Clintonville\, South Main Street 525\, Clintonville\, WI\, 54929\, United States
CATEGORIES:Class,Plan Ahead,RSVP - Pre-Registration Required
GEO:44.6011221;-88.7646531
X-APPLE-STRUCTURED-LOCATION;VALUE=URI;X-ADDRESS=FVTC Clintonville South Main Street 525 Clintonville WI 54929 United States;X-APPLE-RADIUS=500;X-TITLE=South Main Street 525:geo:-88.7646531,44.6011221
END:VEVENT
BEGIN:VEVENT
DTSTART;TZID=America/Chicago:20250211T140000
DTEND;TZID=America/Chicago:20250211T160000
DTSTAMP:20260425T065904
CREATED:20240314T191404Z
LAST-MODIFIED:20241202T045650Z
UID:10000291-1739282400-1739289600@ruralnewfamilies.com
SUMMARY:Clintonville Food Pantry
DESCRIPTION:Income requirements apply\nSpanish Interpreter Available
URL:https://ruralnewfamilies.com/event/clintonville-food-pantry-11/
LOCATION:26b 10th St\, Clintonville\, WI 54929\, USA
END:VEVENT
BEGIN:VEVENT
DTSTART;TZID=America/Chicago:20250211T093000
DTEND;TZID=America/Chicago:20250211T103000
DTSTAMP:20260425T065904
CREATED:20240322T221908Z
LAST-MODIFIED:20240322T221910Z
UID:10000606-1739266200-1739269800@ruralnewfamilies.com
SUMMARY:AA Meeting
DESCRIPTION:
URL:https://ruralnewfamilies.com/event/aa-meeting/2025-02-11/
LOCATION:Hope Community Church\, Tristan Drive 302\, Shawano\, Wisconsin\, 54166\, United States
CATEGORIES:AA/NA Meetings
GEO:44.7777864;-88.5480222
X-APPLE-STRUCTURED-LOCATION;VALUE=URI;X-ADDRESS=Hope Community Church Tristan Drive 302 Shawano Wisconsin 54166 United States;X-APPLE-RADIUS=500;X-TITLE=Tristan Drive 302:geo:-88.5480222,44.7777864
END:VEVENT
BEGIN:VEVENT
DTSTART;TZID=America/Chicago:20250211T080000
DTEND;TZID=America/Chicago:20250211T170000
DTSTAMP:20260425T065904
CREATED:20250223T083952Z
LAST-MODIFIED:20250223T084615Z
UID:10008287-1739260800-1739293200@ruralnewfamilies.com
SUMMARY:City Council Meeting
DESCRIPTION:February 11\, 2025 Council AgendaDownload\n\n\n\nFebruary 11\, 2025 Council PacketDownload\n\n\n\nCity Council Meeting Recording
URL:https://ruralnewfamilies.com/event/city-council-meeting/
LOCATION:Clintonville Community Center\, South Main Street 30\, Clintonville\, Wisconsin\, 54929\, United States
CATEGORIES:City Council/Committee,Community Meetings
GEO:44.6221829;-88.7611618
X-APPLE-STRUCTURED-LOCATION;VALUE=URI;X-ADDRESS=Clintonville Community Center South Main Street 30 Clintonville Wisconsin 54929 United States;X-APPLE-RADIUS=500;X-TITLE=South Main Street 30:geo:-88.7611618,44.6221829
END:VEVENT
BEGIN:VEVENT
DTSTART;TZID=America/Chicago:20250210T190000
DTEND;TZID=America/Chicago:20250210T210000
DTSTAMP:20260425T065904
CREATED:20240404T152054Z
LAST-MODIFIED:20240404T153249Z
UID:10003028-1739214000-1739221200@ruralnewfamilies.com
SUMMARY:AA Meeting
DESCRIPTION:
URL:https://ruralnewfamilies.com/event/aa-meeting-2/2025-02-10/
LOCATION:Clintonville United Methodist Church\, 13th Street 24\, Clintonville\, Wisconsin\, 54929\, United States
CATEGORIES:AA/NA Meetings
GEO:44.6252503;-88.7595837
X-APPLE-STRUCTURED-LOCATION;VALUE=URI;X-ADDRESS=Clintonville United Methodist Church 13th Street 24 Clintonville Wisconsin 54929 United States;X-APPLE-RADIUS=500;X-TITLE=13th Street 24:geo:-88.7595837,44.6252503
END:VEVENT
BEGIN:VEVENT
DTSTART;TZID=America/Chicago:20250210T180000
DTEND;TZID=America/Chicago:20250210T200000
DTSTAMP:20260425T065904
CREATED:20250207T185514Z
LAST-MODIFIED:20250207T185516Z
UID:10008156-1739210400-1739217600@ruralnewfamilies.com
SUMMARY:Clintonville School District Board Meeting
DESCRIPTION:The Board Meeting will be held in the CHS IMC.  If you’d like to speak at the meeting\, the form can be found here or there are forms available on arrival.  If you plan on speaking\, please arrive a minimum of 15 minutes early. \n\n\n\nThe Agenda and Board Packet can be found here for this week’s meeting. \n\n\n\nMore information on the Clintonville Board of Education can be found here \n\n\n\nAll Meeting Agendas and Packets can be found here (January to June 2024 meeting will be under 2023-2024 BOE Agenda Packet)  July begins the 2024-2025 BOE Meetings. \n\n\n\nThe link to watch the YouTube Live can be found here The meetings are recorded so you can go back to watch a previous meeting. \n\n\n\n2-10-25 AgendaDownload\n\n\n\nBoard Packet 2-10-25Download\n\n\n\nPolicy Revisions 1st ReadingDownload\n\n\n\nTech. Corrections and Policy Revisions 2nd ReadingDownload
URL:https://ruralnewfamilies.com/event/clintonville-school-district-board-meeting-4/
LOCATION:Clintonville High School\, Green Tree Road 64\, Clintonville\, WI\, 54929\, United States
CATEGORIES:Election,School Board
GEO:44.6365085;-88.7552863
X-APPLE-STRUCTURED-LOCATION;VALUE=URI;X-ADDRESS=Clintonville High School Green Tree Road 64 Clintonville WI 54929 United States;X-APPLE-RADIUS=500;X-TITLE=Green Tree Road 64:geo:-88.7552863,44.6365085
END:VEVENT
BEGIN:VEVENT
DTSTART;TZID=America/Chicago:20250210T110000
DTEND;TZID=America/Chicago:20250210T120000
DTSTAMP:20260425T065904
CREATED:20240404T154704Z
LAST-MODIFIED:20240404T154706Z
UID:10004848-1739185200-1739188800@ruralnewfamilies.com
SUMMARY:AA Meeting - Back to Basics
DESCRIPTION:
URL:https://ruralnewfamilies.com/event/aa-meeting-back-to-basics/2025-02-10/
LOCATION:First Presbyterian Church\, West Presbyterian Street 100\, Shawano\, WI\, 54166\, United States
CATEGORIES:AA/NA Meetings
GEO:44.7785164;-88.6096198
X-APPLE-STRUCTURED-LOCATION;VALUE=URI;X-ADDRESS=First Presbyterian Church West Presbyterian Street 100 Shawano WI 54166 United States;X-APPLE-RADIUS=500;X-TITLE=West Presbyterian Street 100:geo:-88.6096198,44.7785164
END:VEVENT
BEGIN:VEVENT
DTSTART;TZID=America/Chicago:20250210T100000
DTEND;TZID=America/Chicago:20250210T130000
DTSTAMP:20260425T065904
CREATED:20240314T191404Z
LAST-MODIFIED:20241202T045650Z
UID:10000290-1739181600-1739192400@ruralnewfamilies.com
SUMMARY:☕️  🥧 Free Pie and Coffee
DESCRIPTION:Join us on the second Monday of the Month for FREE Pie and Coffee! \nCompliments of Meadowbrook at Oconto Falls \nFor more details: OJ’s Midtown
URL:https://ruralnewfamilies.com/event/%e2%98%95%ef%b8%8f-%f0%9f%a5%a7-free-pie-and-coffee-11/
LOCATION:OJs Midtown Restaurant\, 128 E Main St\, Gillett\, WI 54124\, USA
END:VEVENT
BEGIN:VEVENT
DTSTART;TZID=America/Chicago:20250209T190000
DTEND;TZID=America/Chicago:20250209T210000
DTSTAMP:20260425T065904
CREATED:20240404T152054Z
LAST-MODIFIED:20240404T153249Z
UID:10003027-1739127600-1739134800@ruralnewfamilies.com
SUMMARY:AA Meeting
DESCRIPTION:
URL:https://ruralnewfamilies.com/event/aa-meeting-2/2025-02-09/
LOCATION:Clintonville United Methodist Church\, 13th Street 24\, Clintonville\, Wisconsin\, 54929\, United States
CATEGORIES:AA/NA Meetings
GEO:44.6252503;-88.7595837
X-APPLE-STRUCTURED-LOCATION;VALUE=URI;X-ADDRESS=Clintonville United Methodist Church 13th Street 24 Clintonville Wisconsin 54929 United States;X-APPLE-RADIUS=500;X-TITLE=13th Street 24:geo:-88.7595837,44.6252503
END:VEVENT
BEGIN:VEVENT
DTSTART;TZID=America/Chicago:20250209T190000
DTEND;TZID=America/Chicago:20250209T190000
DTSTAMP:20260425T065904
CREATED:20240329T215844Z
LAST-MODIFIED:20240329T215845Z
UID:10002468-1739127600-1739127600@ruralnewfamilies.com
SUMMARY:Al Anon Meeting
DESCRIPTION:
URL:https://ruralnewfamilies.com/event/al-anon-meeting/2025-02-09/
LOCATION:Salvation Army\, New London\, Wisconsin
CATEGORIES:AA/NA Meetings
END:VEVENT
BEGIN:VEVENT
DTSTART;TZID=America/Chicago:20250209T183000
DTEND;TZID=America/Chicago:20250209T203000
DTSTAMP:20260425T065904
CREATED:20240404T152751Z
LAST-MODIFIED:20240404T153108Z
UID:10004587-1739125800-1739133000@ruralnewfamilies.com
SUMMARY:AA  Meeting
DESCRIPTION:
URL:https://ruralnewfamilies.com/event/aa-meeting-3/2025-02-09/
LOCATION:Christus Lutheran Church\, North Main Street 120\, Clintonville\, Wisconsin\, 54929\, United States
CATEGORIES:AA/NA Meetings
GEO:44.6270904;-88.7558111
X-APPLE-STRUCTURED-LOCATION;VALUE=URI;X-ADDRESS=Christus Lutheran Church North Main Street 120 Clintonville Wisconsin 54929 United States;X-APPLE-RADIUS=500;X-TITLE=North Main Street 120:geo:-88.7558111,44.6270904
END:VEVENT
BEGIN:VEVENT
DTSTART;TZID=America/Chicago:20250209T140000
DTEND;TZID=America/Chicago:20250209T170000
DTSTAMP:20260425T065904
CREATED:20250129T074454Z
LAST-MODIFIED:20250129T074456Z
UID:10008152-1739109600-1739120400@ruralnewfamilies.com
SUMMARY:Cinderella
DESCRIPTION:Rogers and Hammerstein’s Cinderella is a musical based on the fairy tale Cinderella by Charles Perrault. The musical features music by Richard Rogers and lyrics by Oscar Hammerstein II. Come enjoy as the theatre students of Shawano Schools dazzle you with their talents. \n\n\n\nTickets available here
URL:https://ruralnewfamilies.com/event/cinderella/2025-02-09/
LOCATION:Shawano High School\, County Road B 220\, Shawano\, WI\, 54166\, United States
CATEGORIES:Concert/Performances,Plan Ahead
GEO:44.7597082;-88.6014084
X-APPLE-STRUCTURED-LOCATION;VALUE=URI;X-ADDRESS=Shawano High School County Road B 220 Shawano WI 54166 United States;X-APPLE-RADIUS=500;X-TITLE=County Road B 220:geo:-88.6014084,44.7597082
END:VEVENT
BEGIN:VEVENT
DTSTART;TZID=America/Chicago:20250209T130000
DTEND;TZID=America/Chicago:20250209T170000
DTSTAMP:20260425T065904
CREATED:20240314T191335Z
LAST-MODIFIED:20240412T032609Z
UID:10005301-1739106000-1739120400@ruralnewfamilies.com
SUMMARY:🃏 ♟️Free Family Game Day
DESCRIPTION:Join us for a FREE Family Game Day \n\nBingo\nHorse Races\nSwing Ball\nCards\nBoard Games\nMore!\n\nKids must be accompanied by parents – no drop offs \n 
URL:https://ruralnewfamilies.com/event/free-family-game-day/2025-02-09/
LOCATION:Manawa Masonic Center\,\, Manawa\, WI 54949\, USA\, North Bridge Street 520\, Manawa\, WI\, 54949\, United States
GEO:44.4746809;-88.918618
X-APPLE-STRUCTURED-LOCATION;VALUE=URI;X-ADDRESS=Manawa Masonic Center Manawa WI 54949 USA North Bridge Street 520 Manawa WI 54949 United States;X-APPLE-RADIUS=500;X-TITLE=North Bridge Street 520:geo:-88.918618,44.4746809
END:VEVENT
BEGIN:VEVENT
DTSTART;TZID=America/Chicago:20250208T190000
DTEND;TZID=America/Chicago:20250208T220000
DTSTAMP:20260425T065904
CREATED:20250129T074454Z
LAST-MODIFIED:20250129T074456Z
UID:10008151-1739041200-1739052000@ruralnewfamilies.com
SUMMARY:Cinderella
DESCRIPTION:Rogers and Hammerstein’s Cinderella is a musical based on the fairy tale Cinderella by Charles Perrault. The musical features music by Richard Rogers and lyrics by Oscar Hammerstein II. Come enjoy as the theatre students of Shawano Schools dazzle you with their talents. \n\n\n\nTickets available here
URL:https://ruralnewfamilies.com/event/cinderella/2025-02-08/
LOCATION:Shawano High School\, County Road B 220\, Shawano\, WI\, 54166\, United States
CATEGORIES:Concert/Performances,Plan Ahead
GEO:44.7597082;-88.6014084
X-APPLE-STRUCTURED-LOCATION;VALUE=URI;X-ADDRESS=Shawano High School County Road B 220 Shawano WI 54166 United States;X-APPLE-RADIUS=500;X-TITLE=County Road B 220:geo:-88.6014084,44.7597082
END:VEVENT
BEGIN:VEVENT
DTSTART;TZID=America/Chicago:20250208T190000
DTEND;TZID=America/Chicago:20250208T210000
DTSTAMP:20260425T065904
CREATED:20240404T152054Z
LAST-MODIFIED:20240404T153249Z
UID:10003026-1739041200-1739048400@ruralnewfamilies.com
SUMMARY:AA Meeting
DESCRIPTION:
URL:https://ruralnewfamilies.com/event/aa-meeting-2/2025-02-08/
LOCATION:Clintonville United Methodist Church\, 13th Street 24\, Clintonville\, Wisconsin\, 54929\, United States
CATEGORIES:AA/NA Meetings
GEO:44.6252503;-88.7595837
X-APPLE-STRUCTURED-LOCATION;VALUE=URI;X-ADDRESS=Clintonville United Methodist Church 13th Street 24 Clintonville Wisconsin 54929 United States;X-APPLE-RADIUS=500;X-TITLE=13th Street 24:geo:-88.7595837,44.6252503
END:VEVENT
BEGIN:VEVENT
DTSTART;TZID=America/Chicago:20250208T110000
DTEND;TZID=America/Chicago:20250208T133000
DTSTAMP:20260425T065904
CREATED:20250204T193114Z
LAST-MODIFIED:20250204T193117Z
UID:10008154-1739012400-1739021400@ruralnewfamilies.com
SUMMARY:☕️Coffee Chat with the Candidates
DESCRIPTION:Come join some of your school board candidates for coffee and conversation.  Many of the candidates aren’t well-known around town\, so this is a great way to match a face with a name.  Find out a little bit about who we are.  This is meant to be an informal meet and greet. Join us for great coffee\, and conversation\, in a fun\, relaxing atmosphere. \n\n\n\n \n\n\n\nThis event is a joint effort paid for by Friends of Marie Vandenberg\, Tanya Netrefa for School Board and Christopher Hoffmann.
URL:https://ruralnewfamilies.com/event/%e2%98%95%ef%b8%8fcoffee-chat-with-the-candidates/
LOCATION:The Living Room Coffee Shop and Vintage Decor\, 85 S Main St\, Clintonville\, Wisconsin\, 54929\, United States
GEO:44.6199495;-88.7617034
X-APPLE-STRUCTURED-LOCATION;VALUE=URI;X-ADDRESS=The Living Room Coffee Shop and Vintage Decor 85 S Main St Clintonville Wisconsin 54929 United States;X-APPLE-RADIUS=500;X-TITLE=85 S Main St:geo:-88.7617034,44.6199495
END:VEVENT
BEGIN:VEVENT
DTSTART;TZID=America/Chicago:20250208T090000
DTEND;TZID=America/Chicago:20250208T140000
DTSTAMP:20260425T065904
CREATED:20250205T020716Z
LAST-MODIFIED:20250205T020718Z
UID:10008114-1739005200-1739023200@ruralnewfamilies.com
SUMMARY:Frozen Fun Winter Open House
DESCRIPTION:Come join us for our Frozen Fun Winter Open House.Lots of fun for kids and adults.Chili Luncheon\, X-Country Skiing\, Sledding\, and guided snowshoe hikes. Frozen-themed games\, crafts\, and warm hugs from Olaf and Horse Drawn Sleigh Rides (weather dependent)
URL:https://ruralnewfamilies.com/event/frozen-fun-winter-open-house/
LOCATION:Navarino Nature Center\, Lindsten Road W5646\, Shiocton\, WI\, 54170\, United States
CATEGORIES:Kids Outdoors,Nature Center,Outdoor Event
GEO:44.6345188;-88.5130301
X-APPLE-STRUCTURED-LOCATION;VALUE=URI;X-ADDRESS=Navarino Nature Center Lindsten Road W5646 Shiocton WI 54170 United States;X-APPLE-RADIUS=500;X-TITLE=Lindsten Road W5646:geo:-88.5130301,44.6345188
END:VEVENT
END:VCALENDAR