BEGIN:VCALENDAR
VERSION:2.0
PRODID:-//Rural Northeast Wisconsin Families - ECPv6.15.20//NONSGML v1.0//EN
CALSCALE:GREGORIAN
METHOD:PUBLISH
X-WR-CALNAME:Rural Northeast Wisconsin Families
X-ORIGINAL-URL:https://ruralnewfamilies.com
X-WR-CALDESC:Events for Rural Northeast Wisconsin Families
REFRESH-INTERVAL;VALUE=DURATION:PT1H
X-Robots-Tag:noindex
X-PUBLISHED-TTL:PT1H
BEGIN:VTIMEZONE
TZID:America/Chicago
BEGIN:DAYLIGHT
TZOFFSETFROM:-0600
TZOFFSETTO:-0500
TZNAME:CDT
DTSTART:20240310T080000
END:DAYLIGHT
BEGIN:STANDARD
TZOFFSETFROM:-0500
TZOFFSETTO:-0600
TZNAME:CST
DTSTART:20241103T070000
END:STANDARD
BEGIN:DAYLIGHT
TZOFFSETFROM:-0600
TZOFFSETTO:-0500
TZNAME:CDT
DTSTART:20250309T080000
END:DAYLIGHT
BEGIN:STANDARD
TZOFFSETFROM:-0500
TZOFFSETTO:-0600
TZNAME:CST
DTSTART:20251102T070000
END:STANDARD
BEGIN:DAYLIGHT
TZOFFSETFROM:-0600
TZOFFSETTO:-0500
TZNAME:CDT
DTSTART:20260308T080000
END:DAYLIGHT
BEGIN:STANDARD
TZOFFSETFROM:-0500
TZOFFSETTO:-0600
TZNAME:CST
DTSTART:20261101T070000
END:STANDARD
END:VTIMEZONE
BEGIN:VEVENT
DTSTART;TZID=America/Chicago:20250220T190000
DTEND;TZID=America/Chicago:20250220T210000
DTSTAMP:20260425T112132
CREATED:20240404T152054Z
LAST-MODIFIED:20240404T153249Z
UID:10003038-1740078000-1740085200@ruralnewfamilies.com
SUMMARY:AA Meeting
DESCRIPTION:
URL:https://ruralnewfamilies.com/event/aa-meeting-2/2025-02-20/
LOCATION:Clintonville United Methodist Church\, 13th Street 24\, Clintonville\, Wisconsin\, 54929\, United States
CATEGORIES:AA/NA Meetings
GEO:44.6252503;-88.7595837
X-APPLE-STRUCTURED-LOCATION;VALUE=URI;X-ADDRESS=Clintonville United Methodist Church 13th Street 24 Clintonville Wisconsin 54929 United States;X-APPLE-RADIUS=500;X-TITLE=13th Street 24:geo:-88.7595837,44.6252503
END:VEVENT
BEGIN:VEVENT
DTSTART;TZID=America/Chicago:20250220T120000
DTEND;TZID=America/Chicago:20250220T200000
DTSTAMP:20260425T112132
CREATED:20250223T093007Z
LAST-MODIFIED:20250223T093709Z
UID:10008289-1740052800-1740081600@ruralnewfamilies.com
SUMMARY:American Marine 13th Annual Boat & Outdoor Sports Extravaganza 🚤
DESCRIPTION:American Marine is excited to host its 13th Annual Boat & Outdoor Sports Extravaganza! Join us for a fantastic event featuring a wide variety of vendors\, delicious food\, and unbeatable prices on fishing boats\, pontoon boats\, ATVs\, side-by-sides\, docks\, lifts\, outdoor furniture\, and more. Don’t miss the hourly giveaways and an incredible selection of outdoor products for all your adventures! \n\n\n\n \n\n\n\nGet Ready for the 13th Annual American Marine & Motorsports Boat Show! \n\n\n\nThe biggest event of the year is almost here! Join us February 20–23\, 2025\, in Shawano for an unforgettable weekend packed with exclusive deals on boats\, pontoons\, and powersports. Explore a wide range of local vendors\, enjoy delicious food\, sip on refreshing drinks\, and experience the best in boating and outdoor fun. \n\n\n\nThis year\, we’re giving back! \n\n\n\nHelp support homeless veterans by bringing clothing donations and be entered for a chance to win a $5\,000 trailer! \n\n\n\nWant to level up your skills? Sign up for a Boater’s Safety Class (required for anyone born on or after January 1\, 1989\, to legally operate a watercraft) or a Concealed Carry Class—all available at the event. \n\n\n\nDon’t miss out on the fun! \n\n\n\nIt’s your chance to score great deals\, enjoy amazing food\, and make lasting memories. See you February 20–23 in Shawano!
URL:https://ruralnewfamilies.com/event/american-marine-13th-annual-boat-outdoor-sports-extravaganza-2/2025-02-20/
LOCATION:830 E Green Bay St\, Town Road West 200\, Florence\, WI\, 54121\, United States
CATEGORIES:FREE,Hunting/Fishing/Outdoor Sports/Education
GEO:45.8889798;-88.1429161
X-APPLE-STRUCTURED-LOCATION;VALUE=URI;X-ADDRESS=830 E Green Bay St Town Road West 200 Florence WI 54121 United States;X-APPLE-RADIUS=500;X-TITLE=Town Road West 200:geo:-88.1429161,45.8889798
END:VEVENT
BEGIN:VEVENT
DTSTART;TZID=America/Chicago:20250220T093000
DTEND;TZID=America/Chicago:20250220T103000
DTSTAMP:20260425T112132
CREATED:20240322T221908Z
LAST-MODIFIED:20240322T221910Z
UID:10000609-1740043800-1740047400@ruralnewfamilies.com
SUMMARY:AA Meeting
DESCRIPTION:
URL:https://ruralnewfamilies.com/event/aa-meeting/2025-02-20/
LOCATION:Hope Community Church\, Tristan Drive 302\, Shawano\, Wisconsin\, 54166\, United States
CATEGORIES:AA/NA Meetings
GEO:44.7777864;-88.5480222
X-APPLE-STRUCTURED-LOCATION;VALUE=URI;X-ADDRESS=Hope Community Church Tristan Drive 302 Shawano Wisconsin 54166 United States;X-APPLE-RADIUS=500;X-TITLE=Tristan Drive 302:geo:-88.5480222,44.7777864
END:VEVENT
BEGIN:VEVENT
DTSTART;TZID=America/Chicago:20250219T190000
DTEND;TZID=America/Chicago:20250219T210000
DTSTAMP:20260425T112132
CREATED:20240404T152054Z
LAST-MODIFIED:20240404T153249Z
UID:10003037-1739991600-1739998800@ruralnewfamilies.com
SUMMARY:AA Meeting
DESCRIPTION:
URL:https://ruralnewfamilies.com/event/aa-meeting-2/2025-02-19/
LOCATION:Clintonville United Methodist Church\, 13th Street 24\, Clintonville\, Wisconsin\, 54929\, United States
CATEGORIES:AA/NA Meetings
GEO:44.6252503;-88.7595837
X-APPLE-STRUCTURED-LOCATION;VALUE=URI;X-ADDRESS=Clintonville United Methodist Church 13th Street 24 Clintonville Wisconsin 54929 United States;X-APPLE-RADIUS=500;X-TITLE=13th Street 24:geo:-88.7595837,44.6252503
END:VEVENT
BEGIN:VEVENT
DTSTART;TZID=America/Chicago:20250219T180000
DTEND;TZID=America/Chicago:20250219T210000
DTSTAMP:20260425T112132
CREATED:20241115T030613Z
LAST-MODIFIED:20241115T030616Z
UID:10007826-1739988000-1739998800@ruralnewfamilies.com
SUMMARY:Indoor Pickleball
DESCRIPTION:New this fall! Are you looking for somewhere warm to play Pickleball? There’s a $5 drop in fee \n\n\n\nSee you there!
URL:https://ruralnewfamilies.com/event/indoor-pickleball/2025-02-19/
LOCATION:Shawano Community Middle School\, South Union Street 1050\, Shawano\, Wisconsin\, 54166\, United States
CATEGORIES:Indoor Event,Park and Rec
GEO:44.7692004;-88.601184
X-APPLE-STRUCTURED-LOCATION;VALUE=URI;X-ADDRESS=Shawano Community Middle School South Union Street 1050 Shawano Wisconsin 54166 United States;X-APPLE-RADIUS=500;X-TITLE=South Union Street 1050:geo:-88.601184,44.7692004
END:VEVENT
BEGIN:VEVENT
DTSTART;TZID=America/Chicago:20250218T190000
DTEND;TZID=America/Chicago:20250218T210000
DTSTAMP:20260425T112132
CREATED:20240404T152054Z
LAST-MODIFIED:20240404T153249Z
UID:10003036-1739905200-1739912400@ruralnewfamilies.com
SUMMARY:AA Meeting
DESCRIPTION:
URL:https://ruralnewfamilies.com/event/aa-meeting-2/2025-02-18/
LOCATION:Clintonville United Methodist Church\, 13th Street 24\, Clintonville\, Wisconsin\, 54929\, United States
CATEGORIES:AA/NA Meetings
GEO:44.6252503;-88.7595837
X-APPLE-STRUCTURED-LOCATION;VALUE=URI;X-ADDRESS=Clintonville United Methodist Church 13th Street 24 Clintonville Wisconsin 54929 United States;X-APPLE-RADIUS=500;X-TITLE=13th Street 24:geo:-88.7595837,44.6252503
END:VEVENT
BEGIN:VEVENT
DTSTART;TZID=America/Chicago:20250218T163000
DTEND;TZID=America/Chicago:20250218T183000
DTSTAMP:20260425T112132
CREATED:20241115T031129Z
LAST-MODIFIED:20241115T031132Z
UID:10007839-1739896200-1739903400@ruralnewfamilies.com
SUMMARY:Learn English - Free Class
DESCRIPTION:We are thrilled to announce we will be offering ELL classes again in Clintonville starting January 7. No cost! Help spread the word. A skills test is required prior to registering. Call 715-823-1555 for more information.
URL:https://ruralnewfamilies.com/event/learn-english-free-class/2025-02-18/
LOCATION:FVTC Clintonville\, South Main Street 525\, Clintonville\, WI\, 54929\, United States
CATEGORIES:Class,Plan Ahead,RSVP - Pre-Registration Required
GEO:44.6011221;-88.7646531
X-APPLE-STRUCTURED-LOCATION;VALUE=URI;X-ADDRESS=FVTC Clintonville South Main Street 525 Clintonville WI 54929 United States;X-APPLE-RADIUS=500;X-TITLE=South Main Street 525:geo:-88.7646531,44.6011221
END:VEVENT
BEGIN:VEVENT
DTSTART;TZID=America/Chicago:20250218T154500
DTEND;TZID=America/Chicago:20250218T164500
DTSTAMP:20260425T112132
CREATED:20240409T192348Z
LAST-MODIFIED:20240409T192348Z
UID:10005196-1739893500-1739897100@ruralnewfamilies.com
SUMMARY:Tail Waggin' Tutors: Read to Jack at White Lake
DESCRIPTION:The White Lake Branch Library is excited to offer Tail-Waggin’ Tutors with Jack and his human partner Dodi. He comes to White Lake Library every third Tuesday from 3:45 – 4:45 p.m. To sign up to read to Jack\, call 715-623-3724.\nOur Tail-Waggin’ Tutors program is designed to help young readers become fluent and confident in their reading. The dogs are registered therapy dogs and their human partner has received additional training to help them be awesome literacy coaches for our young readers.
URL:https://ruralnewfamilies.com/event/tail-waggin-tutors-read-to-jack-at-white-lake-11/
LOCATION:Wisconsin
END:VEVENT
BEGIN:VEVENT
DTSTART;TZID=America/Chicago:20250218T130000
DTEND;TZID=America/Chicago:20250218T153000
DTSTAMP:20260425T112132
CREATED:20240409T192348Z
LAST-MODIFIED:20240409T192348Z
UID:10005195-1739883600-1739892600@ruralnewfamilies.com
SUMMARY:Cards for the Community
DESCRIPTION:Make cards. Play cards. Find Community. Intergenerational Program. All Ages Welcome.
URL:https://ruralnewfamilies.com/event/cards-for-the-community-11/
LOCATION:White Lake Community Center\, 615 School St\, White Lake\, WI\, 54491\, United States
GEO:45.156176;-88.7634604
X-APPLE-STRUCTURED-LOCATION;VALUE=URI;X-ADDRESS=White Lake Community Center 615 School St White Lake WI 54491 United States;X-APPLE-RADIUS=500;X-TITLE=615 School St:geo:-88.7634604,45.156176
END:VEVENT
BEGIN:VEVENT
DTSTART;TZID=America/Chicago:20250218T093000
DTEND;TZID=America/Chicago:20250218T103000
DTSTAMP:20260425T112132
CREATED:20240322T221908Z
LAST-MODIFIED:20240322T221910Z
UID:10000608-1739871000-1739874600@ruralnewfamilies.com
SUMMARY:AA Meeting
DESCRIPTION:
URL:https://ruralnewfamilies.com/event/aa-meeting/2025-02-18/
LOCATION:Hope Community Church\, Tristan Drive 302\, Shawano\, Wisconsin\, 54166\, United States
CATEGORIES:AA/NA Meetings
GEO:44.7777864;-88.5480222
X-APPLE-STRUCTURED-LOCATION;VALUE=URI;X-ADDRESS=Hope Community Church Tristan Drive 302 Shawano Wisconsin 54166 United States;X-APPLE-RADIUS=500;X-TITLE=Tristan Drive 302:geo:-88.5480222,44.7777864
END:VEVENT
BEGIN:VEVENT
DTSTART;TZID=America/Chicago:20250218T070000
DTEND;TZID=America/Chicago:20250218T200000
DTSTAMP:20260425T112132
CREATED:20250127T054517Z
LAST-MODIFIED:20250331T014436Z
UID:10008142-1739862000-1739908800@ruralnewfamilies.com
SUMMARY:🇺🇸 ✔️ Spring Primary Election - Clintonville School District
DESCRIPTION:Due to the amount of candidates running for school board\, there will be an election in February. \n\n\n\nThe two offices you’ll be voting for: The State Superintendent of Public Instruction and 2 seats on the Clintonville School Board. (The Top 4 move on to the April ballot) \n\n\n\nTo view your sample ballot: Click here \n\n\n\nComplete Voter Information: Click Here \n\n\n\nImportant Dates: \n\n\n\n\nLast Day to Request Mailed Ballot:\n\n\n\nLast Recommended Date to Return Ballot by Mail:\n\n\n\nLast Date for In-person Absentee Ballot voting:  February 14th 1:30pm.  (after 1:30pm by appointment only)\n\n\n\nGeneral Voter Deadlines (individual municipalities may vary.  Contact your clerk for exact details)\n\n\n\n\nabsentee ballots 2-18-25Download\n\n\n\nCandidate Social Pages: \n\n\n\n\nMarie Vandenberg\n\n\n\nChristopher Hoffmann\n\n\n\nTanya Hepp-Netrefa\n\n\n\nPatrick Huss\n\n\n\nDavid Battenberg\n\n\n\nLaurie Vollrath – Incumbent\n\n\n\nMark Zachow – Incumbent\n\n\n\n\nState Superintentent: \n\n\n\nWhat does the State Superintentent do?  Why should I care? \n\n\n\n\nJill Underly – Incumbent\n\n\n\nBrittany Kinser\n\n\n\nJeff Wright\n\n\n\n\nUpcoming Events: \n\n\n\n2/8:Coffee Chat with the Candidates – The Living Room2/10: School Board Meeting 6pm2/11: Moderated Q&A – Memory Lanes 6pm – Video Recording – candidates were given time and date prior to the event.  The Opening statement question was asked by the moderator.  All other questions were written by the audience participants when they arrived. All answers are uncut and unrehearsed. \n\n\n\n \n\n\n\nAdditional Media Coverage: \n\n\n\n\n\n\n\n\n\n\n\n\n\nTitle IX Discussion and Clarification \n\n\n\nState Race Coverage: \n\n\n\nWBAY 3 for State Superintendent Race  \n\n\n\nWBAY: DPI – Solving Teacher Retention Crisis https://www.wbay.com/video/2025/02/03/dpi-state-superintendent-race-solving-wisconsins-teacher-retention-crisis/WBAY – Underly PrioritiesWBAY: Meet the Candidate: Underly
URL:https://ruralnewfamilies.com/event/%f0%9f%87%ba%f0%9f%87%b8-%e2%9c%94%ef%b8%8f-spring-primary-election-clintonville/
LOCATION:Clintonville Community Center\, South Main Street 30\, Clintonville\, Wisconsin\, 54929\, United States
GEO:44.6221829;-88.7611618
X-APPLE-STRUCTURED-LOCATION;VALUE=URI;X-ADDRESS=Clintonville Community Center South Main Street 30 Clintonville Wisconsin 54929 United States;X-APPLE-RADIUS=500;X-TITLE=South Main Street 30:geo:-88.7611618,44.6221829
END:VEVENT
BEGIN:VEVENT
DTSTART;TZID=America/Chicago:20250217T190000
DTEND;TZID=America/Chicago:20250217T210000
DTSTAMP:20260425T112132
CREATED:20240404T152054Z
LAST-MODIFIED:20240404T153249Z
UID:10003035-1739818800-1739826000@ruralnewfamilies.com
SUMMARY:AA Meeting
DESCRIPTION:
URL:https://ruralnewfamilies.com/event/aa-meeting-2/2025-02-17/
LOCATION:Clintonville United Methodist Church\, 13th Street 24\, Clintonville\, Wisconsin\, 54929\, United States
CATEGORIES:AA/NA Meetings
GEO:44.6252503;-88.7595837
X-APPLE-STRUCTURED-LOCATION;VALUE=URI;X-ADDRESS=Clintonville United Methodist Church 13th Street 24 Clintonville Wisconsin 54929 United States;X-APPLE-RADIUS=500;X-TITLE=13th Street 24:geo:-88.7595837,44.6252503
END:VEVENT
BEGIN:VEVENT
DTSTART;TZID=America/Chicago:20250217T183000
DTEND;TZID=America/Chicago:20250217T200000
DTSTAMP:20260425T112132
CREATED:20241118T230846Z
LAST-MODIFIED:20241118T230848Z
UID:10007895-1739817000-1739822400@ruralnewfamilies.com
SUMMARY:🧶  Open Knit/Crochet and Lessons
DESCRIPTION:I am combining Open Knit/Crochet and Lessons on the 1st and 3rd Monday of every month to see how well it works!!  The $10.00 fee for lessons includes a skein of yarn plus a crochet hook or a pair of knitting needles.  If you pay before the date\, you will receive $3.00 in store credit at the end of the lesson!! Seasoned Knitters and Crocheters are welcome to join us with their WIPs!!
URL:https://ruralnewfamilies.com/event/%f0%9f%a7%b6-open-knit-crochet-and-lessons-2/2025-02-17/
LOCATION:Gillett Handiworks\, 124 E Main St\, Gillett\, WI\, 54124\, United States
CATEGORIES:Class,DIY Crafts,Indoor Event,Plan Ahead,Plan Ahead- RSVP Suggested- not required
GEO:45.8889818;-88.1429095
X-APPLE-STRUCTURED-LOCATION;VALUE=URI;X-ADDRESS=Gillett Handiworks 124 E Main St Gillett WI 54124 United States;X-APPLE-RADIUS=500;X-TITLE=124 E Main St:geo:-88.1429095,45.8889818
END:VEVENT
BEGIN:VEVENT
DTSTART;TZID=America/Chicago:20250217T110000
DTEND;TZID=America/Chicago:20250217T120000
DTSTAMP:20260425T112132
CREATED:20240404T154704Z
LAST-MODIFIED:20240404T154706Z
UID:10004849-1739790000-1739793600@ruralnewfamilies.com
SUMMARY:AA Meeting - Back to Basics
DESCRIPTION:
URL:https://ruralnewfamilies.com/event/aa-meeting-back-to-basics/2025-02-17/
LOCATION:First Presbyterian Church\, West Presbyterian Street 100\, Shawano\, WI\, 54166\, United States
CATEGORIES:AA/NA Meetings
GEO:44.7785164;-88.6096198
X-APPLE-STRUCTURED-LOCATION;VALUE=URI;X-ADDRESS=First Presbyterian Church West Presbyterian Street 100 Shawano WI 54166 United States;X-APPLE-RADIUS=500;X-TITLE=West Presbyterian Street 100:geo:-88.6096198,44.7785164
END:VEVENT
BEGIN:VEVENT
DTSTART;TZID=America/Chicago:20250217T100000
DTEND;TZID=America/Chicago:20250217T110000
DTSTAMP:20260425T112132
CREATED:20240409T192348Z
LAST-MODIFIED:20240409T192348Z
UID:10005194-1739786400-1739790000@ruralnewfamilies.com
SUMMARY:Finance and Personnel Committee: Antigo Library Board
DESCRIPTION:Board committee meeting held in the kitchen.
URL:https://ruralnewfamilies.com/event/finance-and-personnel-committee-antigo-library-board-10/
LOCATION:Antigo Public Library\,617 Clermont St\, Antigo\, WI 54409\, USA
END:VEVENT
BEGIN:VEVENT
DTSTART;TZID=America/Chicago:20250216T190000
DTEND;TZID=America/Chicago:20250216T210000
DTSTAMP:20260425T112132
CREATED:20240404T152054Z
LAST-MODIFIED:20240404T153249Z
UID:10003034-1739732400-1739739600@ruralnewfamilies.com
SUMMARY:AA Meeting
DESCRIPTION:
URL:https://ruralnewfamilies.com/event/aa-meeting-2/2025-02-16/
LOCATION:Clintonville United Methodist Church\, 13th Street 24\, Clintonville\, Wisconsin\, 54929\, United States
CATEGORIES:AA/NA Meetings
GEO:44.6252503;-88.7595837
X-APPLE-STRUCTURED-LOCATION;VALUE=URI;X-ADDRESS=Clintonville United Methodist Church 13th Street 24 Clintonville Wisconsin 54929 United States;X-APPLE-RADIUS=500;X-TITLE=13th Street 24:geo:-88.7595837,44.6252503
END:VEVENT
BEGIN:VEVENT
DTSTART;TZID=America/Chicago:20250216T190000
DTEND;TZID=America/Chicago:20250216T190000
DTSTAMP:20260425T112132
CREATED:20240329T215844Z
LAST-MODIFIED:20240329T215845Z
UID:10002469-1739732400-1739732400@ruralnewfamilies.com
SUMMARY:Al Anon Meeting
DESCRIPTION:
URL:https://ruralnewfamilies.com/event/al-anon-meeting/2025-02-16/
LOCATION:Salvation Army\, New London\, Wisconsin
CATEGORIES:AA/NA Meetings
END:VEVENT
BEGIN:VEVENT
DTSTART;TZID=America/Chicago:20250216T183000
DTEND;TZID=America/Chicago:20250216T203000
DTSTAMP:20260425T112132
CREATED:20240404T152751Z
LAST-MODIFIED:20240404T153108Z
UID:10004588-1739730600-1739737800@ruralnewfamilies.com
SUMMARY:AA  Meeting
DESCRIPTION:
URL:https://ruralnewfamilies.com/event/aa-meeting-3/2025-02-16/
LOCATION:Christus Lutheran Church\, North Main Street 120\, Clintonville\, Wisconsin\, 54929\, United States
CATEGORIES:AA/NA Meetings
GEO:44.6270904;-88.7558111
X-APPLE-STRUCTURED-LOCATION;VALUE=URI;X-ADDRESS=Christus Lutheran Church North Main Street 120 Clintonville Wisconsin 54929 United States;X-APPLE-RADIUS=500;X-TITLE=North Main Street 120:geo:-88.7558111,44.6270904
END:VEVENT
BEGIN:VEVENT
DTSTART;TZID=America/Chicago:20250215T190000
DTEND;TZID=America/Chicago:20250215T210000
DTSTAMP:20260425T112132
CREATED:20240404T152054Z
LAST-MODIFIED:20240404T153249Z
UID:10003033-1739646000-1739653200@ruralnewfamilies.com
SUMMARY:AA Meeting
DESCRIPTION:
URL:https://ruralnewfamilies.com/event/aa-meeting-2/2025-02-15/
LOCATION:Clintonville United Methodist Church\, 13th Street 24\, Clintonville\, Wisconsin\, 54929\, United States
CATEGORIES:AA/NA Meetings
GEO:44.6252503;-88.7595837
X-APPLE-STRUCTURED-LOCATION;VALUE=URI;X-ADDRESS=Clintonville United Methodist Church 13th Street 24 Clintonville Wisconsin 54929 United States;X-APPLE-RADIUS=500;X-TITLE=13th Street 24:geo:-88.7595837,44.6252503
END:VEVENT
BEGIN:VEVENT
DTSTART;TZID=America/Chicago:20250214T190000
DTEND;TZID=America/Chicago:20250214T210000
DTSTAMP:20260425T112132
CREATED:20240404T152054Z
LAST-MODIFIED:20240404T153249Z
UID:10003032-1739559600-1739566800@ruralnewfamilies.com
SUMMARY:AA Meeting
DESCRIPTION:
URL:https://ruralnewfamilies.com/event/aa-meeting-2/2025-02-14/
LOCATION:Clintonville United Methodist Church\, 13th Street 24\, Clintonville\, Wisconsin\, 54929\, United States
CATEGORIES:AA/NA Meetings
GEO:44.6252503;-88.7595837
X-APPLE-STRUCTURED-LOCATION;VALUE=URI;X-ADDRESS=Clintonville United Methodist Church 13th Street 24 Clintonville Wisconsin 54929 United States;X-APPLE-RADIUS=500;X-TITLE=13th Street 24:geo:-88.7595837,44.6252503
END:VEVENT
BEGIN:VEVENT
DTSTART;TZID=America/Chicago:20250214T080000
DTEND;TZID=America/Chicago:20250214T130000
DTSTAMP:20260425T112132
CREATED:20250129T055705Z
LAST-MODIFIED:20250209T215212Z
UID:10008149-1739520000-1739538000@ruralnewfamilies.com
SUMMARY:🇺🇸 ✔️ Spring Primary Election - Clintonville School District - Last Day In-Person Absentee Voting
DESCRIPTION:Due to the amount of candidates running for school board\, there will be an election in February. \n\n\n\nThe two offices you’ll be voting for: The State Superintendent of Public Instruction and 2 seats on the Clintonville School Board. \n\n\n\nTo view your sample ballot: Click here \n\n\n\nComplete Voter Information: Click Here \n\n\n\nImportant Dates: \n\n\n\n\nLast Day to Request Mailed Ballot:\n\n\n\nLast Recommended Date to Return Ballot by Mail:\n\n\n\nLast Date for In-person Absentee Ballot voting:  February 14th 1:30pm.  (after 1:30pm by appointment only)\n\n\n\nGeneral Voter Deadlines (individual municipalities may vary.  Contact your clerk for exact details)\n\n\n\n\nabsentee ballots 2-18-25Download\n\n\n\nCandidate Social Pages: \n\n\n\n\nMarie Vandenberg\n\n\n\nChristopher Hoffmann\n\n\n\nTanya Hepp-Netrefa\n\n\n\nPatrick Huss\n\n\n\nDavid Battenberg\n\n\n\nLaurie Vollrath – Incumbent\n\n\n\nMark Zachow – Incumbent\n\n\n\n\nState Superintentent: \n\n\n\n\nJill Underly – Incumbent\n\n\n\nBrittany Kinser\n\n\n\nJeff Wright\n\n\n\n\nUpcoming Events: \n\n\n\n2/8:Coffee Chat with the Candidates – The Living Room2/10: School Board Meeting 6pm2/11: Moderated Q&A – Memory Lanes 6pm \n\n\n\n \n\n\n\nAdditional Media Coverage:
URL:https://ruralnewfamilies.com/event/%f0%9f%87%ba%f0%9f%87%b8-%e2%9c%94%ef%b8%8f-spring-primary-election-clintonville-school-district-last-day-in-person-absentee-voting/
LOCATION:Clintonville City Hall\, 10th Street 50\, Clintonville\, Wisconsin\, 54929\, United States
CATEGORIES:Election,Plan Ahead,School Board
GEO:44.6232352;-88.7629749
X-APPLE-STRUCTURED-LOCATION;VALUE=URI;X-ADDRESS=Clintonville City Hall 10th Street 50 Clintonville Wisconsin 54929 United States;X-APPLE-RADIUS=500;X-TITLE=10th Street 50:geo:-88.7629749,44.6232352
END:VEVENT
BEGIN:VEVENT
DTSTART;TZID=America/Chicago:20250213T190000
DTEND;TZID=America/Chicago:20250213T210000
DTSTAMP:20260425T112132
CREATED:20240404T152054Z
LAST-MODIFIED:20240404T153249Z
UID:10003031-1739473200-1739480400@ruralnewfamilies.com
SUMMARY:AA Meeting
DESCRIPTION:
URL:https://ruralnewfamilies.com/event/aa-meeting-2/2025-02-13/
LOCATION:Clintonville United Methodist Church\, 13th Street 24\, Clintonville\, Wisconsin\, 54929\, United States
CATEGORIES:AA/NA Meetings
GEO:44.6252503;-88.7595837
X-APPLE-STRUCTURED-LOCATION;VALUE=URI;X-ADDRESS=Clintonville United Methodist Church 13th Street 24 Clintonville Wisconsin 54929 United States;X-APPLE-RADIUS=500;X-TITLE=13th Street 24:geo:-88.7595837,44.6252503
END:VEVENT
BEGIN:VEVENT
DTSTART;TZID=America/Chicago:20250213T100000
DTEND;TZID=America/Chicago:20250213T110000
DTSTAMP:20260425T112132
CREATED:20240314T191404Z
LAST-MODIFIED:20241202T045650Z
UID:10000292-1739440800-1739444400@ruralnewfamilies.com
SUMMARY:Bilingual Storytime
DESCRIPTION:Join us Bilingual storytime!  Books\, songs\, activities in both English and Spanish followed by a craft!
URL:https://ruralnewfamilies.com/event/bilingual-storytime-11/
LOCATION:Clintonville Public Library\, 75 Hemlock St\, Clintonville\, WI 54929\, USA\, Hemlock Street 75\, Clintonville\, WI\, 54929\, United States
GEO:44.6216244;-88.7646184
X-APPLE-STRUCTURED-LOCATION;VALUE=URI;X-ADDRESS=Clintonville Public Library 75 Hemlock St Clintonville WI 54929 USA Hemlock Street 75 Clintonville WI 54929 United States;X-APPLE-RADIUS=500;X-TITLE=Hemlock Street 75:geo:-88.7646184,44.6216244
END:VEVENT
BEGIN:VEVENT
DTSTART;TZID=America/Chicago:20250213T093000
DTEND;TZID=America/Chicago:20250213T103000
DTSTAMP:20260425T112132
CREATED:20240322T221908Z
LAST-MODIFIED:20240322T221910Z
UID:10000607-1739439000-1739442600@ruralnewfamilies.com
SUMMARY:AA Meeting
DESCRIPTION:
URL:https://ruralnewfamilies.com/event/aa-meeting/2025-02-13/
LOCATION:Hope Community Church\, Tristan Drive 302\, Shawano\, Wisconsin\, 54166\, United States
CATEGORIES:AA/NA Meetings
GEO:44.7777864;-88.5480222
X-APPLE-STRUCTURED-LOCATION;VALUE=URI;X-ADDRESS=Hope Community Church Tristan Drive 302 Shawano Wisconsin 54166 United States;X-APPLE-RADIUS=500;X-TITLE=Tristan Drive 302:geo:-88.5480222,44.7777864
END:VEVENT
BEGIN:VEVENT
DTSTART;TZID=America/Chicago:20250212T190000
DTEND;TZID=America/Chicago:20250212T210000
DTSTAMP:20260425T112132
CREATED:20240404T152054Z
LAST-MODIFIED:20240404T153249Z
UID:10003030-1739386800-1739394000@ruralnewfamilies.com
SUMMARY:AA Meeting
DESCRIPTION:
URL:https://ruralnewfamilies.com/event/aa-meeting-2/2025-02-12/
LOCATION:Clintonville United Methodist Church\, 13th Street 24\, Clintonville\, Wisconsin\, 54929\, United States
CATEGORIES:AA/NA Meetings
GEO:44.6252503;-88.7595837
X-APPLE-STRUCTURED-LOCATION;VALUE=URI;X-ADDRESS=Clintonville United Methodist Church 13th Street 24 Clintonville Wisconsin 54929 United States;X-APPLE-RADIUS=500;X-TITLE=13th Street 24:geo:-88.7595837,44.6252503
END:VEVENT
BEGIN:VEVENT
DTSTART;TZID=America/Chicago:20250212T180000
DTEND;TZID=America/Chicago:20250212T210000
DTSTAMP:20260425T112132
CREATED:20241115T030613Z
LAST-MODIFIED:20241115T030616Z
UID:10007825-1739383200-1739394000@ruralnewfamilies.com
SUMMARY:Indoor Pickleball
DESCRIPTION:New this fall! Are you looking for somewhere warm to play Pickleball? There’s a $5 drop in fee \n\n\n\nSee you there!
URL:https://ruralnewfamilies.com/event/indoor-pickleball/2025-02-12/
LOCATION:Shawano Community Middle School\, South Union Street 1050\, Shawano\, Wisconsin\, 54166\, United States
CATEGORIES:Indoor Event,Park and Rec
GEO:44.7692004;-88.601184
X-APPLE-STRUCTURED-LOCATION;VALUE=URI;X-ADDRESS=Shawano Community Middle School South Union Street 1050 Shawano Wisconsin 54166 United States;X-APPLE-RADIUS=500;X-TITLE=South Union Street 1050:geo:-88.601184,44.7692004
END:VEVENT
BEGIN:VEVENT
DTSTART;TZID=America/Chicago:20250212T170000
DTEND;TZID=America/Chicago:20250212T190000
DTSTAMP:20260425T112132
CREATED:20250210T213856Z
LAST-MODIFIED:20250210T213858Z
UID:10008118-1739379600-1739386800@ruralnewfamilies.com
SUMMARY:Kids Cultural Event hosted by CAP Services
DESCRIPTION:Join us at Central Wisconsin Children’s Museum for a night of cultural learning.Admission for the event is FREE for everyone\, not just our CWCM Members!Take a night to explore CWCM\, learn about other cultures\, meet community members\, and create something amazing!
URL:https://ruralnewfamilies.com/event/kids-cultural-event-hosted-by-cap-services/
LOCATION:Central Wisconsin Children’s Museum\, 1100 Main St\, Stevens Point\, WI\, 54481\, United States
CATEGORIES:Community Resource,DIY Crafts,FREE,Indoor Event,Library/Museum
GEO:44.5237347;-89.583372
X-APPLE-STRUCTURED-LOCATION;VALUE=URI;X-ADDRESS=Central Wisconsin Children’s Museum 1100 Main St Stevens Point WI 54481 United States;X-APPLE-RADIUS=500;X-TITLE=1100 Main St:geo:-89.583372,44.5237347
END:VEVENT
BEGIN:VEVENT
DTSTART;TZID=America/Chicago:20250212T100000
DTEND;TZID=America/Chicago:20250212T110000
DTSTAMP:20260425T112132
CREATED:20240424T184449Z
LAST-MODIFIED:20240424T184452Z
UID:10005880-1739354400-1739358000@ruralnewfamilies.com
SUMMARY:🇺🇸 ☕️ Veteran Coffee Clutch
DESCRIPTION:Come chat with fellow Veterans over coffee and snacks!
URL:https://ruralnewfamilies.com/event/%f0%9f%87%ba%f0%9f%87%b8-%e2%98%95%ef%b8%8f-veteran-coffee-clutch/2025-02-12/
LOCATION:Shawano Health Services\, South Lincoln Street 1436\, Shawano\, Wisconsin\, 54166\, United States
CATEGORIES:Veterans
GEO:44.7631921;-88.602917
X-APPLE-STRUCTURED-LOCATION;VALUE=URI;X-ADDRESS=Shawano Health Services South Lincoln Street 1436 Shawano Wisconsin 54166 United States;X-APPLE-RADIUS=500;X-TITLE=South Lincoln Street 1436:geo:-88.602917,44.7631921
END:VEVENT
BEGIN:VEVENT
DTSTART;TZID=America/Chicago:20250211T190000
DTEND;TZID=America/Chicago:20250211T210000
DTSTAMP:20260425T112132
CREATED:20250210T214313Z
LAST-MODIFIED:20250210T214316Z
UID:10008162-1739300400-1739307600@ruralnewfamilies.com
SUMMARY:🏒 Shawano Hawks (HS) Game
DESCRIPTION:Watch the Shawano Hawks HS Hockey Team play Manitowoc! \n\n\n\n\n\n\n\nCan’t make the game in person? You can sign up for Livebarn and watch anytime! (Use code b729-8efb to save 10%.) See the flyer for the discount code. \n\n\n\n\n\n\n\n(100% of the Admission fees stay with the hockey league) \n\n\n\n**Special Event on 2/11 – Bring unopened jars of peanut butter and jelly for FREE admission**
URL:https://ruralnewfamilies.com/event/%f0%9f%8f%92-shawano-hawks-hs-game-5/
LOCATION:Crawford Center\, South Waukechon Street 251\, Shawano\, Wisconsin\, 54166\, United States
CATEGORIES:Hunting/Fishing/Outdoor Sports/Education
GEO:44.7790645;-88.5908429
X-APPLE-STRUCTURED-LOCATION;VALUE=URI;X-ADDRESS=Crawford Center South Waukechon Street 251 Shawano Wisconsin 54166 United States;X-APPLE-RADIUS=500;X-TITLE=South Waukechon Street 251:geo:-88.5908429,44.7790645
END:VEVENT
BEGIN:VEVENT
DTSTART;TZID=America/Chicago:20250211T190000
DTEND;TZID=America/Chicago:20250211T210000
DTSTAMP:20260425T112132
CREATED:20240404T152054Z
LAST-MODIFIED:20240404T153249Z
UID:10003029-1739300400-1739307600@ruralnewfamilies.com
SUMMARY:AA Meeting
DESCRIPTION:
URL:https://ruralnewfamilies.com/event/aa-meeting-2/2025-02-11/
LOCATION:Clintonville United Methodist Church\, 13th Street 24\, Clintonville\, Wisconsin\, 54929\, United States
CATEGORIES:AA/NA Meetings
GEO:44.6252503;-88.7595837
X-APPLE-STRUCTURED-LOCATION;VALUE=URI;X-ADDRESS=Clintonville United Methodist Church 13th Street 24 Clintonville Wisconsin 54929 United States;X-APPLE-RADIUS=500;X-TITLE=13th Street 24:geo:-88.7595837,44.6252503
END:VEVENT
END:VCALENDAR