BEGIN:VCALENDAR
VERSION:2.0
PRODID:-//Rural Northeast Wisconsin Families - ECPv6.15.20//NONSGML v1.0//EN
CALSCALE:GREGORIAN
METHOD:PUBLISH
X-WR-CALNAME:Rural Northeast Wisconsin Families
X-ORIGINAL-URL:https://ruralnewfamilies.com
X-WR-CALDESC:Events for Rural Northeast Wisconsin Families
REFRESH-INTERVAL;VALUE=DURATION:PT1H
X-Robots-Tag:noindex
X-PUBLISHED-TTL:PT1H
BEGIN:VTIMEZONE
TZID:America/Chicago
BEGIN:DAYLIGHT
TZOFFSETFROM:-0600
TZOFFSETTO:-0500
TZNAME:CDT
DTSTART:20240310T080000
END:DAYLIGHT
BEGIN:STANDARD
TZOFFSETFROM:-0500
TZOFFSETTO:-0600
TZNAME:CST
DTSTART:20241103T070000
END:STANDARD
BEGIN:DAYLIGHT
TZOFFSETFROM:-0600
TZOFFSETTO:-0500
TZNAME:CDT
DTSTART:20250309T080000
END:DAYLIGHT
BEGIN:STANDARD
TZOFFSETFROM:-0500
TZOFFSETTO:-0600
TZNAME:CST
DTSTART:20251102T070000
END:STANDARD
BEGIN:DAYLIGHT
TZOFFSETFROM:-0600
TZOFFSETTO:-0500
TZNAME:CDT
DTSTART:20260308T080000
END:DAYLIGHT
BEGIN:STANDARD
TZOFFSETFROM:-0500
TZOFFSETTO:-0600
TZNAME:CST
DTSTART:20261101T070000
END:STANDARD
BEGIN:DAYLIGHT
TZOFFSETFROM:-0600
TZOFFSETTO:-0500
TZNAME:CDT
DTSTART:20270314T080000
END:DAYLIGHT
BEGIN:STANDARD
TZOFFSETFROM:-0500
TZOFFSETTO:-0600
TZNAME:CST
DTSTART:20271107T070000
END:STANDARD
END:VTIMEZONE
BEGIN:VEVENT
DTSTART;TZID=America/Chicago:20250425T080000
DTEND;TZID=America/Chicago:20250425T160000
DTSTAMP:20260424T150217
CREATED:20250424T011817Z
LAST-MODIFIED:20250424T012140Z
UID:10009090-1745568000-1745596800@ruralnewfamilies.com
SUMMARY:2025 Cloverleaf Lakes Neighborhood Rummage Sales
DESCRIPTION:Cloverleaf Lakes Neighborhood Rummage Sales \n\n\n\n\n\n\n\n\nGoogle Map Link
URL:https://ruralnewfamilies.com/event/2025-cloverleaf-lakes-neighborhood-rummage-sales-5/2025-04-25/
LOCATION:Wisconsin
CATEGORIES:Rummage Sales
END:VEVENT
BEGIN:VEVENT
DTSTART;TZID=America/Chicago:20250426T080000
DTEND;TZID=America/Chicago:20250426T160000
DTSTAMP:20260424T150217
CREATED:20250424T011817Z
LAST-MODIFIED:20250424T012140Z
UID:10009091-1745654400-1745683200@ruralnewfamilies.com
SUMMARY:2025 Cloverleaf Lakes Neighborhood Rummage Sales
DESCRIPTION:Cloverleaf Lakes Neighborhood Rummage Sales \n\n\n\n\n\n\n\n\nGoogle Map Link
URL:https://ruralnewfamilies.com/event/2025-cloverleaf-lakes-neighborhood-rummage-sales-5/2025-04-26/
LOCATION:Wisconsin
CATEGORIES:Rummage Sales
END:VEVENT
BEGIN:VEVENT
DTSTART;TZID=America/Chicago:20250509T000000
DTEND;TZID=America/Chicago:20250509T235959
DTSTAMP:20260424T150217
CREATED:20250508T224206Z
LAST-MODIFIED:20250508T224208Z
UID:10009206-1746748800-1746835199@ruralnewfamilies.com
SUMMARY:🛍️ 2025 Clintonville City-Wide Rummage Sales
DESCRIPTION:There isn’t a map currently available for me to share.   \n\n\n\nIf you are participating in the City-Wide Rummage Sale and would like your Sale on a map\, we have created a form for you.  We’ll create and add the map to this event listing.   \n\n\n\nAdd your sale and details here
URL:https://ruralnewfamilies.com/event/%f0%9f%9b%8d%ef%b8%8f-2025-clintonville-city-wide-rummage-sales/2025-05-09/
LOCATION:Wisconsin
CATEGORIES:Rummage Sales,Shopping
END:VEVENT
BEGIN:VEVENT
DTSTART;TZID=America/Chicago:20250509T073000
DTEND;TZID=America/Chicago:20250510T160000
DTSTAMP:20260424T150217
CREATED:20250508T022858Z
LAST-MODIFIED:20250508T023236Z
UID:10008536-1746775800-1746892800@ruralnewfamilies.com
SUMMARY:Wittenberg Rummage-0-Rama
DESCRIPTION:Wittenberg Area Rummage-0-Rama is set for Friday May 9 and Saturday May 10\, 2025.
URL:https://ruralnewfamilies.com/event/wittenberg-rummage-0-rama/2025-05-09/
LOCATION:Wittenberg\, Wittenberg\, Wisconsin\, United States
CATEGORIES:Community Resource,Rummage Sales
END:VEVENT
BEGIN:VEVENT
DTSTART;TZID=America/Chicago:20250510T000000
DTEND;TZID=America/Chicago:20250510T235959
DTSTAMP:20260424T150217
CREATED:20250508T224206Z
LAST-MODIFIED:20250508T224208Z
UID:10009207-1746835200-1746921599@ruralnewfamilies.com
SUMMARY:🛍️ 2025 Clintonville City-Wide Rummage Sales
DESCRIPTION:There isn’t a map currently available for me to share.   \n\n\n\nIf you are participating in the City-Wide Rummage Sale and would like your Sale on a map\, we have created a form for you.  We’ll create and add the map to this event listing.   \n\n\n\nAdd your sale and details here
URL:https://ruralnewfamilies.com/event/%f0%9f%9b%8d%ef%b8%8f-2025-clintonville-city-wide-rummage-sales/2025-05-10/
LOCATION:Wisconsin
CATEGORIES:Rummage Sales,Shopping
END:VEVENT
BEGIN:VEVENT
DTSTART;TZID=America/Chicago:20250530T080000
DTEND;TZID=America/Chicago:20250530T160000
DTSTAMP:20260424T150217
CREATED:20250529T054209Z
LAST-MODIFIED:20250529T054212Z
UID:10009414-1748592000-1748620800@ruralnewfamilies.com
SUMMARY:🛍️ 2025 Tigerton Rummage-O-Rama
DESCRIPTION:Did you miss the deadline to be listed?  Want to add more details to your listing?  We can help. Add your sale and details here
URL:https://ruralnewfamilies.com/event/%f0%9f%9b%8d%ef%b8%8f-2025-tigerton-rummage-o-rama/2025-05-30/
LOCATION:Morris Town Hall\, Berg Road W15320\, Tigerton\, Wisconsin\, 54486\, United States
CATEGORIES:Rummage Sales,Shopping
GEO:44.7970287;-89.0228985
X-APPLE-STRUCTURED-LOCATION;VALUE=URI;X-ADDRESS=Morris Town Hall Berg Road W15320 Tigerton Wisconsin 54486 United States;X-APPLE-RADIUS=500;X-TITLE=Berg Road W15320:geo:-89.0228985,44.7970287
END:VEVENT
BEGIN:VEVENT
DTSTART;TZID=America/Chicago:20250531T080000
DTEND;TZID=America/Chicago:20250531T160000
DTSTAMP:20260424T150217
CREATED:20250529T054209Z
LAST-MODIFIED:20250529T054212Z
UID:10009471-1748678400-1748707200@ruralnewfamilies.com
SUMMARY:🛍️ 2025 Tigerton Rummage-O-Rama
DESCRIPTION:Did you miss the deadline to be listed?  Want to add more details to your listing?  We can help. Add your sale and details here
URL:https://ruralnewfamilies.com/event/%f0%9f%9b%8d%ef%b8%8f-2025-tigerton-rummage-o-rama/2025-05-31/
LOCATION:Morris Town Hall\, Berg Road W15320\, Tigerton\, Wisconsin\, 54486\, United States
CATEGORIES:Rummage Sales,Shopping
GEO:44.7970287;-89.0228985
X-APPLE-STRUCTURED-LOCATION;VALUE=URI;X-ADDRESS=Morris Town Hall Berg Road W15320 Tigerton Wisconsin 54486 United States;X-APPLE-RADIUS=500;X-TITLE=Berg Road W15320:geo:-89.0228985,44.7970287
END:VEVENT
BEGIN:VEVENT
DTSTART;TZID=America/Chicago:20250607T080000
DTEND;TZID=America/Chicago:20250607T170000
DTSTAMP:20260424T150217
CREATED:20250603T204240Z
LAST-MODIFIED:20250607T071953Z
UID:10009549-1749283200-1749315600@ruralnewfamilies.com
SUMMARY:🛍️ Manawa City-Wide Rummage Sales
DESCRIPTION:Manawa Rural Ambulance will be selling Walking Tacos starting at 10am at the Fire Station only $5 – all proceeds go towards equipment.
URL:https://ruralnewfamilies.com/event/%f0%9f%9b%8d%ef%b8%8f-manawa-city-wide-rummage-sales/
LOCATION:Manawa\, Manawa\, Wisconsin
CATEGORIES:Fundraiser,Rummage Sales,Shopping
END:VEVENT
BEGIN:VEVENT
DTSTART;TZID=America/Chicago:20260423T080000
DTEND;TZID=America/Chicago:20260423T170000
DTSTAMP:20260424T150217
CREATED:20260421T192319Z
LAST-MODIFIED:20260421T200134Z
UID:10015228-1776931200-1776963600@ruralnewfamilies.com
SUMMARY:Green Valley Area Rummage Sales
DESCRIPTION:Rummage Sale Season Kicks off this year with Rural Krakow\, Advance and Green Valley Rummage Sales.
URL:https://ruralnewfamilies.com/event/green-valley-area-rummage-sales/2026-04-23/
LOCATION:Krakow Post Office\, N4805 Highway 32\, Pulaski\, Wisconsin\, United States
CATEGORIES:Rummage Sales,Shopping
GEO:44.7564775;-88.2513182
X-APPLE-STRUCTURED-LOCATION;VALUE=URI;X-ADDRESS=Krakow Post Office N4805 Highway 32 Pulaski Wisconsin United States;X-APPLE-RADIUS=500;X-TITLE=N4805 Highway 32:geo:-88.2513182,44.7564775
END:VEVENT
BEGIN:VEVENT
DTSTART;TZID=America/Chicago:20260424T080000
DTEND;TZID=America/Chicago:20260424T160000
DTSTAMP:20260424T150217
CREATED:20260421T195024Z
LAST-MODIFIED:20260421T195808Z
UID:10015226-1777017600-1777046400@ruralnewfamilies.com
SUMMARY:Cloverleaf Lakes Neighborhood Rummage Sales 2026
DESCRIPTION:Rummage Sale Season Kicks off This Weekend with Cloverleaf Lakes Neighborhood Rummage Sales!Some addresses may have longer hours.  See the map for details.  30 Houses on the list!  You won’t want to miss this!Rain or Shine!
URL:https://ruralnewfamilies.com/event/cloverleaf-lakes-neighborhood-rummage-sales-2026/2026-04-24/
LOCATION:Cloverleaf Lakes Neighborhood\, W8719 Round Lake Dr\, Clintonville\, Wisconsin\, United States
CATEGORIES:Community Events & Parades,Rummage Sales,Shopping
GEO:44.6892789;-88.6773382
X-APPLE-STRUCTURED-LOCATION;VALUE=URI;X-ADDRESS=Cloverleaf Lakes Neighborhood W8719 Round Lake Dr Clintonville Wisconsin United States;X-APPLE-RADIUS=500;X-TITLE=W8719 Round Lake Dr:geo:-88.6773382,44.6892789
END:VEVENT
BEGIN:VEVENT
DTSTART;TZID=America/Chicago:20260424T080000
DTEND;TZID=America/Chicago:20260424T170000
DTSTAMP:20260424T150217
CREATED:20260421T192319Z
LAST-MODIFIED:20260421T200134Z
UID:10015229-1777017600-1777050000@ruralnewfamilies.com
SUMMARY:Green Valley Area Rummage Sales
DESCRIPTION:Rummage Sale Season Kicks off this year with Rural Krakow\, Advance and Green Valley Rummage Sales.
URL:https://ruralnewfamilies.com/event/green-valley-area-rummage-sales/2026-04-24/
LOCATION:Krakow Post Office\, N4805 Highway 32\, Pulaski\, Wisconsin\, United States
CATEGORIES:Rummage Sales,Shopping
GEO:44.7564775;-88.2513182
X-APPLE-STRUCTURED-LOCATION;VALUE=URI;X-ADDRESS=Krakow Post Office N4805 Highway 32 Pulaski Wisconsin United States;X-APPLE-RADIUS=500;X-TITLE=N4805 Highway 32:geo:-88.2513182,44.7564775
END:VEVENT
BEGIN:VEVENT
DTSTART;TZID=America/Chicago:20260425T080000
DTEND;TZID=America/Chicago:20260425T140000
DTSTAMP:20260424T150217
CREATED:20260421T195024Z
LAST-MODIFIED:20260421T195808Z
UID:10015227-1777104000-1777125600@ruralnewfamilies.com
SUMMARY:Cloverleaf Lakes Neighborhood Rummage Sales 2026
DESCRIPTION:Rummage Sale Season Kicks off This Weekend with Cloverleaf Lakes Neighborhood Rummage Sales!Some addresses may have longer hours.  See the map for details.  30 Houses on the list!  You won’t want to miss this!Rain or Shine!
URL:https://ruralnewfamilies.com/event/cloverleaf-lakes-neighborhood-rummage-sales-2026/2026-04-25/
LOCATION:Cloverleaf Lakes Neighborhood\, W8719 Round Lake Dr\, Clintonville\, Wisconsin\, United States
CATEGORIES:Community Events & Parades,Rummage Sales,Shopping
GEO:44.6892789;-88.6773382
X-APPLE-STRUCTURED-LOCATION;VALUE=URI;X-ADDRESS=Cloverleaf Lakes Neighborhood W8719 Round Lake Dr Clintonville Wisconsin United States;X-APPLE-RADIUS=500;X-TITLE=W8719 Round Lake Dr:geo:-88.6773382,44.6892789
END:VEVENT
BEGIN:VEVENT
DTSTART;TZID=America/Chicago:20260425T080000
DTEND;TZID=America/Chicago:20260425T170000
DTSTAMP:20260424T150217
CREATED:20260421T192319Z
LAST-MODIFIED:20260421T200134Z
UID:10015230-1777104000-1777136400@ruralnewfamilies.com
SUMMARY:Green Valley Area Rummage Sales
DESCRIPTION:Rummage Sale Season Kicks off this year with Rural Krakow\, Advance and Green Valley Rummage Sales.
URL:https://ruralnewfamilies.com/event/green-valley-area-rummage-sales/2026-04-25/
LOCATION:Krakow Post Office\, N4805 Highway 32\, Pulaski\, Wisconsin\, United States
CATEGORIES:Rummage Sales,Shopping
GEO:44.7564775;-88.2513182
X-APPLE-STRUCTURED-LOCATION;VALUE=URI;X-ADDRESS=Krakow Post Office N4805 Highway 32 Pulaski Wisconsin United States;X-APPLE-RADIUS=500;X-TITLE=N4805 Highway 32:geo:-88.2513182,44.7564775
END:VEVENT
END:VCALENDAR