BEGIN:VCALENDAR
VERSION:2.0
PRODID:-//Rural Northeast Wisconsin Families - ECPv6.15.20//NONSGML v1.0//EN
CALSCALE:GREGORIAN
METHOD:PUBLISH
X-WR-CALNAME:Rural Northeast Wisconsin Families
X-ORIGINAL-URL:https://ruralnewfamilies.com
X-WR-CALDESC:Events for Rural Northeast Wisconsin Families
REFRESH-INTERVAL;VALUE=DURATION:PT1H
X-Robots-Tag:noindex
X-PUBLISHED-TTL:PT1H
BEGIN:VTIMEZONE
TZID:America/Chicago
BEGIN:DAYLIGHT
TZOFFSETFROM:-0600
TZOFFSETTO:-0500
TZNAME:CDT
DTSTART:20250309T080000
END:DAYLIGHT
BEGIN:STANDARD
TZOFFSETFROM:-0500
TZOFFSETTO:-0600
TZNAME:CST
DTSTART:20251102T070000
END:STANDARD
BEGIN:DAYLIGHT
TZOFFSETFROM:-0600
TZOFFSETTO:-0500
TZNAME:CDT
DTSTART:20260308T080000
END:DAYLIGHT
BEGIN:STANDARD
TZOFFSETFROM:-0500
TZOFFSETTO:-0600
TZNAME:CST
DTSTART:20261101T070000
END:STANDARD
BEGIN:DAYLIGHT
TZOFFSETFROM:-0600
TZOFFSETTO:-0500
TZNAME:CDT
DTSTART:20270314T080000
END:DAYLIGHT
BEGIN:STANDARD
TZOFFSETFROM:-0500
TZOFFSETTO:-0600
TZNAME:CST
DTSTART:20271107T070000
END:STANDARD
END:VTIMEZONE
BEGIN:VEVENT
DTSTART;TZID=America/Chicago:20260401T130000
DTEND;TZID=America/Chicago:20260401T150000
DTSTAMP:20260425T070836
CREATED:20260308T091652Z
LAST-MODIFIED:20260308T091653Z
UID:10012831-1775048400-1775055600@ruralnewfamilies.com
SUMMARY:Clintonville Bingo
DESCRIPTION:Join us at the Clintonville Community Center as we gather for an afternoon of fun\, laughter\, prizes\, and community connection. Whether you’re a seasoned Bingo pro or brand new to the game\, this is the perfect way to spend your Wednesday afternoon! \n\n\n\n 🍿Complimentary snacks \n\n\n\nNo Daubers required \n\n\n\nWe play the first and third Wednesday of each month. \n\n\n\nBring a friend\, bring your lucky charm
URL:https://ruralnewfamilies.com/event/clintonville-bingo-2/2026-04-01/
LOCATION:Clintonville Community Center\, South Main Street 30\, Clintonville\, Wisconsin\, 54929\, United States
CATEGORIES:Indoor Event,Life Stages And Special Communities,Senior Connections
GEO:44.6221829;-88.7611618
X-APPLE-STRUCTURED-LOCATION;VALUE=URI;X-ADDRESS=Clintonville Community Center South Main Street 30 Clintonville Wisconsin 54929 United States;X-APPLE-RADIUS=500;X-TITLE=South Main Street 30:geo:-88.7611618,44.6221829
END:VEVENT
BEGIN:VEVENT
DTSTART;TZID=America/Chicago:20260409T130000
DTEND;TZID=America/Chicago:20260409T140000
DTSTAMP:20260425T070836
CREATED:20260109T194309Z
LAST-MODIFIED:20260109T194311Z
UID:10012074-1775739600-1775743200@ruralnewfamilies.com
SUMMARY:Bingo
DESCRIPTION:Come join us for Bingo and refreshments!   \n\n\n\nFREE Bingo and great prizes! \n\n\n\n \n\n\n\nThis is something for ALL ages!
URL:https://ruralnewfamilies.com/event/bingo-8/2026-04-09/
LOCATION:Marion Public Library\, North Main Street 120\, Marion\, Wisconsin\, 54950\, United States
CATEGORIES:Community Events & Parades,FREE,Indoor Event,Library/Museum,Life Stages And Special Communities,Senior Connections
GEO:44.6712452;-88.8889175
X-APPLE-STRUCTURED-LOCATION;VALUE=URI;X-ADDRESS=Marion Public Library North Main Street 120 Marion Wisconsin 54950 United States;X-APPLE-RADIUS=500;X-TITLE=North Main Street 120:geo:-88.8889175,44.6712452
END:VEVENT
BEGIN:VEVENT
DTSTART;TZID=America/Chicago:20260415T130000
DTEND;TZID=America/Chicago:20260415T150000
DTSTAMP:20260425T070836
CREATED:20260308T091509Z
LAST-MODIFIED:20260308T091535Z
UID:10012814-1776258000-1776265200@ruralnewfamilies.com
SUMMARY:Clintonville Bingo
DESCRIPTION:Join us at the Clintonville Community Center as we gather for an afternoon of fun\, laughter\, prizes\, and community connection. Whether you’re a seasoned Bingo pro or brand new to the game\, this is the perfect way to spend your Wednesday afternoon! \n\n\n\n 🍿Complimentary snacks \n\n\n\nNo Daubers required \n\n\n\nWe play the first and third Wednesday of each month. \n\n\n\nBring a friend\, bring your lucky charm
URL:https://ruralnewfamilies.com/event/clintonville-bingo/2026-04-15/
LOCATION:Clintonville Community Center\, South Main Street 30\, Clintonville\, Wisconsin\, 54929\, United States
CATEGORIES:Indoor Event,Life Stages And Special Communities,Senior Connections
GEO:44.6221829;-88.7611618
X-APPLE-STRUCTURED-LOCATION;VALUE=URI;X-ADDRESS=Clintonville Community Center South Main Street 30 Clintonville Wisconsin 54929 United States;X-APPLE-RADIUS=500;X-TITLE=South Main Street 30:geo:-88.7611618,44.6221829
END:VEVENT
BEGIN:VEVENT
DTSTART;TZID=America/Chicago:20260506T130000
DTEND;TZID=America/Chicago:20260506T150000
DTSTAMP:20260425T070836
CREATED:20260308T091652Z
LAST-MODIFIED:20260308T091653Z
UID:10012832-1778072400-1778079600@ruralnewfamilies.com
SUMMARY:Clintonville Bingo
DESCRIPTION:Join us at the Clintonville Community Center as we gather for an afternoon of fun\, laughter\, prizes\, and community connection. Whether you’re a seasoned Bingo pro or brand new to the game\, this is the perfect way to spend your Wednesday afternoon! \n\n\n\n 🍿Complimentary snacks \n\n\n\nNo Daubers required \n\n\n\nWe play the first and third Wednesday of each month. \n\n\n\nBring a friend\, bring your lucky charm
URL:https://ruralnewfamilies.com/event/clintonville-bingo-2/2026-05-06/
LOCATION:Clintonville Community Center\, South Main Street 30\, Clintonville\, Wisconsin\, 54929\, United States
CATEGORIES:Indoor Event,Life Stages And Special Communities,Senior Connections
GEO:44.6221829;-88.7611618
X-APPLE-STRUCTURED-LOCATION;VALUE=URI;X-ADDRESS=Clintonville Community Center South Main Street 30 Clintonville Wisconsin 54929 United States;X-APPLE-RADIUS=500;X-TITLE=South Main Street 30:geo:-88.7611618,44.6221829
END:VEVENT
BEGIN:VEVENT
DTSTART;TZID=America/Chicago:20260520T130000
DTEND;TZID=America/Chicago:20260520T150000
DTSTAMP:20260425T070836
CREATED:20260308T091509Z
LAST-MODIFIED:20260308T091535Z
UID:10012815-1779282000-1779289200@ruralnewfamilies.com
SUMMARY:Clintonville Bingo
DESCRIPTION:Join us at the Clintonville Community Center as we gather for an afternoon of fun\, laughter\, prizes\, and community connection. Whether you’re a seasoned Bingo pro or brand new to the game\, this is the perfect way to spend your Wednesday afternoon! \n\n\n\n 🍿Complimentary snacks \n\n\n\nNo Daubers required \n\n\n\nWe play the first and third Wednesday of each month. \n\n\n\nBring a friend\, bring your lucky charm
URL:https://ruralnewfamilies.com/event/clintonville-bingo/2026-05-20/
LOCATION:Clintonville Community Center\, South Main Street 30\, Clintonville\, Wisconsin\, 54929\, United States
CATEGORIES:Indoor Event,Life Stages And Special Communities,Senior Connections
GEO:44.6221829;-88.7611618
X-APPLE-STRUCTURED-LOCATION;VALUE=URI;X-ADDRESS=Clintonville Community Center South Main Street 30 Clintonville Wisconsin 54929 United States;X-APPLE-RADIUS=500;X-TITLE=South Main Street 30:geo:-88.7611618,44.6221829
END:VEVENT
BEGIN:VEVENT
DTSTART;TZID=America/Chicago:20260603T130000
DTEND;TZID=America/Chicago:20260603T150000
DTSTAMP:20260425T070836
CREATED:20260308T091652Z
LAST-MODIFIED:20260308T091653Z
UID:10012833-1780491600-1780498800@ruralnewfamilies.com
SUMMARY:Clintonville Bingo
DESCRIPTION:Join us at the Clintonville Community Center as we gather for an afternoon of fun\, laughter\, prizes\, and community connection. Whether you’re a seasoned Bingo pro or brand new to the game\, this is the perfect way to spend your Wednesday afternoon! \n\n\n\n 🍿Complimentary snacks \n\n\n\nNo Daubers required \n\n\n\nWe play the first and third Wednesday of each month. \n\n\n\nBring a friend\, bring your lucky charm
URL:https://ruralnewfamilies.com/event/clintonville-bingo-2/2026-06-03/
LOCATION:Clintonville Community Center\, South Main Street 30\, Clintonville\, Wisconsin\, 54929\, United States
CATEGORIES:Indoor Event,Life Stages And Special Communities,Senior Connections
GEO:44.6221829;-88.7611618
X-APPLE-STRUCTURED-LOCATION;VALUE=URI;X-ADDRESS=Clintonville Community Center South Main Street 30 Clintonville Wisconsin 54929 United States;X-APPLE-RADIUS=500;X-TITLE=South Main Street 30:geo:-88.7611618,44.6221829
END:VEVENT
BEGIN:VEVENT
DTSTART;TZID=America/Chicago:20260617T130000
DTEND;TZID=America/Chicago:20260617T150000
DTSTAMP:20260425T070836
CREATED:20260308T091509Z
LAST-MODIFIED:20260308T091535Z
UID:10012816-1781701200-1781708400@ruralnewfamilies.com
SUMMARY:Clintonville Bingo
DESCRIPTION:Join us at the Clintonville Community Center as we gather for an afternoon of fun\, laughter\, prizes\, and community connection. Whether you’re a seasoned Bingo pro or brand new to the game\, this is the perfect way to spend your Wednesday afternoon! \n\n\n\n 🍿Complimentary snacks \n\n\n\nNo Daubers required \n\n\n\nWe play the first and third Wednesday of each month. \n\n\n\nBring a friend\, bring your lucky charm
URL:https://ruralnewfamilies.com/event/clintonville-bingo/2026-06-17/
LOCATION:Clintonville Community Center\, South Main Street 30\, Clintonville\, Wisconsin\, 54929\, United States
CATEGORIES:Indoor Event,Life Stages And Special Communities,Senior Connections
GEO:44.6221829;-88.7611618
X-APPLE-STRUCTURED-LOCATION;VALUE=URI;X-ADDRESS=Clintonville Community Center South Main Street 30 Clintonville Wisconsin 54929 United States;X-APPLE-RADIUS=500;X-TITLE=South Main Street 30:geo:-88.7611618,44.6221829
END:VEVENT
BEGIN:VEVENT
DTSTART;TZID=America/Chicago:20260701T130000
DTEND;TZID=America/Chicago:20260701T150000
DTSTAMP:20260425T070836
CREATED:20260308T091652Z
LAST-MODIFIED:20260308T091653Z
UID:10012834-1782910800-1782918000@ruralnewfamilies.com
SUMMARY:Clintonville Bingo
DESCRIPTION:Join us at the Clintonville Community Center as we gather for an afternoon of fun\, laughter\, prizes\, and community connection. Whether you’re a seasoned Bingo pro or brand new to the game\, this is the perfect way to spend your Wednesday afternoon! \n\n\n\n 🍿Complimentary snacks \n\n\n\nNo Daubers required \n\n\n\nWe play the first and third Wednesday of each month. \n\n\n\nBring a friend\, bring your lucky charm
URL:https://ruralnewfamilies.com/event/clintonville-bingo-2/2026-07-01/
LOCATION:Clintonville Community Center\, South Main Street 30\, Clintonville\, Wisconsin\, 54929\, United States
CATEGORIES:Indoor Event,Life Stages And Special Communities,Senior Connections
GEO:44.6221829;-88.7611618
X-APPLE-STRUCTURED-LOCATION;VALUE=URI;X-ADDRESS=Clintonville Community Center South Main Street 30 Clintonville Wisconsin 54929 United States;X-APPLE-RADIUS=500;X-TITLE=South Main Street 30:geo:-88.7611618,44.6221829
END:VEVENT
BEGIN:VEVENT
DTSTART;TZID=America/Chicago:20260715T130000
DTEND;TZID=America/Chicago:20260715T150000
DTSTAMP:20260425T070836
CREATED:20260308T091509Z
LAST-MODIFIED:20260308T091535Z
UID:10012817-1784120400-1784127600@ruralnewfamilies.com
SUMMARY:Clintonville Bingo
DESCRIPTION:Join us at the Clintonville Community Center as we gather for an afternoon of fun\, laughter\, prizes\, and community connection. Whether you’re a seasoned Bingo pro or brand new to the game\, this is the perfect way to spend your Wednesday afternoon! \n\n\n\n 🍿Complimentary snacks \n\n\n\nNo Daubers required \n\n\n\nWe play the first and third Wednesday of each month. \n\n\n\nBring a friend\, bring your lucky charm
URL:https://ruralnewfamilies.com/event/clintonville-bingo/2026-07-15/
LOCATION:Clintonville Community Center\, South Main Street 30\, Clintonville\, Wisconsin\, 54929\, United States
CATEGORIES:Indoor Event,Life Stages And Special Communities,Senior Connections
GEO:44.6221829;-88.7611618
X-APPLE-STRUCTURED-LOCATION;VALUE=URI;X-ADDRESS=Clintonville Community Center South Main Street 30 Clintonville Wisconsin 54929 United States;X-APPLE-RADIUS=500;X-TITLE=South Main Street 30:geo:-88.7611618,44.6221829
END:VEVENT
BEGIN:VEVENT
DTSTART;TZID=America/Chicago:20260805T130000
DTEND;TZID=America/Chicago:20260805T150000
DTSTAMP:20260425T070836
CREATED:20260308T091652Z
LAST-MODIFIED:20260308T091653Z
UID:10012835-1785934800-1785942000@ruralnewfamilies.com
SUMMARY:Clintonville Bingo
DESCRIPTION:Join us at the Clintonville Community Center as we gather for an afternoon of fun\, laughter\, prizes\, and community connection. Whether you’re a seasoned Bingo pro or brand new to the game\, this is the perfect way to spend your Wednesday afternoon! \n\n\n\n 🍿Complimentary snacks \n\n\n\nNo Daubers required \n\n\n\nWe play the first and third Wednesday of each month. \n\n\n\nBring a friend\, bring your lucky charm
URL:https://ruralnewfamilies.com/event/clintonville-bingo-2/2026-08-05/
LOCATION:Clintonville Community Center\, South Main Street 30\, Clintonville\, Wisconsin\, 54929\, United States
CATEGORIES:Indoor Event,Life Stages And Special Communities,Senior Connections
GEO:44.6221829;-88.7611618
X-APPLE-STRUCTURED-LOCATION;VALUE=URI;X-ADDRESS=Clintonville Community Center South Main Street 30 Clintonville Wisconsin 54929 United States;X-APPLE-RADIUS=500;X-TITLE=South Main Street 30:geo:-88.7611618,44.6221829
END:VEVENT
BEGIN:VEVENT
DTSTART;TZID=America/Chicago:20260819T130000
DTEND;TZID=America/Chicago:20260819T150000
DTSTAMP:20260425T070836
CREATED:20260308T091509Z
LAST-MODIFIED:20260308T091535Z
UID:10012818-1787144400-1787151600@ruralnewfamilies.com
SUMMARY:Clintonville Bingo
DESCRIPTION:Join us at the Clintonville Community Center as we gather for an afternoon of fun\, laughter\, prizes\, and community connection. Whether you’re a seasoned Bingo pro or brand new to the game\, this is the perfect way to spend your Wednesday afternoon! \n\n\n\n 🍿Complimentary snacks \n\n\n\nNo Daubers required \n\n\n\nWe play the first and third Wednesday of each month. \n\n\n\nBring a friend\, bring your lucky charm
URL:https://ruralnewfamilies.com/event/clintonville-bingo/2026-08-19/
LOCATION:Clintonville Community Center\, South Main Street 30\, Clintonville\, Wisconsin\, 54929\, United States
CATEGORIES:Indoor Event,Life Stages And Special Communities,Senior Connections
GEO:44.6221829;-88.7611618
X-APPLE-STRUCTURED-LOCATION;VALUE=URI;X-ADDRESS=Clintonville Community Center South Main Street 30 Clintonville Wisconsin 54929 United States;X-APPLE-RADIUS=500;X-TITLE=South Main Street 30:geo:-88.7611618,44.6221829
END:VEVENT
BEGIN:VEVENT
DTSTART;TZID=America/Chicago:20260902T130000
DTEND;TZID=America/Chicago:20260902T150000
DTSTAMP:20260425T070836
CREATED:20260308T091652Z
LAST-MODIFIED:20260308T091653Z
UID:10012836-1788354000-1788361200@ruralnewfamilies.com
SUMMARY:Clintonville Bingo
DESCRIPTION:Join us at the Clintonville Community Center as we gather for an afternoon of fun\, laughter\, prizes\, and community connection. Whether you’re a seasoned Bingo pro or brand new to the game\, this is the perfect way to spend your Wednesday afternoon! \n\n\n\n 🍿Complimentary snacks \n\n\n\nNo Daubers required \n\n\n\nWe play the first and third Wednesday of each month. \n\n\n\nBring a friend\, bring your lucky charm
URL:https://ruralnewfamilies.com/event/clintonville-bingo-2/2026-09-02/
LOCATION:Clintonville Community Center\, South Main Street 30\, Clintonville\, Wisconsin\, 54929\, United States
CATEGORIES:Indoor Event,Life Stages And Special Communities,Senior Connections
GEO:44.6221829;-88.7611618
X-APPLE-STRUCTURED-LOCATION;VALUE=URI;X-ADDRESS=Clintonville Community Center South Main Street 30 Clintonville Wisconsin 54929 United States;X-APPLE-RADIUS=500;X-TITLE=South Main Street 30:geo:-88.7611618,44.6221829
END:VEVENT
BEGIN:VEVENT
DTSTART;TZID=America/Chicago:20260916T130000
DTEND;TZID=America/Chicago:20260916T150000
DTSTAMP:20260425T070836
CREATED:20260308T091509Z
LAST-MODIFIED:20260308T091535Z
UID:10012819-1789563600-1789570800@ruralnewfamilies.com
SUMMARY:Clintonville Bingo
DESCRIPTION:Join us at the Clintonville Community Center as we gather for an afternoon of fun\, laughter\, prizes\, and community connection. Whether you’re a seasoned Bingo pro or brand new to the game\, this is the perfect way to spend your Wednesday afternoon! \n\n\n\n 🍿Complimentary snacks \n\n\n\nNo Daubers required \n\n\n\nWe play the first and third Wednesday of each month. \n\n\n\nBring a friend\, bring your lucky charm
URL:https://ruralnewfamilies.com/event/clintonville-bingo/2026-09-16/
LOCATION:Clintonville Community Center\, South Main Street 30\, Clintonville\, Wisconsin\, 54929\, United States
CATEGORIES:Indoor Event,Life Stages And Special Communities,Senior Connections
GEO:44.6221829;-88.7611618
X-APPLE-STRUCTURED-LOCATION;VALUE=URI;X-ADDRESS=Clintonville Community Center South Main Street 30 Clintonville Wisconsin 54929 United States;X-APPLE-RADIUS=500;X-TITLE=South Main Street 30:geo:-88.7611618,44.6221829
END:VEVENT
BEGIN:VEVENT
DTSTART;TZID=America/Chicago:20261007T130000
DTEND;TZID=America/Chicago:20261007T150000
DTSTAMP:20260425T070836
CREATED:20260308T091652Z
LAST-MODIFIED:20260308T091653Z
UID:10012837-1791378000-1791385200@ruralnewfamilies.com
SUMMARY:Clintonville Bingo
DESCRIPTION:Join us at the Clintonville Community Center as we gather for an afternoon of fun\, laughter\, prizes\, and community connection. Whether you’re a seasoned Bingo pro or brand new to the game\, this is the perfect way to spend your Wednesday afternoon! \n\n\n\n 🍿Complimentary snacks \n\n\n\nNo Daubers required \n\n\n\nWe play the first and third Wednesday of each month. \n\n\n\nBring a friend\, bring your lucky charm
URL:https://ruralnewfamilies.com/event/clintonville-bingo-2/2026-10-07/
LOCATION:Clintonville Community Center\, South Main Street 30\, Clintonville\, Wisconsin\, 54929\, United States
CATEGORIES:Indoor Event,Life Stages And Special Communities,Senior Connections
GEO:44.6221829;-88.7611618
X-APPLE-STRUCTURED-LOCATION;VALUE=URI;X-ADDRESS=Clintonville Community Center South Main Street 30 Clintonville Wisconsin 54929 United States;X-APPLE-RADIUS=500;X-TITLE=South Main Street 30:geo:-88.7611618,44.6221829
END:VEVENT
BEGIN:VEVENT
DTSTART;TZID=America/Chicago:20261021T130000
DTEND;TZID=America/Chicago:20261021T150000
DTSTAMP:20260425T070836
CREATED:20260308T091509Z
LAST-MODIFIED:20260308T091535Z
UID:10012820-1792587600-1792594800@ruralnewfamilies.com
SUMMARY:Clintonville Bingo
DESCRIPTION:Join us at the Clintonville Community Center as we gather for an afternoon of fun\, laughter\, prizes\, and community connection. Whether you’re a seasoned Bingo pro or brand new to the game\, this is the perfect way to spend your Wednesday afternoon! \n\n\n\n 🍿Complimentary snacks \n\n\n\nNo Daubers required \n\n\n\nWe play the first and third Wednesday of each month. \n\n\n\nBring a friend\, bring your lucky charm
URL:https://ruralnewfamilies.com/event/clintonville-bingo/2026-10-21/
LOCATION:Clintonville Community Center\, South Main Street 30\, Clintonville\, Wisconsin\, 54929\, United States
CATEGORIES:Indoor Event,Life Stages And Special Communities,Senior Connections
GEO:44.6221829;-88.7611618
X-APPLE-STRUCTURED-LOCATION;VALUE=URI;X-ADDRESS=Clintonville Community Center South Main Street 30 Clintonville Wisconsin 54929 United States;X-APPLE-RADIUS=500;X-TITLE=South Main Street 30:geo:-88.7611618,44.6221829
END:VEVENT
BEGIN:VEVENT
DTSTART;TZID=America/Chicago:20261104T130000
DTEND;TZID=America/Chicago:20261104T150000
DTSTAMP:20260425T070836
CREATED:20260308T091652Z
LAST-MODIFIED:20260308T091653Z
UID:10012838-1793797200-1793804400@ruralnewfamilies.com
SUMMARY:Clintonville Bingo
DESCRIPTION:Join us at the Clintonville Community Center as we gather for an afternoon of fun\, laughter\, prizes\, and community connection. Whether you’re a seasoned Bingo pro or brand new to the game\, this is the perfect way to spend your Wednesday afternoon! \n\n\n\n 🍿Complimentary snacks \n\n\n\nNo Daubers required \n\n\n\nWe play the first and third Wednesday of each month. \n\n\n\nBring a friend\, bring your lucky charm
URL:https://ruralnewfamilies.com/event/clintonville-bingo-2/2026-11-04/
LOCATION:Clintonville Community Center\, South Main Street 30\, Clintonville\, Wisconsin\, 54929\, United States
CATEGORIES:Indoor Event,Life Stages And Special Communities,Senior Connections
GEO:44.6221829;-88.7611618
X-APPLE-STRUCTURED-LOCATION;VALUE=URI;X-ADDRESS=Clintonville Community Center South Main Street 30 Clintonville Wisconsin 54929 United States;X-APPLE-RADIUS=500;X-TITLE=South Main Street 30:geo:-88.7611618,44.6221829
END:VEVENT
BEGIN:VEVENT
DTSTART;TZID=America/Chicago:20261118T130000
DTEND;TZID=America/Chicago:20261118T150000
DTSTAMP:20260425T070836
CREATED:20260308T091509Z
LAST-MODIFIED:20260308T091535Z
UID:10012821-1795006800-1795014000@ruralnewfamilies.com
SUMMARY:Clintonville Bingo
DESCRIPTION:Join us at the Clintonville Community Center as we gather for an afternoon of fun\, laughter\, prizes\, and community connection. Whether you’re a seasoned Bingo pro or brand new to the game\, this is the perfect way to spend your Wednesday afternoon! \n\n\n\n 🍿Complimentary snacks \n\n\n\nNo Daubers required \n\n\n\nWe play the first and third Wednesday of each month. \n\n\n\nBring a friend\, bring your lucky charm
URL:https://ruralnewfamilies.com/event/clintonville-bingo/2026-11-18/
LOCATION:Clintonville Community Center\, South Main Street 30\, Clintonville\, Wisconsin\, 54929\, United States
CATEGORIES:Indoor Event,Life Stages And Special Communities,Senior Connections
GEO:44.6221829;-88.7611618
X-APPLE-STRUCTURED-LOCATION;VALUE=URI;X-ADDRESS=Clintonville Community Center South Main Street 30 Clintonville Wisconsin 54929 United States;X-APPLE-RADIUS=500;X-TITLE=South Main Street 30:geo:-88.7611618,44.6221829
END:VEVENT
END:VCALENDAR