BEGIN:VCALENDAR
VERSION:2.0
PRODID:-//Rural Northeast Wisconsin Families - ECPv6.15.20//NONSGML v1.0//EN
CALSCALE:GREGORIAN
METHOD:PUBLISH
X-WR-CALNAME:Rural Northeast Wisconsin Families
X-ORIGINAL-URL:https://ruralnewfamilies.com
X-WR-CALDESC:Events for Rural Northeast Wisconsin Families
REFRESH-INTERVAL;VALUE=DURATION:PT1H
X-Robots-Tag:noindex
X-PUBLISHED-TTL:PT1H
BEGIN:VTIMEZONE
TZID:America/Chicago
BEGIN:DAYLIGHT
TZOFFSETFROM:-0600
TZOFFSETTO:-0500
TZNAME:CDT
DTSTART:20250309T080000
END:DAYLIGHT
BEGIN:STANDARD
TZOFFSETFROM:-0500
TZOFFSETTO:-0600
TZNAME:CST
DTSTART:20251102T070000
END:STANDARD
BEGIN:DAYLIGHT
TZOFFSETFROM:-0600
TZOFFSETTO:-0500
TZNAME:CDT
DTSTART:20260308T080000
END:DAYLIGHT
BEGIN:STANDARD
TZOFFSETFROM:-0500
TZOFFSETTO:-0600
TZNAME:CST
DTSTART:20261101T070000
END:STANDARD
BEGIN:DAYLIGHT
TZOFFSETFROM:-0600
TZOFFSETTO:-0500
TZNAME:CDT
DTSTART:20270314T080000
END:DAYLIGHT
BEGIN:STANDARD
TZOFFSETFROM:-0500
TZOFFSETTO:-0600
TZNAME:CST
DTSTART:20271107T070000
END:STANDARD
END:VTIMEZONE
BEGIN:VEVENT
DTSTART;TZID=America/Chicago:20260413T080000
DTEND;TZID=America/Chicago:20260413T170000
DTSTAMP:20260423T042137
CREATED:20260404T022756Z
LAST-MODIFIED:20260404T022759Z
UID:10013170-1776067200-1776099600@ruralnewfamilies.com
SUMMARY:Free Library Programming
DESCRIPTION:
URL:https://ruralnewfamilies.com/event/free-library-programming/2026-04-13/
LOCATION:Birnamwood Library\, 337 Main St\, Birnamwood\, Wisconsin\, United States
CATEGORIES:FREE,Library/Museum
GEO:44.9292549;-89.2098876
X-APPLE-STRUCTURED-LOCATION;VALUE=URI;X-ADDRESS=Birnamwood Library 337 Main St Birnamwood Wisconsin United States;X-APPLE-RADIUS=500;X-TITLE=337 Main St:geo:-89.2098876,44.9292549
END:VEVENT
BEGIN:VEVENT
DTSTART;TZID=America/Chicago:20260413T101500
DTEND;TZID=America/Chicago:20260413T111500
DTSTAMP:20260423T042137
CREATED:20260128T041836Z
LAST-MODIFIED:20260128T041921Z
UID:10012197-1776075300-1776078900@ruralnewfamilies.com
SUMMARY:Babygarten
DESCRIPTION:An event for babies!  Come\, play\, learn and grow together!  \n\n\n\nActivities include: \n\n\n\n\nStorytime and singing\n\n\n\nNursery Rhymes\n\n\n\nSocial Playtime\n\n\n\nCraft (once per month)
URL:https://ruralnewfamilies.com/event/babygarten-2/2026-04-13/
LOCATION:Marion Public Library\, North Main Street 120\, Marion\, Wisconsin\, 54950\, United States
CATEGORIES:FREE,Indoor Event,Library/Museum,Life Stages And Special Communities,Storytime,Youth & Family Programs
GEO:44.6712452;-88.8889175
X-APPLE-STRUCTURED-LOCATION;VALUE=URI;X-ADDRESS=Marion Public Library North Main Street 120 Marion Wisconsin 54950 United States;X-APPLE-RADIUS=500;X-TITLE=North Main Street 120:geo:-88.8889175,44.6712452
END:VEVENT
BEGIN:VEVENT
DTSTART;TZID=America/Chicago:20260413T150000
DTEND;TZID=America/Chicago:20260413T180000
DTSTAMP:20260423T042137
CREATED:20260413T022855Z
LAST-MODIFIED:20260413T022857Z
UID:10013195-1776092400-1776103200@ruralnewfamilies.com
SUMMARY:Tween Time: Pet Cactus
DESCRIPTION:Make an adorable painted rock pet cactus and have a snack! Just for tweens ages 8-12. Guardian must be present.
URL:https://ruralnewfamilies.com/event/tween-time-pet-cactus/
LOCATION:Shawano County Library\, 128 S Sawyer St\, Shawano\, WI 54166\, USA\, South Sawyer Street 128\, Shawano\, WI\, 54166\, United States
CATEGORIES:FREE,Library/Museum,Life Stages And Special Communities,Tween,Youth & Family Programs
GEO:44.7810031;-88.6071624
X-APPLE-STRUCTURED-LOCATION;VALUE=URI;X-ADDRESS=Shawano County Library 128 S Sawyer St Shawano WI 54166 USA South Sawyer Street 128 Shawano WI 54166 United States;X-APPLE-RADIUS=500;X-TITLE=South Sawyer Street 128:geo:-88.6071624,44.7810031
END:VEVENT
BEGIN:VEVENT
DTSTART;TZID=America/Chicago:20260414T080000
DTEND;TZID=America/Chicago:20260414T170000
DTSTAMP:20260423T042137
CREATED:20260404T022756Z
LAST-MODIFIED:20260404T022759Z
UID:10013171-1776153600-1776186000@ruralnewfamilies.com
SUMMARY:Free Library Programming
DESCRIPTION:
URL:https://ruralnewfamilies.com/event/free-library-programming/2026-04-14/
LOCATION:Birnamwood Library\, 337 Main St\, Birnamwood\, Wisconsin\, United States
CATEGORIES:FREE,Library/Museum
GEO:44.9292549;-89.2098876
X-APPLE-STRUCTURED-LOCATION;VALUE=URI;X-ADDRESS=Birnamwood Library 337 Main St Birnamwood Wisconsin United States;X-APPLE-RADIUS=500;X-TITLE=337 Main St:geo:-89.2098876,44.9292549
END:VEVENT
BEGIN:VEVENT
DTSTART;TZID=America/Chicago:20260414T103000
DTEND;TZID=America/Chicago:20260414T110000
DTSTAMP:20260423T042137
CREATED:20250610T035623Z
LAST-MODIFIED:20250610T035626Z
UID:10009835-1776162600-1776164400@ruralnewfamilies.com
SUMMARY:📚 Bonduel/Story Time
DESCRIPTION:NEW DAY AND TIME! Bring the little ones to the library for a story\, a song\, and a fun craft!
URL:https://ruralnewfamilies.com/event/%f0%9f%93%9a-bonduel-story-time/2026-04-14/
LOCATION:Bonduel Library\, North Washington Street 125\, Bonduel\, WI\, 54107\, United States
CATEGORIES:FREE,Library/Museum,Storytime,Summer Reading Program
GEO:44.7384574;-88.4412828
X-APPLE-STRUCTURED-LOCATION;VALUE=URI;X-ADDRESS=Bonduel Library North Washington Street 125 Bonduel WI 54107 United States;X-APPLE-RADIUS=500;X-TITLE=North Washington Street 125:geo:-88.4412828,44.7384574
END:VEVENT
BEGIN:VEVENT
DTSTART;TZID=America/Chicago:20260415T080000
DTEND;TZID=America/Chicago:20260415T170000
DTSTAMP:20260423T042137
CREATED:20260404T022756Z
LAST-MODIFIED:20260404T022759Z
UID:10013172-1776240000-1776272400@ruralnewfamilies.com
SUMMARY:Free Library Programming
DESCRIPTION:
URL:https://ruralnewfamilies.com/event/free-library-programming/2026-04-15/
LOCATION:Birnamwood Library\, 337 Main St\, Birnamwood\, Wisconsin\, United States
CATEGORIES:FREE,Library/Museum
GEO:44.9292549;-89.2098876
X-APPLE-STRUCTURED-LOCATION;VALUE=URI;X-ADDRESS=Birnamwood Library 337 Main St Birnamwood Wisconsin United States;X-APPLE-RADIUS=500;X-TITLE=337 Main St:geo:-89.2098876,44.9292549
END:VEVENT
BEGIN:VEVENT
DTSTART;TZID=America/Chicago:20260415T100000
DTEND;TZID=America/Chicago:20260415T110000
DTSTAMP:20260423T042137
CREATED:20250820T034700Z
LAST-MODIFIED:20250820T034702Z
UID:10010933-1776247200-1776250800@ruralnewfamilies.com
SUMMARY:Drop In Playgroup
DESCRIPTION:Join Miss Kelly for drop-in playgroup!   \n\n\n\nStorytime\, free play\, snack\, music\, fun activities!
URL:https://ruralnewfamilies.com/event/drop-in-playgroup-2/2026-04-15/
LOCATION:Marion Public Library\, North Main Street 120\, Marion\, Wisconsin\, 54950\, United States
CATEGORIES:FREE,Indoor Event,Library/Museum,Storytime
GEO:44.6712452;-88.8889175
X-APPLE-STRUCTURED-LOCATION;VALUE=URI;X-ADDRESS=Marion Public Library North Main Street 120 Marion Wisconsin 54950 United States;X-APPLE-RADIUS=500;X-TITLE=North Main Street 120:geo:-88.8889175,44.6712452
END:VEVENT
BEGIN:VEVENT
DTSTART;TZID=America/Chicago:20260415T140000
DTEND;TZID=America/Chicago:20260415T150000
DTSTAMP:20260423T042137
CREATED:20260218T012426Z
LAST-MODIFIED:20260218T012430Z
UID:10012644-1776261600-1776265200@ruralnewfamilies.com
SUMMARY:🧶 Hook and Knit
DESCRIPTION:Knit and Hook1st & 3rd Wednesdays of the month at 2 PM.​​Bring your knitting\, crocheting\, needle point\, or whatever you’re working on at the time. ​Come and work on your crafts and get to know others.
URL:https://ruralnewfamilies.com/event/%f0%9f%a7%b6-hook-and-knit/2026-04-15/
LOCATION:Suring Public Library\, East Main Street 604\, Suring\, Wisconsin\, 54174\, United States
CATEGORIES:DIY Crafts,FREE,Library/Museum
GEO:44.9992682;-88.3729785
X-APPLE-STRUCTURED-LOCATION;VALUE=URI;X-ADDRESS=Suring Public Library East Main Street 604 Suring Wisconsin 54174 United States;X-APPLE-RADIUS=500;X-TITLE=East Main Street 604:geo:-88.3729785,44.9992682
END:VEVENT
BEGIN:VEVENT
DTSTART;TZID=America/Chicago:20260416T080000
DTEND;TZID=America/Chicago:20260416T170000
DTSTAMP:20260423T042137
CREATED:20260404T022756Z
LAST-MODIFIED:20260404T022759Z
UID:10013173-1776326400-1776358800@ruralnewfamilies.com
SUMMARY:Free Library Programming
DESCRIPTION:
URL:https://ruralnewfamilies.com/event/free-library-programming/2026-04-16/
LOCATION:Birnamwood Library\, 337 Main St\, Birnamwood\, Wisconsin\, United States
CATEGORIES:FREE,Library/Museum
GEO:44.9292549;-89.2098876
X-APPLE-STRUCTURED-LOCATION;VALUE=URI;X-ADDRESS=Birnamwood Library 337 Main St Birnamwood Wisconsin United States;X-APPLE-RADIUS=500;X-TITLE=337 Main St:geo:-89.2098876,44.9292549
END:VEVENT
BEGIN:VEVENT
DTSTART;TZID=America/Chicago:20260416T180000
DTEND;TZID=America/Chicago:20260416T210000
DTSTAMP:20260423T042137
CREATED:20260416T054536Z
LAST-MODIFIED:20260416T055300Z
UID:10012269-1776362400-1776373200@ruralnewfamilies.com
SUMMARY:Inspiring Poems by Danes in America
DESCRIPTION:In celebration of National Poetry Month\, the Waupaca Historical Society will host a program entitled\, “Inspiring Poems by Danes in America” on Thursday\, April 16 at 6 pm at the Holly History and Genealogy Center. \n\n\n\nThe program will be presented by Michael G. Koehler\, Ph.D.\, owner of the historic Danes Hall of Waupaca. Koehler will explore the role poetry played in the Danish-American immigrant experience during the peak years of Danish immigration between 1860 and 1910. \n\n\n\nAs Danish immigrants settled across the Midwest\, they faced many hardships while building new lives in America. Poetry and music became important cultural forces that helped unite communities and inspire perseverance. The presentation will highlight the works of Danish-American poets including Adam Dan and F. L. Grundtvig\, who frequently visited Waupaca and found inspiration in the Wisconsin wilderness. \n\n\n\nKoehler’s own ancestors immigrated from Denmark to Waupaca in the 1860s\, and he has spent years collecting and studying the poems and writings that inspired the area’s earliest Danish settlers. Koehler also serves on the Board of Directors of the National Museum of Danish America in Elk Horn\, Iowa. \n\n\n\nThis program is open to the public. Admission is free\, and all are welcome. \n\n\n\nFor more information\, contact the Waupaca Historical Society at (715) 256-9980
URL:https://ruralnewfamilies.com/event/inspiring-poems-by-danes-in-america/
LOCATION:Holly History and Genealogy Center\, 321 S Main St\, Waupaca\, Wisconsin\, 54981\, United States
CATEGORIES:FREE,Library/Museum,Music, Arts, Culture, & Tours
GEO:44.3550147;-89.0845048
X-APPLE-STRUCTURED-LOCATION;VALUE=URI;X-ADDRESS=Holly History and Genealogy Center 321 S Main St Waupaca Wisconsin 54981 United States;X-APPLE-RADIUS=500;X-TITLE=321 S Main St:geo:-89.0845048,44.3550147
END:VEVENT
BEGIN:VEVENT
DTSTART;TZID=America/Chicago:20260417T080000
DTEND;TZID=America/Chicago:20260417T170000
DTSTAMP:20260423T042137
CREATED:20260404T022756Z
LAST-MODIFIED:20260404T022759Z
UID:10013174-1776412800-1776445200@ruralnewfamilies.com
SUMMARY:Free Library Programming
DESCRIPTION:
URL:https://ruralnewfamilies.com/event/free-library-programming/2026-04-17/
LOCATION:Birnamwood Library\, 337 Main St\, Birnamwood\, Wisconsin\, United States
CATEGORIES:FREE,Library/Museum
GEO:44.9292549;-89.2098876
X-APPLE-STRUCTURED-LOCATION;VALUE=URI;X-ADDRESS=Birnamwood Library 337 Main St Birnamwood Wisconsin United States;X-APPLE-RADIUS=500;X-TITLE=337 Main St:geo:-89.2098876,44.9292549
END:VEVENT
BEGIN:VEVENT
DTSTART;TZID=America/Chicago:20260417T093000
DTEND;TZID=America/Chicago:20260417T133000
DTSTAMP:20260423T042137
CREATED:20260213T154747Z
LAST-MODIFIED:20260213T160335Z
UID:10012547-1776418200-1776432600@ruralnewfamilies.com
SUMMARY:Winter Farmers Market
DESCRIPTION:We have a great lineup of vendors featuring local maple syrup\, Christine’s salsa\, Bill’s honey\, and more. You’ll also find a wonderful selection of handmade jewelry\, woodcraft items\, and beading supplies. \n\n\n\nFrom 10:00 AM until they sell out\, Menominee High School students will have a booth set up to raise funds for their upcoming trip to the Crow Canyon Archaeological Field School in Mesa Verde this spring. Please consider stopping by to support their travel efforts and help them reach their fundraising goal. \n\n\n\nStarting at 11:00 AM\, we are excited to welcome a new vendor\, Sunnie’s Fry Bread by Phylly’s\, just in time for lunch! \n\n\n\nCampus Map
URL:https://ruralnewfamilies.com/event/winter-farmers-market/2026-04-17/
LOCATION:College of Menominee Nation\, Wisconsin 47 N 172\, Keshena\, Wisconsin\, 54135\, United States
CATEGORIES:Community Resource,Farmers Markets,FREE,Fundraiser,Indoor Event,Library/Museum,Music, Arts, Culture, & Tours,Shopping
GEO:44.8556522;-88.6262837
X-APPLE-STRUCTURED-LOCATION;VALUE=URI;X-ADDRESS=College of Menominee Nation Wisconsin 47 N 172 Keshena Wisconsin 54135 United States;X-APPLE-RADIUS=500;X-TITLE=Wisconsin 47 N 172:geo:-88.6262837,44.8556522
END:VEVENT
BEGIN:VEVENT
DTSTART;TZID=America/Chicago:20260417T140000
DTEND;TZID=America/Chicago:20260417T160000
DTSTAMP:20260423T042137
CREATED:20260109T165539Z
LAST-MODIFIED:20260109T165542Z
UID:10012058-1776434400-1776441600@ruralnewfamilies.com
SUMMARY:Community Craft Connection
DESCRIPTION:Bring a craft or project to work on while visiting with your neighbors!Fridays January through May 2:00 PM to 4:00 PMNo registration is required. We can’t wait to see what you’re working on!Food and drink are welcome.Clean-up is just like at home. If you make a mess\, clean it up. Ask for cleaning supplies when needed.If the meeting room is needed for another library purpose\, space for the Community Craft Connection will be provided in the magazine area.Community Craft Connection is self-directed. Librarians will be in the building but not leading this group.
URL:https://ruralnewfamilies.com/event/community-craft-connection-2/2026-04-17/
LOCATION:Sturm Memorial Library\, North Bridge Street 130\, Manawa\, Wisconsin\, 54949\, United States
CATEGORIES:DIY Crafts,FREE,Indoor Event,Library/Museum,Life Stages And Special Communities
GEO:44.4667058;-88.9196516
X-APPLE-STRUCTURED-LOCATION;VALUE=URI;X-ADDRESS=Sturm Memorial Library North Bridge Street 130 Manawa Wisconsin 54949 United States;X-APPLE-RADIUS=500;X-TITLE=North Bridge Street 130:geo:-88.9196516,44.4667058
END:VEVENT
BEGIN:VEVENT
DTSTART;TZID=America/Chicago:20260420T080000
DTEND;TZID=America/Chicago:20260420T170000
DTSTAMP:20260423T042137
CREATED:20260404T022756Z
LAST-MODIFIED:20260404T022759Z
UID:10013175-1776672000-1776704400@ruralnewfamilies.com
SUMMARY:Free Library Programming
DESCRIPTION:
URL:https://ruralnewfamilies.com/event/free-library-programming/2026-04-20/
LOCATION:Birnamwood Library\, 337 Main St\, Birnamwood\, Wisconsin\, United States
CATEGORIES:FREE,Library/Museum
GEO:44.9292549;-89.2098876
X-APPLE-STRUCTURED-LOCATION;VALUE=URI;X-ADDRESS=Birnamwood Library 337 Main St Birnamwood Wisconsin United States;X-APPLE-RADIUS=500;X-TITLE=337 Main St:geo:-89.2098876,44.9292549
END:VEVENT
BEGIN:VEVENT
DTSTART;TZID=America/Chicago:20260420T101500
DTEND;TZID=America/Chicago:20260420T111500
DTSTAMP:20260423T042137
CREATED:20260128T041836Z
LAST-MODIFIED:20260128T041921Z
UID:10012198-1776680100-1776683700@ruralnewfamilies.com
SUMMARY:Babygarten
DESCRIPTION:An event for babies!  Come\, play\, learn and grow together!  \n\n\n\nActivities include: \n\n\n\n\nStorytime and singing\n\n\n\nNursery Rhymes\n\n\n\nSocial Playtime\n\n\n\nCraft (once per month)
URL:https://ruralnewfamilies.com/event/babygarten-2/2026-04-20/
LOCATION:Marion Public Library\, North Main Street 120\, Marion\, Wisconsin\, 54950\, United States
CATEGORIES:FREE,Indoor Event,Library/Museum,Life Stages And Special Communities,Storytime,Youth & Family Programs
GEO:44.6712452;-88.8889175
X-APPLE-STRUCTURED-LOCATION;VALUE=URI;X-ADDRESS=Marion Public Library North Main Street 120 Marion Wisconsin 54950 United States;X-APPLE-RADIUS=500;X-TITLE=North Main Street 120:geo:-88.8889175,44.6712452
END:VEVENT
BEGIN:VEVENT
DTSTART;TZID=America/Chicago:20260420T103000
DTEND;TZID=America/Chicago:20260420T113000
DTSTAMP:20260423T042137
CREATED:20260420T061830Z
LAST-MODIFIED:20260420T061832Z
UID:10015205-1776681000-1776684600@ruralnewfamilies.com
SUMMARY:Oconto Falls Playgroup
DESCRIPTION:Join us for playgroup every Monday as your schedule allows!  Activities for children ages infants to 4/5 years old!  Toy stations\, stories and snacks!
URL:https://ruralnewfamilies.com/event/oconto-falls-playgroup-2/2026-04-20/
LOCATION:Oconto Falls Library\, North Main Street 251\, Oconto Falls\, WI\, 54154\, United States
CATEGORIES:FREE,Library/Museum,Storytime
GEO:44.876309;-88.1455453
X-APPLE-STRUCTURED-LOCATION;VALUE=URI;X-ADDRESS=Oconto Falls Library North Main Street 251 Oconto Falls WI 54154 United States;X-APPLE-RADIUS=500;X-TITLE=North Main Street 251:geo:-88.1455453,44.876309
END:VEVENT
BEGIN:VEVENT
DTSTART;TZID=America/Chicago:20260420T140000
DTEND;TZID=America/Chicago:20260420T150000
DTSTAMP:20260423T042137
CREATED:20260419T034302Z
LAST-MODIFIED:20260419T034304Z
UID:10013158-1776693600-1776697200@ruralnewfamilies.com
SUMMARY:🌍 Homeschool Hop: Earth Day
DESCRIPTION:Homeschool families celebrate Earth Day with an upcycled project\, something to plant\, and a snack!
URL:https://ruralnewfamilies.com/event/%f0%9f%8c%8d-homeschool-hop-earth-day/
LOCATION:Shawano County Library\, 128 S Sawyer St\, Shawano\, WI 54166\, USA\, South Sawyer Street 128\, Shawano\, WI\, 54166\, United States
CATEGORIES:FREE,Homeschool/Virtual School,Library/Museum
GEO:44.7810031;-88.6071624
X-APPLE-STRUCTURED-LOCATION;VALUE=URI;X-ADDRESS=Shawano County Library 128 S Sawyer St Shawano WI 54166 USA South Sawyer Street 128 Shawano WI 54166 United States;X-APPLE-RADIUS=500;X-TITLE=South Sawyer Street 128:geo:-88.6071624,44.7810031
END:VEVENT
BEGIN:VEVENT
DTSTART;TZID=America/Chicago:20260420T180000
DTEND;TZID=America/Chicago:20260420T210000
DTSTAMP:20260423T042137
CREATED:20260316T220923Z
LAST-MODIFIED:20260316T220926Z
UID:10012312-1776708000-1776718800@ruralnewfamilies.com
SUMMARY:Author Visit: Annelise Ryan
DESCRIPTION:Wisconsin author Annelise Ryan will be talking about her best-selling mystery novels. Her latest novel is the 4th book in her Monster Hunter Series Monster in the Moonlight. There will be books available for purchase using cash\, PayPal\, or Venmo. \n\n\n\nAbout the Author
URL:https://ruralnewfamilies.com/event/author-visit-annelise-ryan/
LOCATION:Shawano County Library\, 128 S Sawyer St\, Shawano\, WI 54166\, USA\, South Sawyer Street 128\, Shawano\, WI\, 54166\, United States
CATEGORIES:Adults Night Out,FREE,Indoor Event,Library/Museum,Shopping,Speaker Series
GEO:44.7810031;-88.6071624
X-APPLE-STRUCTURED-LOCATION;VALUE=URI;X-ADDRESS=Shawano County Library 128 S Sawyer St Shawano WI 54166 USA South Sawyer Street 128 Shawano WI 54166 United States;X-APPLE-RADIUS=500;X-TITLE=South Sawyer Street 128:geo:-88.6071624,44.7810031
END:VEVENT
BEGIN:VEVENT
DTSTART;TZID=America/Chicago:20260421T080000
DTEND;TZID=America/Chicago:20260421T170000
DTSTAMP:20260423T042137
CREATED:20260404T022756Z
LAST-MODIFIED:20260404T022759Z
UID:10013176-1776758400-1776790800@ruralnewfamilies.com
SUMMARY:Free Library Programming
DESCRIPTION:
URL:https://ruralnewfamilies.com/event/free-library-programming/2026-04-21/
LOCATION:Birnamwood Library\, 337 Main St\, Birnamwood\, Wisconsin\, United States
CATEGORIES:FREE,Library/Museum
GEO:44.9292549;-89.2098876
X-APPLE-STRUCTURED-LOCATION;VALUE=URI;X-ADDRESS=Birnamwood Library 337 Main St Birnamwood Wisconsin United States;X-APPLE-RADIUS=500;X-TITLE=337 Main St:geo:-89.2098876,44.9292549
END:VEVENT
BEGIN:VEVENT
DTSTART;TZID=America/Chicago:20260421T103000
DTEND;TZID=America/Chicago:20260421T110000
DTSTAMP:20260423T042138
CREATED:20250610T035623Z
LAST-MODIFIED:20250610T035626Z
UID:10009836-1776767400-1776769200@ruralnewfamilies.com
SUMMARY:📚 Bonduel/Story Time
DESCRIPTION:NEW DAY AND TIME! Bring the little ones to the library for a story\, a song\, and a fun craft!
URL:https://ruralnewfamilies.com/event/%f0%9f%93%9a-bonduel-story-time/2026-04-21/
LOCATION:Bonduel Library\, North Washington Street 125\, Bonduel\, WI\, 54107\, United States
CATEGORIES:FREE,Library/Museum,Storytime,Summer Reading Program
GEO:44.7384574;-88.4412828
X-APPLE-STRUCTURED-LOCATION;VALUE=URI;X-ADDRESS=Bonduel Library North Washington Street 125 Bonduel WI 54107 United States;X-APPLE-RADIUS=500;X-TITLE=North Washington Street 125:geo:-88.4412828,44.7384574
END:VEVENT
BEGIN:VEVENT
DTSTART;TZID=America/Chicago:20260421T103000
DTEND;TZID=America/Chicago:20260421T113000
DTSTAMP:20260423T042138
CREATED:20260420T062125Z
LAST-MODIFIED:20260420T062127Z
UID:10015213-1776767400-1776771000@ruralnewfamilies.com
SUMMARY:👛 Bank Storytime
DESCRIPTION:Join us in the Children’s Corner with a Guest Reader from NEW Credit Union.  We’ll have songs\, stories and a bank-themed craft.
URL:https://ruralnewfamilies.com/event/%f0%9f%91%9b-bank-storytime/
LOCATION:Oconto Falls Library\, North Main Street 251\, Oconto Falls\, WI\, 54154\, United States
CATEGORIES:FREE,Library/Museum,Storytime
GEO:44.876309;-88.1455453
X-APPLE-STRUCTURED-LOCATION;VALUE=URI;X-ADDRESS=Oconto Falls Library North Main Street 251 Oconto Falls WI 54154 United States;X-APPLE-RADIUS=500;X-TITLE=North Main Street 251:geo:-88.1455453,44.876309
END:VEVENT
BEGIN:VEVENT
DTSTART;TZID=America/Chicago:20260422T080000
DTEND;TZID=America/Chicago:20260422T170000
DTSTAMP:20260423T042138
CREATED:20260404T022756Z
LAST-MODIFIED:20260404T022759Z
UID:10013177-1776844800-1776877200@ruralnewfamilies.com
SUMMARY:Free Library Programming
DESCRIPTION:
URL:https://ruralnewfamilies.com/event/free-library-programming/2026-04-22/
LOCATION:Birnamwood Library\, 337 Main St\, Birnamwood\, Wisconsin\, United States
CATEGORIES:FREE,Library/Museum
GEO:44.9292549;-89.2098876
X-APPLE-STRUCTURED-LOCATION;VALUE=URI;X-ADDRESS=Birnamwood Library 337 Main St Birnamwood Wisconsin United States;X-APPLE-RADIUS=500;X-TITLE=337 Main St:geo:-89.2098876,44.9292549
END:VEVENT
BEGIN:VEVENT
DTSTART;TZID=America/Chicago:20260422T100000
DTEND;TZID=America/Chicago:20260422T110000
DTSTAMP:20260423T042138
CREATED:20250820T034700Z
LAST-MODIFIED:20250820T034702Z
UID:10010934-1776852000-1776855600@ruralnewfamilies.com
SUMMARY:Drop In Playgroup
DESCRIPTION:Join Miss Kelly for drop-in playgroup!   \n\n\n\nStorytime\, free play\, snack\, music\, fun activities!
URL:https://ruralnewfamilies.com/event/drop-in-playgroup-2/2026-04-22/
LOCATION:Marion Public Library\, North Main Street 120\, Marion\, Wisconsin\, 54950\, United States
CATEGORIES:FREE,Indoor Event,Library/Museum,Storytime
GEO:44.6712452;-88.8889175
X-APPLE-STRUCTURED-LOCATION;VALUE=URI;X-ADDRESS=Marion Public Library North Main Street 120 Marion Wisconsin 54950 United States;X-APPLE-RADIUS=500;X-TITLE=North Main Street 120:geo:-88.8889175,44.6712452
END:VEVENT
BEGIN:VEVENT
DTSTART;TZID=America/Chicago:20260422T153000
DTEND;TZID=America/Chicago:20260422T183000
DTSTAMP:20260423T042138
CREATED:20260422T182357Z
LAST-MODIFIED:20260422T182358Z
UID:10015243-1776871800-1776882600@ruralnewfamilies.com
SUMMARY:🌍 Let's Go Compost!
DESCRIPTION:Celebrate Earth Day with us!Join the library’s Wiggly Worm Team and help us build a worm bin.Meet our squirmy worm friends\, feed them food scraps\, and see how they turn leftovers into awesome magic dirt!No registration is required.
URL:https://ruralnewfamilies.com/event/%f0%9f%8c%8d-lets-go-compost/
LOCATION:Sturm Memorial Library\, North Bridge Street 130\, Manawa\, Wisconsin\, 54949\, United States
CATEGORIES:Earth Day,FREE,Library/Museum
GEO:44.4667058;-88.9196516
X-APPLE-STRUCTURED-LOCATION;VALUE=URI;X-ADDRESS=Sturm Memorial Library North Bridge Street 130 Manawa Wisconsin 54949 United States;X-APPLE-RADIUS=500;X-TITLE=North Bridge Street 130:geo:-88.9196516,44.4667058
END:VEVENT
BEGIN:VEVENT
DTSTART;TZID=America/Chicago:20260423T080000
DTEND;TZID=America/Chicago:20260423T170000
DTSTAMP:20260423T042138
CREATED:20260404T022756Z
LAST-MODIFIED:20260404T022759Z
UID:10013178-1776931200-1776963600@ruralnewfamilies.com
SUMMARY:Free Library Programming
DESCRIPTION:
URL:https://ruralnewfamilies.com/event/free-library-programming/2026-04-23/
LOCATION:Birnamwood Library\, 337 Main St\, Birnamwood\, Wisconsin\, United States
CATEGORIES:FREE,Library/Museum
GEO:44.9292549;-89.2098876
X-APPLE-STRUCTURED-LOCATION;VALUE=URI;X-ADDRESS=Birnamwood Library 337 Main St Birnamwood Wisconsin United States;X-APPLE-RADIUS=500;X-TITLE=337 Main St:geo:-89.2098876,44.9292549
END:VEVENT
BEGIN:VEVENT
DTSTART;TZID=America/Chicago:20260423T151500
DTEND;TZID=America/Chicago:20260423T163000
DTSTAMP:20260423T042138
CREATED:20260128T041032Z
LAST-MODIFIED:20260128T041035Z
UID:10012185-1776957300-1776961800@ruralnewfamilies.com
SUMMARY:Lego Club
DESCRIPTION:Join us every month for Lego Club!  We’ll be meeting in the lower level!   \n\n\n\n \n\n\n\nKids under 8 will need to bring an adult.
URL:https://ruralnewfamilies.com/event/lego-club-4/2026-04-23/
LOCATION:Marion Public Library\, North Main Street 120\, Marion\, Wisconsin\, 54950\, United States
CATEGORIES:FREE,Library/Museum
GEO:44.6712452;-88.8889175
X-APPLE-STRUCTURED-LOCATION;VALUE=URI;X-ADDRESS=Marion Public Library North Main Street 120 Marion Wisconsin 54950 United States;X-APPLE-RADIUS=500;X-TITLE=North Main Street 120:geo:-88.8889175,44.6712452
END:VEVENT
BEGIN:VEVENT
DTSTART;TZID=America/Chicago:20260424T080000
DTEND;TZID=America/Chicago:20260424T170000
DTSTAMP:20260423T042138
CREATED:20260404T022756Z
LAST-MODIFIED:20260404T022759Z
UID:10013179-1777017600-1777050000@ruralnewfamilies.com
SUMMARY:Free Library Programming
DESCRIPTION:
URL:https://ruralnewfamilies.com/event/free-library-programming/2026-04-24/
LOCATION:Birnamwood Library\, 337 Main St\, Birnamwood\, Wisconsin\, United States
CATEGORIES:FREE,Library/Museum
GEO:44.9292549;-89.2098876
X-APPLE-STRUCTURED-LOCATION;VALUE=URI;X-ADDRESS=Birnamwood Library 337 Main St Birnamwood Wisconsin United States;X-APPLE-RADIUS=500;X-TITLE=337 Main St:geo:-89.2098876,44.9292549
END:VEVENT
BEGIN:VEVENT
DTSTART;TZID=America/Chicago:20260424T140000
DTEND;TZID=America/Chicago:20260424T160000
DTSTAMP:20260423T042138
CREATED:20260109T165539Z
LAST-MODIFIED:20260109T165542Z
UID:10012059-1777039200-1777046400@ruralnewfamilies.com
SUMMARY:Community Craft Connection
DESCRIPTION:Bring a craft or project to work on while visiting with your neighbors!Fridays January through May 2:00 PM to 4:00 PMNo registration is required. We can’t wait to see what you’re working on!Food and drink are welcome.Clean-up is just like at home. If you make a mess\, clean it up. Ask for cleaning supplies when needed.If the meeting room is needed for another library purpose\, space for the Community Craft Connection will be provided in the magazine area.Community Craft Connection is self-directed. Librarians will be in the building but not leading this group.
URL:https://ruralnewfamilies.com/event/community-craft-connection-2/2026-04-24/
LOCATION:Sturm Memorial Library\, North Bridge Street 130\, Manawa\, Wisconsin\, 54949\, United States
CATEGORIES:DIY Crafts,FREE,Indoor Event,Library/Museum,Life Stages And Special Communities
GEO:44.4667058;-88.9196516
X-APPLE-STRUCTURED-LOCATION;VALUE=URI;X-ADDRESS=Sturm Memorial Library North Bridge Street 130 Manawa Wisconsin 54949 United States;X-APPLE-RADIUS=500;X-TITLE=North Bridge Street 130:geo:-88.9196516,44.4667058
END:VEVENT
BEGIN:VEVENT
DTSTART;TZID=America/Chicago:20260427T080000
DTEND;TZID=America/Chicago:20260427T170000
DTSTAMP:20260423T042138
CREATED:20260404T022756Z
LAST-MODIFIED:20260404T022759Z
UID:10013180-1777276800-1777309200@ruralnewfamilies.com
SUMMARY:Free Library Programming
DESCRIPTION:
URL:https://ruralnewfamilies.com/event/free-library-programming/2026-04-27/
LOCATION:Birnamwood Library\, 337 Main St\, Birnamwood\, Wisconsin\, United States
CATEGORIES:FREE,Library/Museum
GEO:44.9292549;-89.2098876
X-APPLE-STRUCTURED-LOCATION;VALUE=URI;X-ADDRESS=Birnamwood Library 337 Main St Birnamwood Wisconsin United States;X-APPLE-RADIUS=500;X-TITLE=337 Main St:geo:-89.2098876,44.9292549
END:VEVENT
BEGIN:VEVENT
DTSTART;TZID=America/Chicago:20260427T101500
DTEND;TZID=America/Chicago:20260427T111500
DTSTAMP:20260423T042138
CREATED:20260128T041836Z
LAST-MODIFIED:20260128T041921Z
UID:10012199-1777284900-1777288500@ruralnewfamilies.com
SUMMARY:Babygarten
DESCRIPTION:An event for babies!  Come\, play\, learn and grow together!  \n\n\n\nActivities include: \n\n\n\n\nStorytime and singing\n\n\n\nNursery Rhymes\n\n\n\nSocial Playtime\n\n\n\nCraft (once per month)
URL:https://ruralnewfamilies.com/event/babygarten-2/2026-04-27/
LOCATION:Marion Public Library\, North Main Street 120\, Marion\, Wisconsin\, 54950\, United States
CATEGORIES:FREE,Indoor Event,Library/Museum,Life Stages And Special Communities,Storytime,Youth & Family Programs
GEO:44.6712452;-88.8889175
X-APPLE-STRUCTURED-LOCATION;VALUE=URI;X-ADDRESS=Marion Public Library North Main Street 120 Marion Wisconsin 54950 United States;X-APPLE-RADIUS=500;X-TITLE=North Main Street 120:geo:-88.8889175,44.6712452
END:VEVENT
END:VCALENDAR