BEGIN:VCALENDAR
VERSION:2.0
PRODID:-//Rural Northeast Wisconsin Families - ECPv6.15.17//NONSGML v1.0//EN
CALSCALE:GREGORIAN
METHOD:PUBLISH
X-WR-CALNAME:Rural Northeast Wisconsin Families
X-ORIGINAL-URL:https://ruralnewfamilies.com
X-WR-CALDESC:Events for Rural Northeast Wisconsin Families
REFRESH-INTERVAL;VALUE=DURATION:PT1H
X-Robots-Tag:noindex
X-PUBLISHED-TTL:PT1H
BEGIN:VTIMEZONE
TZID:America/Chicago
BEGIN:DAYLIGHT
TZOFFSETFROM:-0600
TZOFFSETTO:-0500
TZNAME:CDT
DTSTART:20250309T080000
END:DAYLIGHT
BEGIN:STANDARD
TZOFFSETFROM:-0500
TZOFFSETTO:-0600
TZNAME:CST
DTSTART:20251102T070000
END:STANDARD
BEGIN:DAYLIGHT
TZOFFSETFROM:-0600
TZOFFSETTO:-0500
TZNAME:CDT
DTSTART:20260308T080000
END:DAYLIGHT
BEGIN:STANDARD
TZOFFSETFROM:-0500
TZOFFSETTO:-0600
TZNAME:CST
DTSTART:20261101T070000
END:STANDARD
BEGIN:DAYLIGHT
TZOFFSETFROM:-0600
TZOFFSETTO:-0500
TZNAME:CDT
DTSTART:20270314T080000
END:DAYLIGHT
BEGIN:STANDARD
TZOFFSETFROM:-0500
TZOFFSETTO:-0600
TZNAME:CST
DTSTART:20271107T070000
END:STANDARD
END:VTIMEZONE
BEGIN:VEVENT
DTSTART;TZID=America/Chicago:20260307T093000
DTEND;TZID=America/Chicago:20260307T120000
DTSTAMP:20260307T024437
CREATED:20260108T160337Z
LAST-MODIFIED:20260128T002743Z
UID:10012040-1772875800-1772884800@ruralnewfamilies.com
SUMMARY:🥾 🍁 Shawano Pathways Winter Hike - Maple Syrup Hike
DESCRIPTION:Shawano Pathways will be hosting five winter hikes in 2026. Hikes are free (donations appreciated) and all are encouraged to participate.  \n\n\n\n**Note** – Product links below are affiliate links. \n\n\n\nNote: No RSVP is required.  Please be sure to arrive 15 minutes early.  To save time\, fill out the Annual Waiver online ahead of time. \n\n\n\nWhat to Expect: \n\n\n\n\nAll hikes begin within 15 minutes of Downtown Shawano – various hike lengths are offered at each event to encourage hikers of all abilities to participate\n\n\n\nArrive at least 15 minutes early to register and get gear on\n\n\n\nFREE – donations appreciated\n\n\n\nWell-behaved\, leashed Dogs are welcome\n\n\n\nNOTE – This location does NOT have public restrooms available.\n\n\n\nThis Event Is NOT wheel-chair/stroller accessible.\n\n\n\nWeather can cause cancellations. Watch for updates on our FB page or website\n\n\n\nBring your own snowshoes and water\n\n\n\nIn the event of Poor Snow Conditions – wear cleats or YakTrax (faster delivery option\,  Under $10 and fast shipping option) over boots\n\n\n\nFor Moonlight hikes\, bring headlamp (multi-purpose lamp only) if you have one\n\n\n\nTo Save time\, fill out the Waiver/Emergency info online ahead of time\n\n\n\nQuestions – see flyer below.
URL:https://ruralnewfamilies.com/event/%f0%9f%a5%be-%f0%9f%8d%81-shawano-pathways-winter-hike-maple-syrup-hike/
LOCATION:Sugar Shack Trails\, N7061 Ash Rd\, Shawano\, Wisconsin\, 54166\, United States
CATEGORIES:Community Events & Parades,Community Resource,FREE,Hunting/Fishing/Outdoor Sports/Education,Kids Outdoors,Natural Resources Protection,Outdoor Event,Plan Ahead,Youth & Family Programs
GEO:44.8464336;-88.6484229
X-APPLE-STRUCTURED-LOCATION;VALUE=URI;X-ADDRESS=Sugar Shack Trails N7061 Ash Rd Shawano Wisconsin 54166 United States;X-APPLE-RADIUS=500;X-TITLE=N7061 Ash Rd:geo:-88.6484229,44.8464336
END:VEVENT
BEGIN:VEVENT
DTSTART;TZID=America/Chicago:20260312T180000
DTEND;TZID=America/Chicago:20260312T210000
DTSTAMP:20260307T024437
CREATED:20260227T030023Z
LAST-MODIFIED:20260227T030025Z
UID:10012767-1773338400-1773349200@ruralnewfamilies.com
SUMMARY:🇺🇸 Clintonville Board of Education Candidate Debate
DESCRIPTION:Come to a fun and engaging Candidate Debate where the audience is in charge of the questions! \n\n\n\nCandidates are NOT given any questions prior to the debate.   \n\n\n\nTentative Schedule of Events: \n\n\n\n\n6pm – Arrive and fill out question cards for the candidates\n\n\n\n6:30pm – Special Guest Speaker (TBD)\n\n\n\n7pm – Candidate Debate\n\n\n\n8pm – Informal Meet and Greet with the candidates\n\n\n\n\nWhat to expect: \n\n\n\n\nThere will be index cards and pencils available for you to write your questions when you arrive.\n\n\n\nModerator Kathy will read the questions to the candidates.  \n\n\n\nFamily-friendly event.  The candidates want to hear from taxpayers AND students.  (This isn’t a case of  🎶”I’d like to help you\, but you’re too young to vote” 🎶 (Summertime Blues)\n\n\n\nCandidates will be given a set amount of time for questions.  \n\n\n\nThere is plenty of time to laugh and have fun.  This event is completely audience-driven.  It’s a great introduction for kids to see our voting process in action.  \n\n\n\nThere will be time after the debate for an informal meet and greet with the candidates. \n\n\n\nBring cash for snacks and beverages at the venue. \n\n\n\n\n\n\n\n\n \n\n\n\nThis event will be recorded.  The recording will be available on YouTube following the event.  The link will be shared here.
URL:https://ruralnewfamilies.com/event/%f0%9f%87%ba%f0%9f%87%b8-clintonville-board-of-education-candidate-debate/
LOCATION:Memory Lanes\, County Highway I 250\, Clintonville\, Wisconsin\, 54929\, United States
CATEGORIES:Community Events & Parades,Election,FREE,Inclusive Events,Plan Ahead,School Board
ATTACH;FMTTYPE=image/png:https://ruralnewfamilies.com/wp-content/uploads/2026/02/Clintonville-School-District-board-of-Education-Debatefinal.png
GEO:44.6057597;-88.7605982
X-APPLE-STRUCTURED-LOCATION;VALUE=URI;X-ADDRESS=Memory Lanes County Highway I 250 Clintonville Wisconsin 54929 United States;X-APPLE-RADIUS=500;X-TITLE=County Highway I 250:geo:-88.7605982,44.6057597
END:VEVENT
BEGIN:VEVENT
DTSTART;TZID=America/Chicago:20260330T080000
DTEND;TZID=America/Chicago:20260330T170000
DTSTAMP:20260307T024437
CREATED:20260104T075628Z
LAST-MODIFIED:20260104T075733Z
UID:10012028-1774857600-1774890000@ruralnewfamilies.com
SUMMARY:🚜 Tractor Safety Class
DESCRIPTION:Prepares youth ages 12–16 to meet certification requirements under Wisconsin Act 455 to operate tractors and farm machinery for their own family on public roads. The course also fulfills U.S. Department of Labor provisions for youth ages 14–15 employed on farms other than their family’s. Instruction covers equipment safety\, hazard recognition\, basic maintenance\, and the legal responsibilities of machinery operation. Students gain experience through a combination of classroom instruction\, hands-on activities\, and practical driving exercises. \n\n\n\nThis course is designed for students ages 12 and up. Teaching youth a safe attitude when working with farm equipment\, agricultural hazards\, and animals. Federal law and the State of Wisconsin require youth that will be operating farm equipment and implements on the highway or working for someone other than a family farm to complete this course. To receive certification\, students must complete a 24-hour training course\, pass a written exam\, pre-trip inspection\, and a driving exam. Students who successfully complete this course will receive State of Wisconsin certification and if 14 years of age or older\, Federal Certification. \n\n\n\nSpace is limited to 12 Participants \n\n\n\nRegistration Deadline is March 6th \n\n\n\n\n\n\n\nAdditional Class information can be found here along with additional class offerings \n\n\n\n\nChilton\n\n\n\nWautoma\n\n\n\nWaupaca\n\n\n\nAppeton – Service Motor Company Agriculture Center\n\n\n\nClintonville (seen in the flyer above)\n\n\n\n\n \n\n\n\n \n\n\n\n**Publisher’s Personal Note** – My Son took this class when we first moved to the Clintonville Area 10 years ago at the advice of my aunt.  I cannot recommend this class enough.  It helped him with trailer backing\, awareness of surroundings\, and many other “life skills.”
URL:https://ruralnewfamilies.com/event/%f0%9f%9a%9c-tractor-safety-class/
LOCATION:FVTC Clintonville\, South Main Street 525\, Clintonville\, WI\, 54929\, United States
CATEGORIES:Class,Health and Safety,Hunting/Fishing/Outdoor Sports/Education,Kids Outdoors,Plan Ahead,RSVP - Pre-Registration Required,Teen,Youth & Family Programs
GEO:44.6011221;-88.7646531
X-APPLE-STRUCTURED-LOCATION;VALUE=URI;X-ADDRESS=FVTC Clintonville South Main Street 525 Clintonville WI 54929 United States;X-APPLE-RADIUS=500;X-TITLE=South Main Street 525:geo:-88.7646531,44.6011221
END:VEVENT
BEGIN:VEVENT
DTSTART;TZID=America/Chicago:20260402T100000
DTEND;TZID=America/Chicago:20260402T170000
DTSTAMP:20260307T024437
CREATED:20260204T035744Z
LAST-MODIFIED:20260204T035746Z
UID:10012301-1775124000-1775149200@ruralnewfamilies.com
SUMMARY:Milwaukee Public Museum - FREE Admission
DESCRIPTION:Come see the Permanent Exhibits for FREE!  Children must be accompanied by an adult to receive free admission. \n\n\n\nReservations\n\n\n\nAdmission is free\, but we strongly recommend advance reservations.* Walk-up tickets are not guaranteed. \n\n\n\nNOTE: Please stay tuned as future dates are added. Reservations for Kohl’s Thank You Thursday can be made 7 days prior to the dates listed above. \n\n\n\nChildren ages 0-3 must be included when making your reservation.
URL:https://ruralnewfamilies.com/event/milwaukee-public-museum-free-admission/2026-04-02/
LOCATION:Milwaukee Public Museum\, 800 West Wells St\, Milwaukee\, Wisconsin\, United States
CATEGORIES:Community Events & Parades,Community Resource,FREE,Indoor Event,Library/Museum,Music, Arts, Culture, & Tours,Plan Ahead,Plan Ahead- RSVP Suggested- not required,Youth & Family Programs
GEO:43.0406616;-87.9211463
X-APPLE-STRUCTURED-LOCATION;VALUE=URI;X-ADDRESS=Milwaukee Public Museum 800 West Wells St Milwaukee Wisconsin United States;X-APPLE-RADIUS=500;X-TITLE=800 West Wells St:geo:-87.9211463,43.0406616
END:VEVENT
BEGIN:VEVENT
DTSTART;TZID=America/Chicago:20260424T173000
DTEND;TZID=America/Chicago:20260424T223000
DTSTAMP:20260307T024437
CREATED:20260217T180321Z
LAST-MODIFIED:20260217T180323Z
UID:10012634-1777051800-1777069800@ruralnewfamilies.com
SUMMARY:🎹 Duel it for the Kids
DESCRIPTION:Duel it for the Kids provides support for the Shawano Dollars for Scholars scholarship program. Your generous support of our endowment will ensure that we can continue to award scholarships to every graduating senior student within the Shawano School District who attends an accredited post-secondary certificate program\, trade program\, technical college\, college\, or university.Duel it for the Kids features an evening of music with the popular Felix and Fingers Dueling Pianos. High energy and interactive act with music and comedy! \n\n\n\nThis event is fully wheelchair accessible with accessible\, public restrooms. \n\n\n\nClick here to register \n\n\n\n2026 Duel It Flyer-Sponsor Levels-FormDownload
URL:https://ruralnewfamilies.com/event/%f0%9f%8e%b9-duel-it-for-the-kids/
LOCATION:Shawano County Park\, Lake Drive W5785\, Shawano\, Wisconsin\, 54166\, United States
CATEGORIES:Adults Night Out,Concert/Performances,Fundraiser,Inclusive Events,Indoor Event,Live Music,Music, Arts, Culture, & Tours,Plan Ahead,RSVP - Pre-Registration Required,Wheel-Chair Accessible
GEO:44.8274153;-88.5299766
X-APPLE-STRUCTURED-LOCATION;VALUE=URI;X-ADDRESS=Shawano County Park Lake Drive W5785 Shawano Wisconsin 54166 United States;X-APPLE-RADIUS=500;X-TITLE=Lake Drive W5785:geo:-88.5299766,44.8274153
END:VEVENT
BEGIN:VEVENT
DTSTART;TZID=America/Chicago:20260507T100000
DTEND;TZID=America/Chicago:20260507T170000
DTSTAMP:20260307T024437
CREATED:20260204T035744Z
LAST-MODIFIED:20260204T035746Z
UID:10012302-1778148000-1778173200@ruralnewfamilies.com
SUMMARY:Milwaukee Public Museum - FREE Admission
DESCRIPTION:Come see the Permanent Exhibits for FREE!  Children must be accompanied by an adult to receive free admission. \n\n\n\nReservations\n\n\n\nAdmission is free\, but we strongly recommend advance reservations.* Walk-up tickets are not guaranteed. \n\n\n\nNOTE: Please stay tuned as future dates are added. Reservations for Kohl’s Thank You Thursday can be made 7 days prior to the dates listed above. \n\n\n\nChildren ages 0-3 must be included when making your reservation.
URL:https://ruralnewfamilies.com/event/milwaukee-public-museum-free-admission/2026-05-07/
LOCATION:Milwaukee Public Museum\, 800 West Wells St\, Milwaukee\, Wisconsin\, United States
CATEGORIES:Community Events & Parades,Community Resource,FREE,Indoor Event,Library/Museum,Music, Arts, Culture, & Tours,Plan Ahead,Plan Ahead- RSVP Suggested- not required,Youth & Family Programs
GEO:43.0406616;-87.9211463
X-APPLE-STRUCTURED-LOCATION;VALUE=URI;X-ADDRESS=Milwaukee Public Museum 800 West Wells St Milwaukee Wisconsin United States;X-APPLE-RADIUS=500;X-TITLE=800 West Wells St:geo:-87.9211463,43.0406616
END:VEVENT
BEGIN:VEVENT
DTSTART;TZID=America/Chicago:20260604T100000
DTEND;TZID=America/Chicago:20260604T170000
DTSTAMP:20260307T024437
CREATED:20260204T035744Z
LAST-MODIFIED:20260204T035746Z
UID:10012303-1780567200-1780592400@ruralnewfamilies.com
SUMMARY:Milwaukee Public Museum - FREE Admission
DESCRIPTION:Come see the Permanent Exhibits for FREE!  Children must be accompanied by an adult to receive free admission. \n\n\n\nReservations\n\n\n\nAdmission is free\, but we strongly recommend advance reservations.* Walk-up tickets are not guaranteed. \n\n\n\nNOTE: Please stay tuned as future dates are added. Reservations for Kohl’s Thank You Thursday can be made 7 days prior to the dates listed above. \n\n\n\nChildren ages 0-3 must be included when making your reservation.
URL:https://ruralnewfamilies.com/event/milwaukee-public-museum-free-admission/2026-06-04/
LOCATION:Milwaukee Public Museum\, 800 West Wells St\, Milwaukee\, Wisconsin\, United States
CATEGORIES:Community Events & Parades,Community Resource,FREE,Indoor Event,Library/Museum,Music, Arts, Culture, & Tours,Plan Ahead,Plan Ahead- RSVP Suggested- not required,Youth & Family Programs
GEO:43.0406616;-87.9211463
X-APPLE-STRUCTURED-LOCATION;VALUE=URI;X-ADDRESS=Milwaukee Public Museum 800 West Wells St Milwaukee Wisconsin United States;X-APPLE-RADIUS=500;X-TITLE=800 West Wells St:geo:-87.9211463,43.0406616
END:VEVENT
BEGIN:VEVENT
DTSTART;TZID=America/Chicago:20260702T100000
DTEND;TZID=America/Chicago:20260702T170000
DTSTAMP:20260307T024437
CREATED:20260204T035744Z
LAST-MODIFIED:20260204T035746Z
UID:10012304-1782986400-1783011600@ruralnewfamilies.com
SUMMARY:Milwaukee Public Museum - FREE Admission
DESCRIPTION:Come see the Permanent Exhibits for FREE!  Children must be accompanied by an adult to receive free admission. \n\n\n\nReservations\n\n\n\nAdmission is free\, but we strongly recommend advance reservations.* Walk-up tickets are not guaranteed. \n\n\n\nNOTE: Please stay tuned as future dates are added. Reservations for Kohl’s Thank You Thursday can be made 7 days prior to the dates listed above. \n\n\n\nChildren ages 0-3 must be included when making your reservation.
URL:https://ruralnewfamilies.com/event/milwaukee-public-museum-free-admission/2026-07-02/
LOCATION:Milwaukee Public Museum\, 800 West Wells St\, Milwaukee\, Wisconsin\, United States
CATEGORIES:Community Events & Parades,Community Resource,FREE,Indoor Event,Library/Museum,Music, Arts, Culture, & Tours,Plan Ahead,Plan Ahead- RSVP Suggested- not required,Youth & Family Programs
GEO:43.0406616;-87.9211463
X-APPLE-STRUCTURED-LOCATION;VALUE=URI;X-ADDRESS=Milwaukee Public Museum 800 West Wells St Milwaukee Wisconsin United States;X-APPLE-RADIUS=500;X-TITLE=800 West Wells St:geo:-87.9211463,43.0406616
END:VEVENT
BEGIN:VEVENT
DTSTART;TZID=America/Chicago:20260806T100000
DTEND;TZID=America/Chicago:20260806T170000
DTSTAMP:20260307T024437
CREATED:20260204T035744Z
LAST-MODIFIED:20260204T035746Z
UID:10012305-1786010400-1786035600@ruralnewfamilies.com
SUMMARY:Milwaukee Public Museum - FREE Admission
DESCRIPTION:Come see the Permanent Exhibits for FREE!  Children must be accompanied by an adult to receive free admission. \n\n\n\nReservations\n\n\n\nAdmission is free\, but we strongly recommend advance reservations.* Walk-up tickets are not guaranteed. \n\n\n\nNOTE: Please stay tuned as future dates are added. Reservations for Kohl’s Thank You Thursday can be made 7 days prior to the dates listed above. \n\n\n\nChildren ages 0-3 must be included when making your reservation.
URL:https://ruralnewfamilies.com/event/milwaukee-public-museum-free-admission/2026-08-06/
LOCATION:Milwaukee Public Museum\, 800 West Wells St\, Milwaukee\, Wisconsin\, United States
CATEGORIES:Community Events & Parades,Community Resource,FREE,Indoor Event,Library/Museum,Music, Arts, Culture, & Tours,Plan Ahead,Plan Ahead- RSVP Suggested- not required,Youth & Family Programs
GEO:43.0406616;-87.9211463
X-APPLE-STRUCTURED-LOCATION;VALUE=URI;X-ADDRESS=Milwaukee Public Museum 800 West Wells St Milwaukee Wisconsin United States;X-APPLE-RADIUS=500;X-TITLE=800 West Wells St:geo:-87.9211463,43.0406616
END:VEVENT
BEGIN:VEVENT
DTSTART;TZID=America/Chicago:20260903T100000
DTEND;TZID=America/Chicago:20260903T170000
DTSTAMP:20260307T024437
CREATED:20260204T035744Z
LAST-MODIFIED:20260204T035746Z
UID:10012306-1788429600-1788454800@ruralnewfamilies.com
SUMMARY:Milwaukee Public Museum - FREE Admission
DESCRIPTION:Come see the Permanent Exhibits for FREE!  Children must be accompanied by an adult to receive free admission. \n\n\n\nReservations\n\n\n\nAdmission is free\, but we strongly recommend advance reservations.* Walk-up tickets are not guaranteed. \n\n\n\nNOTE: Please stay tuned as future dates are added. Reservations for Kohl’s Thank You Thursday can be made 7 days prior to the dates listed above. \n\n\n\nChildren ages 0-3 must be included when making your reservation.
URL:https://ruralnewfamilies.com/event/milwaukee-public-museum-free-admission/2026-09-03/
LOCATION:Milwaukee Public Museum\, 800 West Wells St\, Milwaukee\, Wisconsin\, United States
CATEGORIES:Community Events & Parades,Community Resource,FREE,Indoor Event,Library/Museum,Music, Arts, Culture, & Tours,Plan Ahead,Plan Ahead- RSVP Suggested- not required,Youth & Family Programs
GEO:43.0406616;-87.9211463
X-APPLE-STRUCTURED-LOCATION;VALUE=URI;X-ADDRESS=Milwaukee Public Museum 800 West Wells St Milwaukee Wisconsin United States;X-APPLE-RADIUS=500;X-TITLE=800 West Wells St:geo:-87.9211463,43.0406616
END:VEVENT
BEGIN:VEVENT
DTSTART;TZID=America/Chicago:20261001T100000
DTEND;TZID=America/Chicago:20261001T170000
DTSTAMP:20260307T024437
CREATED:20260204T035744Z
LAST-MODIFIED:20260204T035746Z
UID:10012307-1790848800-1790874000@ruralnewfamilies.com
SUMMARY:Milwaukee Public Museum - FREE Admission
DESCRIPTION:Come see the Permanent Exhibits for FREE!  Children must be accompanied by an adult to receive free admission. \n\n\n\nReservations\n\n\n\nAdmission is free\, but we strongly recommend advance reservations.* Walk-up tickets are not guaranteed. \n\n\n\nNOTE: Please stay tuned as future dates are added. Reservations for Kohl’s Thank You Thursday can be made 7 days prior to the dates listed above. \n\n\n\nChildren ages 0-3 must be included when making your reservation.
URL:https://ruralnewfamilies.com/event/milwaukee-public-museum-free-admission/2026-10-01/
LOCATION:Milwaukee Public Museum\, 800 West Wells St\, Milwaukee\, Wisconsin\, United States
CATEGORIES:Community Events & Parades,Community Resource,FREE,Indoor Event,Library/Museum,Music, Arts, Culture, & Tours,Plan Ahead,Plan Ahead- RSVP Suggested- not required,Youth & Family Programs
GEO:43.0406616;-87.9211463
X-APPLE-STRUCTURED-LOCATION;VALUE=URI;X-ADDRESS=Milwaukee Public Museum 800 West Wells St Milwaukee Wisconsin United States;X-APPLE-RADIUS=500;X-TITLE=800 West Wells St:geo:-87.9211463,43.0406616
END:VEVENT
BEGIN:VEVENT
DTSTART;TZID=America/Chicago:20261105T100000
DTEND;TZID=America/Chicago:20261105T170000
DTSTAMP:20260307T024437
CREATED:20260204T035744Z
LAST-MODIFIED:20260204T035746Z
UID:10012308-1793872800-1793898000@ruralnewfamilies.com
SUMMARY:Milwaukee Public Museum - FREE Admission
DESCRIPTION:Come see the Permanent Exhibits for FREE!  Children must be accompanied by an adult to receive free admission. \n\n\n\nReservations\n\n\n\nAdmission is free\, but we strongly recommend advance reservations.* Walk-up tickets are not guaranteed. \n\n\n\nNOTE: Please stay tuned as future dates are added. Reservations for Kohl’s Thank You Thursday can be made 7 days prior to the dates listed above. \n\n\n\nChildren ages 0-3 must be included when making your reservation.
URL:https://ruralnewfamilies.com/event/milwaukee-public-museum-free-admission/2026-11-05/
LOCATION:Milwaukee Public Museum\, 800 West Wells St\, Milwaukee\, Wisconsin\, United States
CATEGORIES:Community Events & Parades,Community Resource,FREE,Indoor Event,Library/Museum,Music, Arts, Culture, & Tours,Plan Ahead,Plan Ahead- RSVP Suggested- not required,Youth & Family Programs
GEO:43.0406616;-87.9211463
X-APPLE-STRUCTURED-LOCATION;VALUE=URI;X-ADDRESS=Milwaukee Public Museum 800 West Wells St Milwaukee Wisconsin United States;X-APPLE-RADIUS=500;X-TITLE=800 West Wells St:geo:-87.9211463,43.0406616
END:VEVENT
BEGIN:VEVENT
DTSTART;TZID=America/Chicago:20261203T100000
DTEND;TZID=America/Chicago:20261203T170000
DTSTAMP:20260307T024437
CREATED:20260204T035744Z
LAST-MODIFIED:20260204T035746Z
UID:10012309-1796292000-1796317200@ruralnewfamilies.com
SUMMARY:Milwaukee Public Museum - FREE Admission
DESCRIPTION:Come see the Permanent Exhibits for FREE!  Children must be accompanied by an adult to receive free admission. \n\n\n\nReservations\n\n\n\nAdmission is free\, but we strongly recommend advance reservations.* Walk-up tickets are not guaranteed. \n\n\n\nNOTE: Please stay tuned as future dates are added. Reservations for Kohl’s Thank You Thursday can be made 7 days prior to the dates listed above. \n\n\n\nChildren ages 0-3 must be included when making your reservation.
URL:https://ruralnewfamilies.com/event/milwaukee-public-museum-free-admission/2026-12-03/
LOCATION:Milwaukee Public Museum\, 800 West Wells St\, Milwaukee\, Wisconsin\, United States
CATEGORIES:Community Events & Parades,Community Resource,FREE,Indoor Event,Library/Museum,Music, Arts, Culture, & Tours,Plan Ahead,Plan Ahead- RSVP Suggested- not required,Youth & Family Programs
GEO:43.0406616;-87.9211463
X-APPLE-STRUCTURED-LOCATION;VALUE=URI;X-ADDRESS=Milwaukee Public Museum 800 West Wells St Milwaukee Wisconsin United States;X-APPLE-RADIUS=500;X-TITLE=800 West Wells St:geo:-87.9211463,43.0406616
END:VEVENT
END:VCALENDAR