BEGIN:VCALENDAR
VERSION:2.0
PRODID:-//Rural Northeast Wisconsin Families - ECPv6.15.20//NONSGML v1.0//EN
CALSCALE:GREGORIAN
METHOD:PUBLISH
X-ORIGINAL-URL:https://ruralnewfamilies.com
X-WR-CALDESC:Events for Rural Northeast Wisconsin Families
REFRESH-INTERVAL;VALUE=DURATION:PT1H
X-Robots-Tag:noindex
X-PUBLISHED-TTL:PT1H
BEGIN:VTIMEZONE
TZID:America/Chicago
BEGIN:DAYLIGHT
TZOFFSETFROM:-0600
TZOFFSETTO:-0500
TZNAME:CDT
DTSTART:20250309T080000
END:DAYLIGHT
BEGIN:STANDARD
TZOFFSETFROM:-0500
TZOFFSETTO:-0600
TZNAME:CST
DTSTART:20251102T070000
END:STANDARD
BEGIN:DAYLIGHT
TZOFFSETFROM:-0600
TZOFFSETTO:-0500
TZNAME:CDT
DTSTART:20260308T080000
END:DAYLIGHT
BEGIN:STANDARD
TZOFFSETFROM:-0500
TZOFFSETTO:-0600
TZNAME:CST
DTSTART:20261101T070000
END:STANDARD
BEGIN:DAYLIGHT
TZOFFSETFROM:-0600
TZOFFSETTO:-0500
TZNAME:CDT
DTSTART:20270314T080000
END:DAYLIGHT
BEGIN:STANDARD
TZOFFSETFROM:-0500
TZOFFSETTO:-0600
TZNAME:CST
DTSTART:20271107T070000
END:STANDARD
END:VTIMEZONE
BEGIN:VEVENT
DTSTART;TZID=America/Chicago:20260314T080000
DTEND;TZID=America/Chicago:20260314T103000
DTSTAMP:20260422T105314
CREATED:20250509T201533Z
LAST-MODIFIED:20260410T205129Z
UID:10013235-1773475200-1773484200@ruralnewfamilies.com
SUMMARY:Ruby's Pantry - Clintonville
DESCRIPTION:Registration begins at 8:00amFood Bundles are available from 8a-10:30am \n\n\n\nCost $25/share of food – cash/exact change required \n\n\n\nNo income or residency requirements \n\n\n\nPlease make sure trunks are clear so food can be loaded directly into your trunk. \n\n\n\nFollow FB page for food items available. \n\n\n\nArrive early for your spot in line when registration opens.
URL:https://ruralnewfamilies.com/event/rubys-pantry-clintonville-8/2026-03-14/
LOCATION:600 S Main St\, Clintonville\, WI 54929\, USA
CATEGORIES:Community Resource
END:VEVENT
BEGIN:VEVENT
DTSTART;TZID=America/Chicago:20260314T080000
DTEND;TZID=America/Chicago:20260314T120000
DTSTAMP:20260422T105314
CREATED:20260221T053052Z
LAST-MODIFIED:20260221T053055Z
UID:10012723-1773475200-1773489600@ruralnewfamilies.com
SUMMARY:Winter Farmers Market - Stevens Point
DESCRIPTION:Join us for Brunch and Shopping!Brunch is a hot meal made with fresh ingredients by local farmers.  You can grab-n-go or stay and eat with us. \n\n\n\nThe farmers market features Local Farmers\, Makers\, Producers\, Local Businesses\, Unique Shopping Experiences and MORE! \n\n\n\nWho can’t wait for fresh greens?? Or missing blueberries? Live Music may be playing.  Vendors change each week. \n\n\n\nEBT and debit/credit is accepted
URL:https://ruralnewfamilies.com/event/winter-farmers-market-stevens-point/2026-03-14/
LOCATION:Boys and Girls Club- Stevens Point\, 941 Michigan Ave\, Stevens Point\, Wisconsin\, United States
CATEGORIES:Community Events & Parades,Community Meetings,Farmers Markets,Indoor Event,Shopping
GEO:44.5259648;-89.5637287
X-APPLE-STRUCTURED-LOCATION;VALUE=URI;X-ADDRESS=Boys and Girls Club- Stevens Point 941 Michigan Ave Stevens Point Wisconsin United States;X-APPLE-RADIUS=500;X-TITLE=941 Michigan Ave:geo:-89.5637287,44.5259648
END:VEVENT
BEGIN:VEVENT
DTSTART;TZID=America/Chicago:20260314T090000
DTEND;TZID=America/Chicago:20260314T120000
DTSTAMP:20260422T105314
CREATED:20260208T020239Z
LAST-MODIFIED:20260208T020518Z
UID:10012383-1773478800-1773489600@ruralnewfamilies.com
SUMMARY:🧑‍🌾🧅🍞 Wausau Winter Market
DESCRIPTION:Come to the Indoor Winter Farmers Market.   \n\n\n\nMushrooms\, Fresh Greens via Aquaponics\, Blueberries\, honey\, coffee\, fresh bakery\, pastries\, meat\, eggs\, cheese\, vegetables\, Brunch and MORE! \n\n\n\nThings to Know Before you go – There is a $2 fee for any debit/credit transaction. \n\n\n\nFor more information
URL:https://ruralnewfamilies.com/event/wausau-winter-market/2026-03-14/
LOCATION:John Marshall Elementary School\, 1918 Lamont St\, Wausau\, Wisconsin\, 54403\, United States
CATEGORIES:Community Events & Parades,Craft/Vendor Shows,Farmers Markets,FREE,Indoor Event,Shopping
GEO:44.9369784;-89.6245761
X-APPLE-STRUCTURED-LOCATION;VALUE=URI;X-ADDRESS=John Marshall Elementary School 1918 Lamont St Wausau Wisconsin 54403 United States;X-APPLE-RADIUS=500;X-TITLE=1918 Lamont St:geo:-89.6245761,44.9369784
END:VEVENT
BEGIN:VEVENT
DTSTART;TZID=America/Chicago:20260314T100000
DTEND;TZID=America/Chicago:20260314T123000
DTSTAMP:20260422T105314
CREATED:20260206T063108Z
LAST-MODIFIED:20260206T063110Z
UID:10012351-1773482400-1773491400@ruralnewfamilies.com
SUMMARY:Bonduel Free Clothing Swap
DESCRIPTION:Video to Help with Donations for the next Clothing SwapBonduel Free Clothing Swap
URL:https://ruralnewfamilies.com/event/bonduel-free-clothing-swap/
LOCATION:Bonduel Elementary School\, West Mill Street 404\, Bonduel\, WI\, 54107\, United States
CATEGORIES:Community Resource,FREE
GEO:44.737538;-88.453604
X-APPLE-STRUCTURED-LOCATION;VALUE=URI;X-ADDRESS=Bonduel Elementary School West Mill Street 404 Bonduel WI 54107 United States;X-APPLE-RADIUS=500;X-TITLE=West Mill Street 404:geo:-88.453604,44.737538
END:VEVENT
BEGIN:VEVENT
DTSTART;TZID=America/Chicago:20260314T110000
DTEND;TZID=America/Chicago:20260314T120000
DTSTAMP:20260422T105314
CREATED:20260208T060445Z
LAST-MODIFIED:20260208T060446Z
UID:10012476-1773486000-1773489600@ruralnewfamilies.com
SUMMARY:🐊Doc's Zoo - Alligator Feeding
DESCRIPTION:Come on out and visit Doc’s Zoo!  Alligators get fed every Saturday at 11am (sharp).  You’ll want to get there early enough to park and find your spot.  Leave enough time to wander around the zoo and see ALL the amazing animals.  If you run early – check out Doc’s Amazing Breakfast at Doc’s Timeline Saloon served from 7-11. \n\n\n\nBe sure to visit the indoor and outdoor animals.  If you have older kids\, be sure to check out Doc’s Museum as well.
URL:https://ruralnewfamilies.com/event/%f0%9f%90%8adocs-zoo-alligator-feeding-19/2026-03-14/
LOCATION:Doc’s Harley-Davidson\, Wisconsin 29 w2709\, Bonduel\, WI\, 54107\, United States
CATEGORIES:FREE,Kids Outdoors,Zoo
GEO:44.704505;-88.374849
X-APPLE-STRUCTURED-LOCATION;VALUE=URI;X-ADDRESS=Doc’s Harley-Davidson Wisconsin 29 w2709 Bonduel WI 54107 United States;X-APPLE-RADIUS=500;X-TITLE=Wisconsin 29 w2709:geo:-88.374849,44.704505
END:VEVENT
BEGIN:VEVENT
DTSTART;TZID=America/Chicago:20260314T140000
DTEND;TZID=America/Chicago:20260314T180000
DTSTAMP:20260422T105314
CREATED:20260306T210547Z
LAST-MODIFIED:20260306T210550Z
UID:10012789-1773496800-1773511200@ruralnewfamilies.com
SUMMARY:🍪 Girl Scout Cookie Booth
DESCRIPTION:It’s Girl Scout Cookie Time again!  Did you miss the pre-order?  No worries!  The girls are stocked and ready to help you! \n\n\n\nClick here for available cookie flavors – Booth selection may vary. (This troop sells the ABC Bakers – so Carmel Delights\, Peanut Butter Sandwich\, etc) \n\n\n\n\nExploremores (New)\n\n\n\nAdventurefuls\n\n\n\nTrefoils (Shortbread)\n\n\n\nCaramel deLites\n\n\n\nPeanut Butter Sandwich\n\n\n\nLemonades\n\n\n\nPeanut Butter Patties\n\n\n\nThin Mints
URL:https://ruralnewfamilies.com/event/%f0%9f%8d%aa-girl-scout-cookie-booth-3/
LOCATION:Charlie’s County Market\, 521 S Main St\, Shawano\, Wisconsin\, United States
CATEGORIES:Fundraiser,Girl Scout Cookie Booth,Shopping
GEO:44.7753356;-88.6098838
X-APPLE-STRUCTURED-LOCATION;VALUE=URI;X-ADDRESS=Charlie’s County Market 521 S Main St Shawano Wisconsin United States;X-APPLE-RADIUS=500;X-TITLE=521 S Main St:geo:-88.6098838,44.7753356
END:VEVENT
BEGIN:VEVENT
DTSTART;TZID=America/Chicago:20260314T180000
DTEND;TZID=America/Chicago:20260314T193000
DTSTAMP:20260422T105314
CREATED:20260222T021331Z
LAST-MODIFIED:20260222T021820Z
UID:10012733-1773511200-1773516600@ruralnewfamilies.com
SUMMARY:⛸️ Open Skate
DESCRIPTION:There are skates from little kid sizes to Adults.  There are also skate helpers for the beginner skaters to practice.
URL:https://ruralnewfamilies.com/event/%e2%9b%b8%ef%b8%8f-open-skate/2026-03-14/
LOCATION:Crawford Center\, South Waukechon Street 251\, Shawano\, Wisconsin\, 54166\, United States
CATEGORIES:Hunting/Fishing/Outdoor Sports/Education,Indoor Event,Outdoor Recreation,Sporting Events,Youth & Family Programs
GEO:44.7790645;-88.5908429
X-APPLE-STRUCTURED-LOCATION;VALUE=URI;X-ADDRESS=Crawford Center South Waukechon Street 251 Shawano Wisconsin 54166 United States;X-APPLE-RADIUS=500;X-TITLE=South Waukechon Street 251:geo:-88.5908429,44.7790645
END:VEVENT
BEGIN:VEVENT
DTSTART;TZID=America/Chicago:20260314T183000
DTEND;TZID=America/Chicago:20260314T203000
DTSTAMP:20260422T105314
CREATED:20260215T162733Z
LAST-MODIFIED:20260215T162735Z
UID:10012562-1773513000-1773520200@ruralnewfamilies.com
SUMMARY:⛸️ Open Skate Waupaca Expo
DESCRIPTION:Most Saturdays & Sundays (pending other ice related events).ice-related
URL:https://ruralnewfamilies.com/event/%e2%9b%b8%ef%b8%8f-open-skate-waupaca-expo/2026-03-14/
LOCATION:Waupaca Expo\, 187 Grand Seasons Dr\, Waupaca\, Wisconsin\, United States
CATEGORIES:Indoor Recreation,Outdoor Recreation,Youth & Family Programs
GEO:44.3574466;-89.1204214
X-APPLE-STRUCTURED-LOCATION;VALUE=URI;X-ADDRESS=Waupaca Expo 187 Grand Seasons Dr Waupaca Wisconsin United States;X-APPLE-RADIUS=500;X-TITLE=187 Grand Seasons Dr:geo:-89.1204214,44.3574466
END:VEVENT
BEGIN:VEVENT
DTSTART;TZID=America/Chicago:20260314T190000
DTEND;TZID=America/Chicago:20260314T210000
DTSTAMP:20260422T105314
CREATED:20240404T152054Z
LAST-MODIFIED:20240404T153249Z
UID:10003425-1773514800-1773522000@ruralnewfamilies.com
SUMMARY:AA Meeting
DESCRIPTION:
URL:https://ruralnewfamilies.com/event/aa-meeting-2/2026-03-14/
LOCATION:Clintonville United Methodist Church\, 13th Street 24\, Clintonville\, Wisconsin\, 54929\, United States
CATEGORIES:AA/NA Meetings
GEO:44.6252503;-88.7595837
X-APPLE-STRUCTURED-LOCATION;VALUE=URI;X-ADDRESS=Clintonville United Methodist Church 13th Street 24 Clintonville Wisconsin 54929 United States;X-APPLE-RADIUS=500;X-TITLE=13th Street 24:geo:-88.7595837,44.6252503
END:VEVENT
BEGIN:VEVENT
DTSTART;TZID=America/Chicago:20260315T140000
DTEND;TZID=America/Chicago:20260315T150000
DTSTAMP:20260422T105314
CREATED:20260103T082359Z
LAST-MODIFIED:20260103T082401Z
UID:10012020-1773583200-1773586800@ruralnewfamilies.com
SUMMARY:Awesome Ambassadors at Bay Beach Wildlife Sanctuary every Sunday 2p-3p starting 12/14/25!
DESCRIPTION:Starting December 14th through April 19. 2026\, join us every Sunday 2p-3p at the Observation Building for our Awesome Ambassador program!Learn about the Wildlife Sanctuary’s awesome ambassadors! This fun program allows visitors to get up close with the animals and talk with the animal care staff. Bring your camera! \n\n\n\n \n\n\n\nBuy some corn to feed the outside birds too. ($5/bag).  They’re excited for visitors too. (Dress for the weather) \n\n\n\n2025-2026 Winter WLS Program Brochure – Bay Beach Wildlife Sanctuary Printable Program Schedule
URL:https://ruralnewfamilies.com/event/awesome-ambassadors-at-bay-beach-wildlife-sanctuary-every-sunday-2p-3p-starting-12-14-25-2/2026-03-15/
LOCATION:Bay Beach Wildlife Sanctuary\, East Shore Drive 1660\, Green Bay\, WI\, 54302\, United States
CATEGORIES:Community Resource,FREE,Hunting/Fishing/Outdoor Sports/Education,Natural Resources Protection,Nature Center,Youth & Family Programs
GEO:44.5275131;-87.9737794
X-APPLE-STRUCTURED-LOCATION;VALUE=URI;X-ADDRESS=Bay Beach Wildlife Sanctuary East Shore Drive 1660 Green Bay WI 54302 United States;X-APPLE-RADIUS=500;X-TITLE=East Shore Drive 1660:geo:-87.9737794,44.5275131
END:VEVENT
BEGIN:VEVENT
DTSTART;TZID=America/Chicago:20260315T183000
DTEND;TZID=America/Chicago:20260315T203000
DTSTAMP:20260422T105314
CREATED:20240404T152751Z
LAST-MODIFIED:20240404T153108Z
UID:10004644-1773599400-1773606600@ruralnewfamilies.com
SUMMARY:AA  Meeting
DESCRIPTION:
URL:https://ruralnewfamilies.com/event/aa-meeting-3/2026-03-15/
LOCATION:Christus Lutheran Church\, North Main Street 120\, Clintonville\, Wisconsin\, 54929\, United States
CATEGORIES:AA/NA Meetings
GEO:44.6270904;-88.7558111
X-APPLE-STRUCTURED-LOCATION;VALUE=URI;X-ADDRESS=Christus Lutheran Church North Main Street 120 Clintonville Wisconsin 54929 United States;X-APPLE-RADIUS=500;X-TITLE=North Main Street 120:geo:-88.7558111,44.6270904
END:VEVENT
BEGIN:VEVENT
DTSTART;TZID=America/Chicago:20260315T183000
DTEND;TZID=America/Chicago:20260315T203000
DTSTAMP:20260422T105314
CREATED:20260215T162733Z
LAST-MODIFIED:20260215T162735Z
UID:10012563-1773599400-1773606600@ruralnewfamilies.com
SUMMARY:⛸️ Open Skate Waupaca Expo
DESCRIPTION:Most Saturdays & Sundays (pending other ice related events).ice-related
URL:https://ruralnewfamilies.com/event/%e2%9b%b8%ef%b8%8f-open-skate-waupaca-expo/2026-03-15/
LOCATION:Waupaca Expo\, 187 Grand Seasons Dr\, Waupaca\, Wisconsin\, United States
CATEGORIES:Indoor Recreation,Outdoor Recreation,Youth & Family Programs
GEO:44.3574466;-89.1204214
X-APPLE-STRUCTURED-LOCATION;VALUE=URI;X-ADDRESS=Waupaca Expo 187 Grand Seasons Dr Waupaca Wisconsin United States;X-APPLE-RADIUS=500;X-TITLE=187 Grand Seasons Dr:geo:-89.1204214,44.3574466
END:VEVENT
BEGIN:VEVENT
DTSTART;TZID=America/Chicago:20260315T190000
DTEND;TZID=America/Chicago:20260315T190000
DTSTAMP:20260422T105314
CREATED:20240329T215844Z
LAST-MODIFIED:20240329T215845Z
UID:10002525-1773601200-1773601200@ruralnewfamilies.com
SUMMARY:Al Anon Meeting
DESCRIPTION:
URL:https://ruralnewfamilies.com/event/al-anon-meeting/2026-03-15/
LOCATION:Salvation Army\, New London\, Wisconsin
CATEGORIES:AA/NA Meetings
END:VEVENT
BEGIN:VEVENT
DTSTART;TZID=America/Chicago:20260315T190000
DTEND;TZID=America/Chicago:20260315T210000
DTSTAMP:20260422T105314
CREATED:20240404T152054Z
LAST-MODIFIED:20240404T153249Z
UID:10003426-1773601200-1773608400@ruralnewfamilies.com
SUMMARY:AA Meeting
DESCRIPTION:
URL:https://ruralnewfamilies.com/event/aa-meeting-2/2026-03-15/
LOCATION:Clintonville United Methodist Church\, 13th Street 24\, Clintonville\, Wisconsin\, 54929\, United States
CATEGORIES:AA/NA Meetings
GEO:44.6252503;-88.7595837
X-APPLE-STRUCTURED-LOCATION;VALUE=URI;X-ADDRESS=Clintonville United Methodist Church 13th Street 24 Clintonville Wisconsin 54929 United States;X-APPLE-RADIUS=500;X-TITLE=13th Street 24:geo:-88.7595837,44.6252503
END:VEVENT
BEGIN:VEVENT
DTSTART;TZID=America/Chicago:20260316T000000
DTEND;TZID=America/Chicago:20260316T235959
DTSTAMP:20260422T105314
CREATED:20260316T065603Z
LAST-MODIFIED:20260316T065606Z
UID:10012860-1773619200-1773705599@ruralnewfamilies.com
SUMMARY:❄️🌨 Blizzard Elsa Closed Wisconsin
DESCRIPTION:Almost every business and organization is closed today due to the unsafe travel conditions Blizzard Elsa has provided us.  There are still some virtual options available. \n\n\n\nI am not cancelling all the events on the calendar\, just assume they are cancelled unless notified otherwise.  Stay warm and safe.  We have a fun post for finding lost items that Elsa has relocated.  We also have a fun post for guessing how many inches of snow we’re going to get. \n\n\n\nWe’ll be working from home so we’ll have new events and articles on the website soon.  Should we create a new YouTube video?  What do you want to see?
URL:https://ruralnewfamilies.com/event/%e2%9d%84%ef%b8%8f%f0%9f%8c%a8-blizzard-elsa-closed-wisconsin/
LOCATION:WI
END:VEVENT
BEGIN:VEVENT
DTSTART;TZID=America/Chicago:20260316T000000
DTEND;TZID=America/Chicago:20260316T235959
DTSTAMP:20260422T105314
CREATED:20260316T223631Z
LAST-MODIFIED:20260316T223634Z
UID:10012879-1773619200-1773705599@ruralnewfamilies.com
SUMMARY:Wisconsin Open Enrollment Application Deadline
DESCRIPTION:The Public School Open Enrollment period is open!Fill out the form for alternative in-person public school options and also virtual and virtual hybrid partnership school options. \n\n\n\nFind the form and FAQ here: https://dpi.wi.gov/open-enrollment \n\n\n\nWhat is Open Enrollment?\n\n\n\nThe inter-district public school open enrollment program allows parents to apply for their children to attend public school in a school district other than the one in which they reside. \n\n\n\nWho can apply?\n\n\n\nAny Wisconsin resident in 4K to grade 12 may apply to attend a nonresident school district under the open enrollment program. However\, a child may transfer to a nonresident school district for early childhood education or 4K only if the child’s resident school district offers the same type of program and only if the child is eligible for that program in the resident school district. \n\n\n\n\n\n\n\nThere was a question a while back regarding open-enrollment. \n\n\n\nAccording to the WI DPI\, these are the only acceptable reasons a resident district can deny an open-enrollment request. \n\n\n\nPlease note that it does not say “too many students have applied to out-of-district schools”. It also doesn’t allow attendance records at the resident school to determine open-enrollment status to an out-of-district school. \n\n\n\nThis is just for Open Enrollment\, this does not include the School Voucher Programs. \n\n\n\nDeadline for Open Enrollment (public school) is April 30th \n\n\n\nDeadline for School Choice (private school) is April 17th. \n\n\n\nI also found out that there is a non-profit organization advocating for Virtual and Open-enrollment students. It’s called Parents for School Options. https://www.parentsforschooloptions.org/ \n\n\n\nOpen Enrollment: https://sms.dpi.wi.gov/OEParent/faqs.aspx \n\n\n\nInfo for the Wisconsin School Choice program can be found here: https://schoolchoicewi.org/school-choice-faqs/ \n\n\n\nVirtual School Options for Wisconsin Families
URL:https://ruralnewfamilies.com/event/wisconsin-open-enrollment-application-deadline-3/2026-03-16/
LOCATION:WI
CATEGORIES:Plan Ahead,RSVP - Pre-Registration Required
END:VEVENT
BEGIN:VEVENT
DTSTART;TZID=America/Chicago:20260316T101500
DTEND;TZID=America/Chicago:20260316T111500
DTSTAMP:20260422T105314
CREATED:20260128T041836Z
LAST-MODIFIED:20260128T041921Z
UID:10012193-1773656100-1773659700@ruralnewfamilies.com
SUMMARY:Babygarten
DESCRIPTION:An event for babies!  Come\, play\, learn and grow together!  \n\n\n\nActivities include: \n\n\n\n\nStorytime and singing\n\n\n\nNursery Rhymes\n\n\n\nSocial Playtime\n\n\n\nCraft (once per month)
URL:https://ruralnewfamilies.com/event/babygarten-2/2026-03-16/
LOCATION:Marion Public Library\, North Main Street 120\, Marion\, Wisconsin\, 54950\, United States
CATEGORIES:FREE,Indoor Event,Library/Museum,Life Stages And Special Communities,Storytime,Youth & Family Programs
GEO:44.6712452;-88.8889175
X-APPLE-STRUCTURED-LOCATION;VALUE=URI;X-ADDRESS=Marion Public Library North Main Street 120 Marion Wisconsin 54950 United States;X-APPLE-RADIUS=500;X-TITLE=North Main Street 120:geo:-88.8889175,44.6712452
END:VEVENT
BEGIN:VEVENT
DTSTART;TZID=America/Chicago:20260316T103000
DTEND;TZID=America/Chicago:20260316T113000
DTSTAMP:20260422T105314
CREATED:20260208T054249Z
LAST-MODIFIED:20260208T054251Z
UID:10012400-1773657000-1773660600@ruralnewfamilies.com
SUMMARY:Playgroup
DESCRIPTION:Come to our meeting room every Monday for our Playgroup!   \n\n\n\nLots of Toy Stations\, Storytime and a Snack!
URL:https://ruralnewfamilies.com/event/playgroup/2026-03-16/
LOCATION:Oconto Falls Library\, North Main Street 251\, Oconto Falls\, WI\, 54154\, United States
CATEGORIES:Community Resource,FREE,Library/Museum,Storytime
GEO:44.876309;-88.1455453
X-APPLE-STRUCTURED-LOCATION;VALUE=URI;X-ADDRESS=Oconto Falls Library North Main Street 251 Oconto Falls WI 54154 United States;X-APPLE-RADIUS=500;X-TITLE=North Main Street 251:geo:-88.1455453,44.876309
END:VEVENT
BEGIN:VEVENT
DTSTART;TZID=America/Chicago:20260316T110000
DTEND;TZID=America/Chicago:20260316T120000
DTSTAMP:20260422T105314
CREATED:20240404T154704Z
LAST-MODIFIED:20240404T154706Z
UID:10004905-1773658800-1773662400@ruralnewfamilies.com
SUMMARY:AA Meeting - Back to Basics
DESCRIPTION:
URL:https://ruralnewfamilies.com/event/aa-meeting-back-to-basics/2026-03-16/
LOCATION:First Presbyterian Church\, West Presbyterian Street 100\, Shawano\, WI\, 54166\, United States
CATEGORIES:AA/NA Meetings
GEO:44.7785164;-88.6096198
X-APPLE-STRUCTURED-LOCATION;VALUE=URI;X-ADDRESS=First Presbyterian Church West Presbyterian Street 100 Shawano WI 54166 United States;X-APPLE-RADIUS=500;X-TITLE=West Presbyterian Street 100:geo:-88.6096198,44.7785164
END:VEVENT
BEGIN:VEVENT
DTSTART;TZID=America/Chicago:20260316T180000
DTEND;TZID=America/Chicago:20260316T200000
DTSTAMP:20260422T105314
CREATED:20260216T195749Z
LAST-MODIFIED:20260216T195751Z
UID:10012571-1773684000-1773691200@ruralnewfamilies.com
SUMMARY:Sam25 Free Eye Clinic
DESCRIPTION:Free eye exams for those uninsured and  living near the poverty line\n\n\n\nPrescriptions for eyeglasses provided\n\n\n\nAffordable eyeglasses available
URL:https://ruralnewfamilies.com/event/sam25-free-eye-clinic/2026-03-16/
LOCATION:Sam25\, East Richmond Street 105\, Shawano\, WI\, 54166\, United States
CATEGORIES:Community Resource,FREE,Health and Safety
GEO:44.7747944;-88.608432
X-APPLE-STRUCTURED-LOCATION;VALUE=URI;X-ADDRESS=Sam25 East Richmond Street 105 Shawano WI 54166 United States;X-APPLE-RADIUS=500;X-TITLE=East Richmond Street 105:geo:-88.608432,44.7747944
END:VEVENT
BEGIN:VEVENT
DTSTART;TZID=America/Chicago:20260316T190000
DTEND;TZID=America/Chicago:20260316T200000
DTSTAMP:20260422T105314
CREATED:20260316T235050Z
LAST-MODIFIED:20260316T235052Z
UID:10012895-1773687600-1773691200@ruralnewfamilies.com
SUMMARY:Weather 101 Virtual Classes: ⛈️Severe Storms
DESCRIPTION:Check out the entire season’s lineup here: weather.gov/ohx/weather101.
URL:https://ruralnewfamilies.com/event/weather-101-virtual-classes-%e2%9b%88%ef%b8%8fsevere-storms/
LOCATION:WI
CATEGORIES:Class,Community Events & Parades,FREE,Health and Safety,Plan Ahead,RSVP - Pre-Registration Required
END:VEVENT
BEGIN:VEVENT
DTSTART;TZID=America/Chicago:20260316T190000
DTEND;TZID=America/Chicago:20260316T210000
DTSTAMP:20260422T105314
CREATED:20240404T152054Z
LAST-MODIFIED:20240404T153249Z
UID:10003427-1773687600-1773694800@ruralnewfamilies.com
SUMMARY:AA Meeting
DESCRIPTION:
URL:https://ruralnewfamilies.com/event/aa-meeting-2/2026-03-16/
LOCATION:Clintonville United Methodist Church\, 13th Street 24\, Clintonville\, Wisconsin\, 54929\, United States
CATEGORIES:AA/NA Meetings
GEO:44.6252503;-88.7595837
X-APPLE-STRUCTURED-LOCATION;VALUE=URI;X-ADDRESS=Clintonville United Methodist Church 13th Street 24 Clintonville Wisconsin 54929 United States;X-APPLE-RADIUS=500;X-TITLE=13th Street 24:geo:-88.7595837,44.6252503
END:VEVENT
BEGIN:VEVENT
DTSTART;TZID=America/Chicago:20260317T080000
DTEND;TZID=America/Chicago:20260317T170000
DTSTAMP:20260422T105314
CREATED:20260317T213331Z
LAST-MODIFIED:20260317T213335Z
UID:10012908-1773734400-1773766800@ruralnewfamilies.com
SUMMARY:St Patrick's Day
DESCRIPTION:The Hungry Bear Bonduel \n\n\n\nWashington Inn \n\n\n\n\n\n\n\nKids Eat FREE Day
URL:https://ruralnewfamilies.com/event/st-patricks-day/
LOCATION:WI
END:VEVENT
BEGIN:VEVENT
DTSTART;TZID=America/Chicago:20260317T090000
DTEND;TZID=America/Chicago:20260317T103000
DTSTAMP:20260422T105314
CREATED:20260120T234010Z
LAST-MODIFIED:20260121T001346Z
UID:10012127-1773738000-1773743400@ruralnewfamilies.com
SUMMARY:Waupaca County Board of Supervisors Meeting
DESCRIPTION:Waupaca COUNTY BOARD MEETING SCHEDULE 2026\n\n\n\nAgendas/Packets February 2018-present \n\n\n\n1-20-2026 Waupaca County Board Agenda\n\n\n\n01-20-2026 Waupaca County Board Packet\n\n\n\nMiron Owner Report 1-20-26 at County Board
URL:https://ruralnewfamilies.com/event/waupaca-county-board-of-supervisors-meeting/2026-03-17/
LOCATION:Waupaca County Highway Office\, 2710 County Rd A\, Waupaca\, Wisconsin\, United States
CATEGORIES:Community Meetings,County Board,Election
GEO:44.321444;-89.0468776
X-APPLE-STRUCTURED-LOCATION;VALUE=URI;X-ADDRESS=Waupaca County Highway Office 2710 County Rd A Waupaca Wisconsin United States;X-APPLE-RADIUS=500;X-TITLE=2710 County Rd A:geo:-89.0468776,44.321444
END:VEVENT
BEGIN:VEVENT
DTSTART;TZID=America/Chicago:20260317T093000
DTEND;TZID=America/Chicago:20260317T103000
DTSTAMP:20260422T105314
CREATED:20240322T221908Z
LAST-MODIFIED:20240322T221910Z
UID:10000720-1773739800-1773743400@ruralnewfamilies.com
SUMMARY:AA Meeting
DESCRIPTION:
URL:https://ruralnewfamilies.com/event/aa-meeting/2026-03-17/
LOCATION:Hope Community Church\, Tristan Drive 302\, Shawano\, Wisconsin\, 54166\, United States
CATEGORIES:AA/NA Meetings
GEO:44.7777864;-88.5480222
X-APPLE-STRUCTURED-LOCATION;VALUE=URI;X-ADDRESS=Hope Community Church Tristan Drive 302 Shawano Wisconsin 54166 United States;X-APPLE-RADIUS=500;X-TITLE=Tristan Drive 302:geo:-88.5480222,44.7777864
END:VEVENT
BEGIN:VEVENT
DTSTART;TZID=America/Chicago:20260317T103000
DTEND;TZID=America/Chicago:20260317T110000
DTSTAMP:20260422T105314
CREATED:20250610T035623Z
LAST-MODIFIED:20250610T035626Z
UID:10009831-1773743400-1773745200@ruralnewfamilies.com
SUMMARY:📚 Bonduel/Story Time
DESCRIPTION:NEW DAY AND TIME! Bring the little ones to the library for a story\, a song\, and a fun craft!
URL:https://ruralnewfamilies.com/event/%f0%9f%93%9a-bonduel-story-time/2026-03-17/
LOCATION:Bonduel Library\, North Washington Street 125\, Bonduel\, WI\, 54107\, United States
CATEGORIES:FREE,Library/Museum,Storytime,Summer Reading Program
GEO:44.7384574;-88.4412828
X-APPLE-STRUCTURED-LOCATION;VALUE=URI;X-ADDRESS=Bonduel Library North Washington Street 125 Bonduel WI 54107 United States;X-APPLE-RADIUS=500;X-TITLE=North Washington Street 125:geo:-88.4412828,44.7384574
END:VEVENT
BEGIN:VEVENT
DTSTART;TZID=America/Chicago:20260317T130000
DTEND;TZID=America/Chicago:20260317T153000
DTSTAMP:20260422T105314
CREATED:20240409T192355Z
LAST-MODIFIED:20240409T192355Z
UID:10005276-1773752400-1773761400@ruralnewfamilies.com
SUMMARY:Cards for the Community
DESCRIPTION:Make cards. Play cards. Find Community. Intergenerational Program. All Ages Welcome.
URL:https://ruralnewfamilies.com/event/cards-for-the-community-24/
LOCATION:White Lake Community Center\, 615 School St\, White Lake\, WI\, 54491\, United States
GEO:45.156176;-88.7634604
X-APPLE-STRUCTURED-LOCATION;VALUE=URI;X-ADDRESS=White Lake Community Center 615 School St White Lake WI 54491 United States;X-APPLE-RADIUS=500;X-TITLE=615 School St:geo:-88.7634604,45.156176
END:VEVENT
BEGIN:VEVENT
DTSTART;TZID=America/Chicago:20260317T154500
DTEND;TZID=America/Chicago:20260317T164500
DTSTAMP:20260422T105314
CREATED:20240409T192355Z
LAST-MODIFIED:20240409T192355Z
UID:10005277-1773762300-1773765900@ruralnewfamilies.com
SUMMARY:Tail Waggin' Tutors: Read to Jack at White Lake
DESCRIPTION:The White Lake Branch Library is excited to offer Tail-Waggin’ Tutors with Jack and his human partner Dodi. He comes to White Lake Library every third Tuesday from 3:45 – 4:45 p.m. To sign up to read to Jack\, call 715-623-3724.\nOur Tail-Waggin’ Tutors program is designed to help young readers become fluent and confident in their reading. The dogs are registered therapy dogs and their human partner has received additional training to help them be awesome literacy coaches for our young readers.
URL:https://ruralnewfamilies.com/event/tail-waggin-tutors-read-to-jack-at-white-lake-24/
LOCATION:WI
END:VEVENT
BEGIN:VEVENT
DTSTART;TZID=America/Chicago:20260317T160000
DTEND;TZID=America/Chicago:20260317T180000
DTSTAMP:20260422T105314
CREATED:20260317T213247Z
LAST-MODIFIED:20260317T213250Z
UID:10012903-1773763200-1773770400@ruralnewfamilies.com
SUMMARY:Kids Eat FREE Today -
DESCRIPTION:We have a couple of Local Restaurants offering to let our Kids Eat FREE!  Today is one of those days! \n\n\n\n \n\n\n\nFind all the details and a few more options here:  \n\n\n\n➡️ https://ruralnewfamilies.com/2024/01/24/restaurant-guide/
URL:https://ruralnewfamilies.com/event/kids-eat-free-today-4/2026-03-17/
LOCATION:WI
CATEGORIES:Youth & Family Programs
ATTACH;FMTTYPE=image/png:https://ruralnewfamilies.com/wp-content/uploads/2026/01/7df5c2ac-d6ae-4e93-b796-9db81ed50ef4.png
END:VEVENT
BEGIN:VEVENT
DTSTART;TZID=America/Chicago:20260317T163000
DTEND;TZID=America/Chicago:20260317T180000
DTSTAMP:20260422T105314
CREATED:20260308T100621Z
LAST-MODIFIED:20260308T100624Z
UID:10012844-1773765000-1773770400@ruralnewfamilies.com
SUMMARY:🍕 Teen Only Night - Books Bingo and Pizza
DESCRIPTION:Bring your favorite book or discover your next read. \n\n\n\nWin a limited edition Mr Charlesworth Brainrot Card \n\n\n\nFor more information – call the New London Public Library
URL:https://ruralnewfamilies.com/event/%f0%9f%8d%95-teen-only-night-books-bingo-and-pizza/
LOCATION:New London Public Library\, 406 S Pearl St\, New London\, Wisconsin\, 54961\, United States
CATEGORIES:FREE,Library/Museum,Teen
GEO:44.3895883;-88.7393637
X-APPLE-STRUCTURED-LOCATION;VALUE=URI;X-ADDRESS=New London Public Library 406 S Pearl St New London Wisconsin 54961 United States;X-APPLE-RADIUS=500;X-TITLE=406 S Pearl St:geo:-88.7393637,44.3895883
END:VEVENT
END:VCALENDAR