BEGIN:VCALENDAR
VERSION:2.0
PRODID:-//Rural Northeast Wisconsin Families - ECPv6.15.20//NONSGML v1.0//EN
CALSCALE:GREGORIAN
METHOD:PUBLISH
X-WR-CALNAME:Rural Northeast Wisconsin Families
X-ORIGINAL-URL:https://ruralnewfamilies.com
X-WR-CALDESC:Events for Rural Northeast Wisconsin Families
REFRESH-INTERVAL;VALUE=DURATION:PT1H
X-Robots-Tag:noindex
X-PUBLISHED-TTL:PT1H
BEGIN:VTIMEZONE
TZID:America/Chicago
BEGIN:DAYLIGHT
TZOFFSETFROM:-0600
TZOFFSETTO:-0500
TZNAME:CDT
DTSTART:20240310T080000
END:DAYLIGHT
BEGIN:STANDARD
TZOFFSETFROM:-0500
TZOFFSETTO:-0600
TZNAME:CST
DTSTART:20241103T070000
END:STANDARD
BEGIN:DAYLIGHT
TZOFFSETFROM:-0600
TZOFFSETTO:-0500
TZNAME:CDT
DTSTART:20250309T080000
END:DAYLIGHT
BEGIN:STANDARD
TZOFFSETFROM:-0500
TZOFFSETTO:-0600
TZNAME:CST
DTSTART:20251102T070000
END:STANDARD
BEGIN:DAYLIGHT
TZOFFSETFROM:-0600
TZOFFSETTO:-0500
TZNAME:CDT
DTSTART:20260308T080000
END:DAYLIGHT
BEGIN:STANDARD
TZOFFSETFROM:-0500
TZOFFSETTO:-0600
TZNAME:CST
DTSTART:20261101T070000
END:STANDARD
END:VTIMEZONE
BEGIN:VEVENT
DTSTART;TZID=America/Chicago:20250425T080000
DTEND;TZID=America/Chicago:20250425T160000
DTSTAMP:20260424T162050
CREATED:20250424T011817Z
LAST-MODIFIED:20250424T012140Z
UID:10009090-1745568000-1745596800@ruralnewfamilies.com
SUMMARY:2025 Cloverleaf Lakes Neighborhood Rummage Sales
DESCRIPTION:Cloverleaf Lakes Neighborhood Rummage Sales \n\n\n\n\n\n\n\n\nGoogle Map Link
URL:https://ruralnewfamilies.com/event/2025-cloverleaf-lakes-neighborhood-rummage-sales-5/2025-04-25/
LOCATION:Wisconsin
CATEGORIES:Rummage Sales
END:VEVENT
BEGIN:VEVENT
DTSTART;TZID=America/Chicago:20250426T080000
DTEND;TZID=America/Chicago:20250426T160000
DTSTAMP:20260424T162050
CREATED:20250424T011817Z
LAST-MODIFIED:20250424T012140Z
UID:10009091-1745654400-1745683200@ruralnewfamilies.com
SUMMARY:2025 Cloverleaf Lakes Neighborhood Rummage Sales
DESCRIPTION:Cloverleaf Lakes Neighborhood Rummage Sales \n\n\n\n\n\n\n\n\nGoogle Map Link
URL:https://ruralnewfamilies.com/event/2025-cloverleaf-lakes-neighborhood-rummage-sales-5/2025-04-26/
LOCATION:Wisconsin
CATEGORIES:Rummage Sales
END:VEVENT
END:VCALENDAR