BEGIN:VCALENDAR
VERSION:2.0
PRODID:-//Rural Northeast Wisconsin Families - ECPv6.15.20//NONSGML v1.0//EN
CALSCALE:GREGORIAN
METHOD:PUBLISH
X-ORIGINAL-URL:https://ruralnewfamilies.com
X-WR-CALDESC:Events for Rural Northeast Wisconsin Families
REFRESH-INTERVAL;VALUE=DURATION:PT1H
X-Robots-Tag:noindex
X-PUBLISHED-TTL:PT1H
BEGIN:VTIMEZONE
TZID:America/Chicago
BEGIN:DAYLIGHT
TZOFFSETFROM:-0600
TZOFFSETTO:-0500
TZNAME:CDT
DTSTART:20250309T080000
END:DAYLIGHT
BEGIN:STANDARD
TZOFFSETFROM:-0500
TZOFFSETTO:-0600
TZNAME:CST
DTSTART:20251102T070000
END:STANDARD
BEGIN:DAYLIGHT
TZOFFSETFROM:-0600
TZOFFSETTO:-0500
TZNAME:CDT
DTSTART:20260308T080000
END:DAYLIGHT
BEGIN:STANDARD
TZOFFSETFROM:-0500
TZOFFSETTO:-0600
TZNAME:CST
DTSTART:20261101T070000
END:STANDARD
BEGIN:DAYLIGHT
TZOFFSETFROM:-0600
TZOFFSETTO:-0500
TZNAME:CDT
DTSTART:20270314T080000
END:DAYLIGHT
BEGIN:STANDARD
TZOFFSETFROM:-0500
TZOFFSETTO:-0600
TZNAME:CST
DTSTART:20271107T070000
END:STANDARD
END:VTIMEZONE
BEGIN:VEVENT
DTSTART;TZID=America/Chicago:20260210T070000
DTEND;TZID=America/Chicago:20260210T100000
DTSTAMP:20260424T063625
CREATED:20260206T041054Z
LAST-MODIFIED:20260206T041057Z
UID:10012331-1770706800-1770717600@ruralnewfamilies.com
SUMMARY:🇺🇸 ☕  Veteran Coffee Clutch New London
DESCRIPTION:Join Veterans for coffee and treats!
URL:https://ruralnewfamilies.com/event/%f0%9f%87%ba%f0%9f%87%b8-%e2%98%95-veteran-coffee-clutch-new-london/
LOCATION:American Legion Post 263 New London\, 840 E North Water St\, New London\, Wisconsin\, United States
CATEGORIES:FREE,Veterans
GEO:44.3953688;-88.7277369
X-APPLE-STRUCTURED-LOCATION;VALUE=URI;X-ADDRESS=American Legion Post 263 New London 840 E North Water St New London Wisconsin United States;X-APPLE-RADIUS=500;X-TITLE=840 E North Water St:geo:-88.7277369,44.3953688
END:VEVENT
BEGIN:VEVENT
DTSTART;TZID=America/Chicago:20260211T100000
DTEND;TZID=America/Chicago:20260211T110000
DTSTAMP:20260424T063625
CREATED:20240424T184449Z
LAST-MODIFIED:20240424T184452Z
UID:10005892-1770804000-1770807600@ruralnewfamilies.com
SUMMARY:🇺🇸 ☕️ Veteran Coffee Clutch
DESCRIPTION:Come chat with fellow Veterans over coffee and snacks!
URL:https://ruralnewfamilies.com/event/%f0%9f%87%ba%f0%9f%87%b8-%e2%98%95%ef%b8%8f-veteran-coffee-clutch/2026-02-11/
LOCATION:Shawano Health Services\, South Lincoln Street 1436\, Shawano\, Wisconsin\, 54166\, United States
CATEGORIES:Veterans
GEO:44.7631921;-88.602917
X-APPLE-STRUCTURED-LOCATION;VALUE=URI;X-ADDRESS=Shawano Health Services South Lincoln Street 1436 Shawano Wisconsin 54166 United States;X-APPLE-RADIUS=500;X-TITLE=South Lincoln Street 1436:geo:-88.602917,44.7631921
END:VEVENT
BEGIN:VEVENT
DTSTART;TZID=America/Chicago:20260221T120000
DTEND;TZID=America/Chicago:20260221T150000
DTSTAMP:20260424T063625
CREATED:20260128T043642Z
LAST-MODIFIED:20260128T043645Z
UID:10012204-1771675200-1771686000@ruralnewfamilies.com
SUMMARY:❄️ 4th Annual Frost Fest
DESCRIPTION:Get ready to chill out at Frost Fest\, a free\, family-friendly event for Veterans at the War Memorial Center. DJ\, games\, resources & more! \n\n\n\nSoutheastern Wisconsin Veteran Suicide Prevention Taskforce is hosting the 4th Annual Frost Fest\, a family-friendly Veteran-focused event. This event during the colder time of year will allow Families and their Veterans to have a fun-filled afternoon.  \n\n\n\nWe will also have a \n\n\n\n\nDJ\n\n\n\n Interactive Games & Activities for kids\,\n\n\n\nVeteran resources/wellness tables\n\n\n\nBusiness vendors\n\n\n\nand so much more\n\n\n\n\n\n\n\n\n  \n\n\n\nNOTE: Parking is FREE for veterans with a valid ID\, while supplies last.  Parking fees apply to all others. See notes below.
URL:https://ruralnewfamilies.com/event/%e2%9d%84%ef%b8%8f-4th-annual-frost-fest/
LOCATION:Milwaukee County War Memorial Center\, 750 North Lincoln Memorial Dr\, Milwaukee\, Wisconsin\, 53202\, United States
CATEGORIES:Community Events & Parades,Community Resource,Expo,FREE,Indoor Event,Plan Ahead,Plan Ahead- RSVP Suggested- not required,RSVP - Pre-Registration Required,Veterans,Youth & Family Programs
GEO:43.0406073;-87.8971282
X-APPLE-STRUCTURED-LOCATION;VALUE=URI;X-ADDRESS=Milwaukee County War Memorial Center 750 North Lincoln Memorial Dr Milwaukee Wisconsin 53202 United States;X-APPLE-RADIUS=500;X-TITLE=750 North Lincoln Memorial Dr:geo:-87.8971282,43.0406073
END:VEVENT
END:VCALENDAR