BEGIN:VCALENDAR
VERSION:2.0
PRODID:-//Rural Northeast Wisconsin Families - ECPv6.15.20//NONSGML v1.0//EN
CALSCALE:GREGORIAN
METHOD:PUBLISH
X-ORIGINAL-URL:https://ruralnewfamilies.com
X-WR-CALDESC:Events for Rural Northeast Wisconsin Families
REFRESH-INTERVAL;VALUE=DURATION:PT1H
X-Robots-Tag:noindex
X-PUBLISHED-TTL:PT1H
BEGIN:VTIMEZONE
TZID:America/Chicago
BEGIN:DAYLIGHT
TZOFFSETFROM:-0600
TZOFFSETTO:-0500
TZNAME:CDT
DTSTART:20250309T080000
END:DAYLIGHT
BEGIN:STANDARD
TZOFFSETFROM:-0500
TZOFFSETTO:-0600
TZNAME:CST
DTSTART:20251102T070000
END:STANDARD
BEGIN:DAYLIGHT
TZOFFSETFROM:-0600
TZOFFSETTO:-0500
TZNAME:CDT
DTSTART:20260308T080000
END:DAYLIGHT
BEGIN:STANDARD
TZOFFSETFROM:-0500
TZOFFSETTO:-0600
TZNAME:CST
DTSTART:20261101T070000
END:STANDARD
BEGIN:DAYLIGHT
TZOFFSETFROM:-0600
TZOFFSETTO:-0500
TZNAME:CDT
DTSTART:20270314T080000
END:DAYLIGHT
BEGIN:STANDARD
TZOFFSETFROM:-0500
TZOFFSETTO:-0600
TZNAME:CST
DTSTART:20271107T070000
END:STANDARD
END:VTIMEZONE
BEGIN:VEVENT
DTSTART;TZID=America/Chicago:20260424T080000
DTEND;TZID=America/Chicago:20260424T160000
DTSTAMP:20260424T081135
CREATED:20260421T195024Z
LAST-MODIFIED:20260421T195808Z
UID:10015226-1777017600-1777046400@ruralnewfamilies.com
SUMMARY:Cloverleaf Lakes Neighborhood Rummage Sales 2026
DESCRIPTION:Rummage Sale Season Kicks off This Weekend with Cloverleaf Lakes Neighborhood Rummage Sales!Some addresses may have longer hours.  See the map for details.  30 Houses on the list!  You won’t want to miss this!Rain or Shine!
URL:https://ruralnewfamilies.com/event/cloverleaf-lakes-neighborhood-rummage-sales-2026/2026-04-24/
LOCATION:Cloverleaf Lakes Neighborhood\, W8719 Round Lake Dr\, Clintonville\, Wisconsin\, United States
CATEGORIES:Community Events & Parades,Rummage Sales,Shopping
GEO:44.6892789;-88.6773382
X-APPLE-STRUCTURED-LOCATION;VALUE=URI;X-ADDRESS=Cloverleaf Lakes Neighborhood W8719 Round Lake Dr Clintonville Wisconsin United States;X-APPLE-RADIUS=500;X-TITLE=W8719 Round Lake Dr:geo:-88.6773382,44.6892789
END:VEVENT
BEGIN:VEVENT
DTSTART;TZID=America/Chicago:20260424T183000
DTEND;TZID=America/Chicago:20260424T210000
DTSTAMP:20260424T081135
CREATED:20260424T040434Z
LAST-MODIFIED:20260424T040436Z
UID:10015269-1777055400-1777064400@ruralnewfamilies.com
SUMMARY:The Wizard of Oz- Youth edition
DESCRIPTION:
URL:https://ruralnewfamilies.com/event/the-wizard-of-oz-youth-edition/
LOCATION:St Martin’s\, 100 S Clinton Ave\, Clintonville\, Wisconsin\, United States
CATEGORIES:Community Events & Parades,Concert/Performances,Indoor Event,Music, Arts, Culture, & Tours,Youth & Family Programs
GEO:44.6208467;-88.7649443
X-APPLE-STRUCTURED-LOCATION;VALUE=URI;X-ADDRESS=St Martin’s 100 S Clinton Ave Clintonville Wisconsin United States;X-APPLE-RADIUS=500;X-TITLE=100 S Clinton Ave:geo:-88.7649443,44.6208467
END:VEVENT
BEGIN:VEVENT
DTSTART;TZID=America/Chicago:20260425T080000
DTEND;TZID=America/Chicago:20260425T120000
DTSTAMP:20260424T081135
CREATED:20260221T053052Z
LAST-MODIFIED:20260221T053055Z
UID:10012729-1777104000-1777118400@ruralnewfamilies.com
SUMMARY:Winter Farmers Market - Stevens Point
DESCRIPTION:Join us for Brunch and Shopping!Brunch is a hot meal made with fresh ingredients by local farmers.  You can grab-n-go or stay and eat with us. \n\n\n\nThe farmers market features Local Farmers\, Makers\, Producers\, Local Businesses\, Unique Shopping Experiences and MORE! \n\n\n\nWho can’t wait for fresh greens?? Or missing blueberries? Live Music may be playing.  Vendors change each week. \n\n\n\nEBT and debit/credit is accepted
URL:https://ruralnewfamilies.com/event/winter-farmers-market-stevens-point/2026-04-25/
LOCATION:Boys and Girls Club- Stevens Point\, 941 Michigan Ave\, Stevens Point\, Wisconsin\, United States
CATEGORIES:Community Events & Parades,Community Meetings,Farmers Markets,Indoor Event,Shopping
GEO:44.5259648;-89.5637287
X-APPLE-STRUCTURED-LOCATION;VALUE=URI;X-ADDRESS=Boys and Girls Club- Stevens Point 941 Michigan Ave Stevens Point Wisconsin United States;X-APPLE-RADIUS=500;X-TITLE=941 Michigan Ave:geo:-89.5637287,44.5259648
END:VEVENT
BEGIN:VEVENT
DTSTART;TZID=America/Chicago:20260425T080000
DTEND;TZID=America/Chicago:20260425T140000
DTSTAMP:20260424T081135
CREATED:20260421T195024Z
LAST-MODIFIED:20260421T195808Z
UID:10015227-1777104000-1777125600@ruralnewfamilies.com
SUMMARY:Cloverleaf Lakes Neighborhood Rummage Sales 2026
DESCRIPTION:Rummage Sale Season Kicks off This Weekend with Cloverleaf Lakes Neighborhood Rummage Sales!Some addresses may have longer hours.  See the map for details.  30 Houses on the list!  You won’t want to miss this!Rain or Shine!
URL:https://ruralnewfamilies.com/event/cloverleaf-lakes-neighborhood-rummage-sales-2026/2026-04-25/
LOCATION:Cloverleaf Lakes Neighborhood\, W8719 Round Lake Dr\, Clintonville\, Wisconsin\, United States
CATEGORIES:Community Events & Parades,Rummage Sales,Shopping
GEO:44.6892789;-88.6773382
X-APPLE-STRUCTURED-LOCATION;VALUE=URI;X-ADDRESS=Cloverleaf Lakes Neighborhood W8719 Round Lake Dr Clintonville Wisconsin United States;X-APPLE-RADIUS=500;X-TITLE=W8719 Round Lake Dr:geo:-88.6773382,44.6892789
END:VEVENT
BEGIN:VEVENT
DTSTART;TZID=America/Chicago:20260425T090000
DTEND;TZID=America/Chicago:20260425T120000
DTSTAMP:20260424T081135
CREATED:20260208T020239Z
LAST-MODIFIED:20260208T020518Z
UID:10012389-1777107600-1777118400@ruralnewfamilies.com
SUMMARY:🧑‍🌾🧅🍞 Wausau Winter Market
DESCRIPTION:Come to the Indoor Winter Farmers Market.   \n\n\n\nMushrooms\, Fresh Greens via Aquaponics\, Blueberries\, honey\, coffee\, fresh bakery\, pastries\, meat\, eggs\, cheese\, vegetables\, Brunch and MORE! \n\n\n\nThings to Know Before you go – There is a $2 fee for any debit/credit transaction. \n\n\n\nFor more information
URL:https://ruralnewfamilies.com/event/wausau-winter-market/2026-04-25/
LOCATION:John Marshall Elementary School\, 1918 Lamont St\, Wausau\, Wisconsin\, 54403\, United States
CATEGORIES:Community Events & Parades,Craft/Vendor Shows,Farmers Markets,FREE,Indoor Event,Shopping
GEO:44.9369784;-89.6245761
X-APPLE-STRUCTURED-LOCATION;VALUE=URI;X-ADDRESS=John Marshall Elementary School 1918 Lamont St Wausau Wisconsin 54403 United States;X-APPLE-RADIUS=500;X-TITLE=1918 Lamont St:geo:-89.6245761,44.9369784
END:VEVENT
BEGIN:VEVENT
DTSTART;TZID=America/Chicago:20260425T100000
DTEND;TZID=America/Chicago:20260425T120000
DTSTAMP:20260424T081135
CREATED:20260329T082356Z
LAST-MODIFIED:20260329T082358Z
UID:10012983-1777111200-1777118400@ruralnewfamilies.com
SUMMARY:Spring Walk and Trail Clean Up
DESCRIPTION:Spring Walk and cleanup of the Mountain-Bay State Trail and Shawano Park-to-Park Loops \n\n\n\nBring gloves and wear bright clothing Walk an in-town Park-to-Park Loop or the Mountain-Bay State Trail and clean up along the way Free water and snacks \n\n\n\nBring the Whole Family!  This event is stroller/wheelchair accessible.  Well-behaved Pets are welcome to come too!  \n\n\n\nPublic Restrooms are available at the Mountain Bay Trailhead Center
URL:https://ruralnewfamilies.com/event/spring-walk-and-trail-clean-up-2/
LOCATION:All Aboard Nutrition\, 620 S Main St\, Shawano\, Wisconsin\, 54166\, United States
CATEGORIES:Community Events & Parades,FREE,Natural Resources Protection,Outdoor Event,Outdoor Recreation,Volunteer Opportunity,Wheel-Chair Accessible
GEO:44.7737323;-88.6082581
X-APPLE-STRUCTURED-LOCATION;VALUE=URI;X-ADDRESS=All Aboard Nutrition 620 S Main St Shawano Wisconsin 54166 United States;X-APPLE-RADIUS=500;X-TITLE=620 S Main St:geo:-88.6082581,44.7737323
END:VEVENT
BEGIN:VEVENT
DTSTART;TZID=America/Chicago:20260425T110000
DTEND;TZID=America/Chicago:20260425T140000
DTSTAMP:20260424T081135
CREATED:20260422T182839Z
LAST-MODIFIED:20260422T182841Z
UID:10015218-1777114800-1777125600@ruralnewfamilies.com
SUMMARY:🌍 Celebrate Earth Day at Navarino with Paw Patrol
DESCRIPTION:Admission: $1 per personCome and explore the grounds of Navarino Wildlife Area around the Nature Center to celebrate Earth Day with Paw Patrol themed fun. \n\n\n\nCome and meet local police/K9 officers\, firemen\, ambulance\, and other entities as well as trolley rides\, bird house building ($10 a house)\, Pond exploring\, crafts\, food\, meeting Paw Patrol characters\, face painting\, and more! \n\n\n\nIn addition to the Earth Day fun\, we hope to have some plants donated by volunteers available for purchase as well. \n\n\n\nSo get out of the house and celebrate Earth Day at Navarino Wildlife Area with Paw Patrol themed fun!
URL:https://ruralnewfamilies.com/event/%f0%9f%8c%8d-celebrate-earth-day-at-navarino-with-paw-patrol/
LOCATION:Navarino Nature Center\, Lindsten Road W5646\, Shiocton\, WI\, 54170\, United States
CATEGORIES:Community Events & Parades,Earth Day,FREE,Kids Outdoors,Nature Center,Youth & Family Programs
GEO:44.6345188;-88.5130301
X-APPLE-STRUCTURED-LOCATION;VALUE=URI;X-ADDRESS=Navarino Nature Center Lindsten Road W5646 Shiocton WI 54170 United States;X-APPLE-RADIUS=500;X-TITLE=Lindsten Road W5646:geo:-88.5130301,44.6345188
END:VEVENT
BEGIN:VEVENT
DTSTART;TZID=America/Chicago:20260425T130000
DTEND;TZID=America/Chicago:20260425T150000
DTSTAMP:20260424T081135
CREATED:20260424T024456Z
LAST-MODIFIED:20260424T024458Z
UID:10015258-1777122000-1777129200@ruralnewfamilies.com
SUMMARY:Meet & Greet with Ambassador Birds
DESCRIPTION:Join us in-store for a meet & greet with some of Bay Beach Wildlife Sanctuary’s favorite ambassador birds! Meet Benny the Blue Jay\, Gary the Grackle\, Amelia the Kestrel and their friends!This is part of our Baby Shower supplies drive for the R-PAWS Wildlife Rehab program; please see our pinned post about the most needed items to help these amazing volunteers continue to care for thousands of orphaned baby wildlife each summer!Supplies collection goes through the end of the month. \n\n\n\nClick here for For more details
URL:https://ruralnewfamilies.com/event/meet-greet-with-ambassador-birds/
LOCATION:Wild Birds Unlimited\, 2285 South Oneida St\, Green Bay\, Wisconsin\, 54304\, United States
CATEGORIES:Community Events & Parades,Community Resource,FREE,Hunting/Fishing/Outdoor Sports/Education,Kids Outdoors,Nature Center,Open House,Youth & Family Programs
END:VEVENT
BEGIN:VEVENT
DTSTART;TZID=America/Chicago:20260426T080000
DTEND;TZID=America/Chicago:20260426T120000
DTSTAMP:20260424T081135
CREATED:20260422T185757Z
LAST-MODIFIED:20260422T185759Z
UID:10013147-1777190400-1777204800@ruralnewfamilies.com
SUMMARY:🥞🚒 MANAWA RURAL FIRE DEPARTMENT ANNUAL PANCAKE BREAKFAST
DESCRIPTION:Please join us for our annual pancake breakfast! \n\n\n\n In person.   \n\n\n\nMenu: \n\n\n\n\n Regular\, blueberry\, and chocolate chip pancakes\n\n\n\nSausage\, ham\, eggs\, coffee\, water and juice.\n\n\n\n\n \n\n\n\nAlso 50/50 raffle. \n\n\n\nWhat do we purchase with the funds?
URL:https://ruralnewfamilies.com/event/%f0%9f%a5%9e%f0%9f%9a%92-manawa-rural-fire-department-annual-pancake-breakfast/
LOCATION:500 S Bridge St\, Stits Road 3261\, Oshkosh\, WI\, 54902\, United States
CATEGORIES:Community Events & Parades,Community Resource,Fundraiser,Inclusive Events,Wheel-Chair Accessible
GEO:43.9777522;-88.5764482
X-APPLE-STRUCTURED-LOCATION;VALUE=URI;X-ADDRESS=500 S Bridge St Stits Road 3261 Oshkosh WI 54902 United States;X-APPLE-RADIUS=500;X-TITLE=Stits Road 3261:geo:-88.5764482,43.9777522
END:VEVENT
END:VCALENDAR