BEGIN:VCALENDAR
VERSION:2.0
PRODID:-//Rural Northeast Wisconsin Families - ECPv6.15.20//NONSGML v1.0//EN
CALSCALE:GREGORIAN
METHOD:PUBLISH
X-WR-CALNAME:Rural Northeast Wisconsin Families
X-ORIGINAL-URL:https://ruralnewfamilies.com
X-WR-CALDESC:Events for Rural Northeast Wisconsin Families
REFRESH-INTERVAL;VALUE=DURATION:PT1H
X-Robots-Tag:noindex
X-PUBLISHED-TTL:PT1H
BEGIN:VTIMEZONE
TZID:America/Chicago
BEGIN:DAYLIGHT
TZOFFSETFROM:-0600
TZOFFSETTO:-0500
TZNAME:CDT
DTSTART:20250309T080000
END:DAYLIGHT
BEGIN:STANDARD
TZOFFSETFROM:-0500
TZOFFSETTO:-0600
TZNAME:CST
DTSTART:20251102T070000
END:STANDARD
BEGIN:DAYLIGHT
TZOFFSETFROM:-0600
TZOFFSETTO:-0500
TZNAME:CDT
DTSTART:20260308T080000
END:DAYLIGHT
BEGIN:STANDARD
TZOFFSETFROM:-0500
TZOFFSETTO:-0600
TZNAME:CST
DTSTART:20261101T070000
END:STANDARD
BEGIN:DAYLIGHT
TZOFFSETFROM:-0600
TZOFFSETTO:-0500
TZNAME:CDT
DTSTART:20270314T080000
END:DAYLIGHT
BEGIN:STANDARD
TZOFFSETFROM:-0500
TZOFFSETTO:-0600
TZNAME:CST
DTSTART:20271107T070000
END:STANDARD
END:VTIMEZONE
BEGIN:VEVENT
DTSTART;TZID=America/Chicago:20260320T190000
DTEND;TZID=America/Chicago:20260320T210000
DTSTAMP:20260422T204150
CREATED:20240404T152054Z
LAST-MODIFIED:20240404T153249Z
UID:10003431-1774033200-1774040400@ruralnewfamilies.com
SUMMARY:AA Meeting
DESCRIPTION:
URL:https://ruralnewfamilies.com/event/aa-meeting-2/2026-03-20/
LOCATION:Clintonville United Methodist Church\, 13th Street 24\, Clintonville\, Wisconsin\, 54929\, United States
CATEGORIES:AA/NA Meetings
GEO:44.6252503;-88.7595837
X-APPLE-STRUCTURED-LOCATION;VALUE=URI;X-ADDRESS=Clintonville United Methodist Church 13th Street 24 Clintonville Wisconsin 54929 United States;X-APPLE-RADIUS=500;X-TITLE=13th Street 24:geo:-88.7595837,44.6252503
END:VEVENT
BEGIN:VEVENT
DTSTART;TZID=America/Chicago:20260320T140000
DTEND;TZID=America/Chicago:20260320T160000
DTSTAMP:20260422T204150
CREATED:20260109T165539Z
LAST-MODIFIED:20260109T165542Z
UID:10012054-1774015200-1774022400@ruralnewfamilies.com
SUMMARY:Community Craft Connection
DESCRIPTION:Bring a craft or project to work on while visiting with your neighbors!Fridays January through May 2:00 PM to 4:00 PMNo registration is required. We can’t wait to see what you’re working on!Food and drink are welcome.Clean-up is just like at home. If you make a mess\, clean it up. Ask for cleaning supplies when needed.If the meeting room is needed for another library purpose\, space for the Community Craft Connection will be provided in the magazine area.Community Craft Connection is self-directed. Librarians will be in the building but not leading this group.
URL:https://ruralnewfamilies.com/event/community-craft-connection-2/2026-03-20/
LOCATION:Sturm Memorial Library\, North Bridge Street 130\, Manawa\, Wisconsin\, 54949\, United States
CATEGORIES:DIY Crafts,FREE,Indoor Event,Library/Museum,Life Stages And Special Communities
GEO:44.4667058;-88.9196516
X-APPLE-STRUCTURED-LOCATION;VALUE=URI;X-ADDRESS=Sturm Memorial Library North Bridge Street 130 Manawa Wisconsin 54949 United States;X-APPLE-RADIUS=500;X-TITLE=North Bridge Street 130:geo:-88.9196516,44.4667058
END:VEVENT
BEGIN:VEVENT
DTSTART;TZID=America/Chicago:20260319T190000
DTEND;TZID=America/Chicago:20260319T210000
DTSTAMP:20260422T204150
CREATED:20240404T152054Z
LAST-MODIFIED:20240404T153249Z
UID:10003430-1773946800-1773954000@ruralnewfamilies.com
SUMMARY:AA Meeting
DESCRIPTION:
URL:https://ruralnewfamilies.com/event/aa-meeting-2/2026-03-19/
LOCATION:Clintonville United Methodist Church\, 13th Street 24\, Clintonville\, Wisconsin\, 54929\, United States
CATEGORIES:AA/NA Meetings
GEO:44.6252503;-88.7595837
X-APPLE-STRUCTURED-LOCATION;VALUE=URI;X-ADDRESS=Clintonville United Methodist Church 13th Street 24 Clintonville Wisconsin 54929 United States;X-APPLE-RADIUS=500;X-TITLE=13th Street 24:geo:-88.7595837,44.6252503
END:VEVENT
BEGIN:VEVENT
DTSTART;TZID=America/Chicago:20260319T163000
DTEND;TZID=America/Chicago:20260319T180000
DTSTAMP:20260422T204150
CREATED:20260308T100227Z
LAST-MODIFIED:20260308T100229Z
UID:10012843-1773937800-1773943200@ruralnewfamilies.com
SUMMARY:Teen Only Night: Beaded Fairy Lights
DESCRIPTION:Drop In Event \n\n\n\nFor more information call the New London Library
URL:https://ruralnewfamilies.com/event/teen-only-night-beaded-fairy-lights/
LOCATION:New London Public Library\, 406 S Pearl St\, New London\, Wisconsin\, 54961\, United States
CATEGORIES:FREE,Library/Museum,Teen
GEO:44.3895883;-88.7393637
X-APPLE-STRUCTURED-LOCATION;VALUE=URI;X-ADDRESS=New London Public Library 406 S Pearl St New London Wisconsin 54961 United States;X-APPLE-RADIUS=500;X-TITLE=406 S Pearl St:geo:-88.7393637,44.3895883
END:VEVENT
BEGIN:VEVENT
DTSTART;TZID=America/Chicago:20260319T160000
DTEND;TZID=America/Chicago:20260319T200000
DTSTAMP:20260422T204150
CREATED:20260216T200400Z
LAST-MODIFIED:20260216T200438Z
UID:10012585-1773936000-1773950400@ruralnewfamilies.com
SUMMARY:Sam25 Free Health Clinic
DESCRIPTION:Doctors Available every week\n\n\n\nFREE Healthcare\n\n\n\nVideo Counseling Available\n\n\n\nHelp Finding Health Insurance\n\n\n\nWalk-Ins Welcome\n\n\n\nID or Documention NOT required\n\n\n\nFor those uninsured or living near the poverty level
URL:https://ruralnewfamilies.com/event/sam25-free-health-clinic/2026-03-19/
LOCATION:Sam25\, East Richmond Street 105\, Shawano\, WI\, 54166\, United States
CATEGORIES:Community Resource,FREE,Health and Safety
GEO:44.7747944;-88.608432
X-APPLE-STRUCTURED-LOCATION;VALUE=URI;X-ADDRESS=Sam25 East Richmond Street 105 Shawano WI 54166 United States;X-APPLE-RADIUS=500;X-TITLE=East Richmond Street 105:geo:-88.608432,44.7747944
END:VEVENT
BEGIN:VEVENT
DTSTART;TZID=America/Chicago:20260319T100000
DTEND;TZID=America/Chicago:20260319T110000
DTSTAMP:20260422T204150
CREATED:20260317T010958Z
LAST-MODIFIED:20260317T011001Z
UID:10012898-1773914400-1773918000@ruralnewfamilies.com
SUMMARY:Weather 101 Virtual Classes: Fire Weather
DESCRIPTION:Check out the entire season’s lineup here: weather.gov/ohx/weather101.
URL:https://ruralnewfamilies.com/event/weather-101-virtual-classes-fire-weather/
LOCATION:Wisconsin
CATEGORIES:Class,Community Events & Parades,FREE,Health and Safety,Plan Ahead,RSVP - Pre-Registration Required
END:VEVENT
BEGIN:VEVENT
DTSTART;TZID=America/Chicago:20260319T093000
DTEND;TZID=America/Chicago:20260319T103000
DTSTAMP:20260422T204150
CREATED:20240322T221908Z
LAST-MODIFIED:20240322T221910Z
UID:10000721-1773912600-1773916200@ruralnewfamilies.com
SUMMARY:AA Meeting
DESCRIPTION:
URL:https://ruralnewfamilies.com/event/aa-meeting/2026-03-19/
LOCATION:Hope Community Church\, Tristan Drive 302\, Shawano\, Wisconsin\, 54166\, United States
CATEGORIES:AA/NA Meetings
GEO:44.7777864;-88.5480222
X-APPLE-STRUCTURED-LOCATION;VALUE=URI;X-ADDRESS=Hope Community Church Tristan Drive 302 Shawano Wisconsin 54166 United States;X-APPLE-RADIUS=500;X-TITLE=Tristan Drive 302:geo:-88.5480222,44.7777864
END:VEVENT
BEGIN:VEVENT
DTSTART;TZID=America/Chicago:20260319T000000
DTEND;TZID=America/Chicago:20260319T235959
DTSTAMP:20260422T204150
CREATED:20260316T223631Z
LAST-MODIFIED:20260316T223634Z
UID:10012880-1773878400-1773964799@ruralnewfamilies.com
SUMMARY:Wisconsin Open Enrollment Application Deadline
DESCRIPTION:The Public School Open Enrollment period is open!Fill out the form for alternative in-person public school options and also virtual and virtual hybrid partnership school options. \n\n\n\nFind the form and FAQ here: https://dpi.wi.gov/open-enrollment \n\n\n\nWhat is Open Enrollment?\n\n\n\nThe inter-district public school open enrollment program allows parents to apply for their children to attend public school in a school district other than the one in which they reside. \n\n\n\nWho can apply?\n\n\n\nAny Wisconsin resident in 4K to grade 12 may apply to attend a nonresident school district under the open enrollment program. However\, a child may transfer to a nonresident school district for early childhood education or 4K only if the child’s resident school district offers the same type of program and only if the child is eligible for that program in the resident school district. \n\n\n\n\n\n\n\nThere was a question a while back regarding open-enrollment. \n\n\n\nAccording to the WI DPI\, these are the only acceptable reasons a resident district can deny an open-enrollment request. \n\n\n\nPlease note that it does not say “too many students have applied to out-of-district schools”. It also doesn’t allow attendance records at the resident school to determine open-enrollment status to an out-of-district school. \n\n\n\nThis is just for Open Enrollment\, this does not include the School Voucher Programs. \n\n\n\nDeadline for Open Enrollment (public school) is April 30th \n\n\n\nDeadline for School Choice (private school) is April 17th. \n\n\n\nI also found out that there is a non-profit organization advocating for Virtual and Open-enrollment students. It’s called Parents for School Options. https://www.parentsforschooloptions.org/ \n\n\n\nOpen Enrollment: https://sms.dpi.wi.gov/OEParent/faqs.aspx \n\n\n\nInfo for the Wisconsin School Choice program can be found here: https://schoolchoicewi.org/school-choice-faqs/ \n\n\n\nVirtual School Options for Wisconsin Families
URL:https://ruralnewfamilies.com/event/wisconsin-open-enrollment-application-deadline-3/2026-03-19/
LOCATION:Wisconsin
CATEGORIES:Plan Ahead,RSVP - Pre-Registration Required
END:VEVENT
BEGIN:VEVENT
DTSTART;TZID=America/Chicago:20260318T190000
DTEND;TZID=America/Chicago:20260318T210000
DTSTAMP:20260422T204150
CREATED:20240404T152054Z
LAST-MODIFIED:20240404T153249Z
UID:10003429-1773860400-1773867600@ruralnewfamilies.com
SUMMARY:AA Meeting
DESCRIPTION:
URL:https://ruralnewfamilies.com/event/aa-meeting-2/2026-03-18/
LOCATION:Clintonville United Methodist Church\, 13th Street 24\, Clintonville\, Wisconsin\, 54929\, United States
CATEGORIES:AA/NA Meetings
GEO:44.6252503;-88.7595837
X-APPLE-STRUCTURED-LOCATION;VALUE=URI;X-ADDRESS=Clintonville United Methodist Church 13th Street 24 Clintonville Wisconsin 54929 United States;X-APPLE-RADIUS=500;X-TITLE=13th Street 24:geo:-88.7595837,44.6252503
END:VEVENT
BEGIN:VEVENT
DTSTART;TZID=America/Chicago:20260318T190000
DTEND;TZID=America/Chicago:20260318T200000
DTSTAMP:20260422T204150
CREATED:20260317T010816Z
LAST-MODIFIED:20260317T010819Z
UID:10012897-1773860400-1773864000@ruralnewfamilies.com
SUMMARY:Weather 101 Virtual Classes: Machine Learning at the Storm Prediction Center
DESCRIPTION:Check out the entire season’s lineup here: weather.gov/ohx/weather101.
URL:https://ruralnewfamilies.com/event/weather-101-virtual-classes-machine-learning-at-the-storm-prediction-center/
LOCATION:Wisconsin
CATEGORIES:Class,Community Events & Parades,FREE,Health and Safety,Plan Ahead,RSVP - Pre-Registration Required
END:VEVENT
BEGIN:VEVENT
DTSTART;TZID=America/Chicago:20260318T160000
DTEND;TZID=America/Chicago:20260318T190000
DTSTAMP:20260422T204150
CREATED:20260211T112323Z
LAST-MODIFIED:20260211T112325Z
UID:10012531-1773849600-1773860400@ruralnewfamilies.com
SUMMARY:🏊 Adult Open Swim
DESCRIPTION:Join us for open swimming! \n\n\n\nNo pre-registration required\,  Just make sure to arrive before 6:30pm with $3 per person. \n\n\n\nLap Swim Lanes and Water Walking available
URL:https://ruralnewfamilies.com/event/%f0%9f%8f%8a-adult-open-swim/2026-03-18/
LOCATION:Shawano High School\, County Road B 220\, Shawano\, WI\, 54166\, United States
CATEGORIES:Community Resource,Indoor Recreation,Swimming Pool/Splash Pad
GEO:44.7597082;-88.6014084
X-APPLE-STRUCTURED-LOCATION;VALUE=URI;X-ADDRESS=Shawano High School County Road B 220 Shawano WI 54166 United States;X-APPLE-RADIUS=500;X-TITLE=County Road B 220:geo:-88.6014084,44.7597082
END:VEVENT
BEGIN:VEVENT
DTSTART;TZID=America/Chicago:20260318T140000
DTEND;TZID=America/Chicago:20260318T150000
DTSTAMP:20260422T204150
CREATED:20260218T012426Z
LAST-MODIFIED:20260218T012430Z
UID:10012642-1773842400-1773846000@ruralnewfamilies.com
SUMMARY:🧶 Hook and Knit
DESCRIPTION:Knit and Hook1st & 3rd Wednesdays of the month at 2 PM.​​Bring your knitting\, crocheting\, needle point\, or whatever you’re working on at the time. ​Come and work on your crafts and get to know others.
URL:https://ruralnewfamilies.com/event/%f0%9f%a7%b6-hook-and-knit/2026-03-18/
LOCATION:Suring Public Library\, East Main Street 604\, Suring\, Wisconsin\, 54174\, United States
CATEGORIES:DIY Crafts,FREE,Library/Museum
GEO:44.9992682;-88.3729785
X-APPLE-STRUCTURED-LOCATION;VALUE=URI;X-ADDRESS=Suring Public Library East Main Street 604 Suring Wisconsin 54174 United States;X-APPLE-RADIUS=500;X-TITLE=East Main Street 604:geo:-88.3729785,44.9992682
END:VEVENT
BEGIN:VEVENT
DTSTART;TZID=America/Chicago:20260318T133000
DTEND;TZID=America/Chicago:20260318T163000
DTSTAMP:20260422T204150
CREATED:20260316T225419Z
LAST-MODIFIED:20260316T225421Z
UID:10012861-1773840600-1773851400@ruralnewfamilies.com
SUMMARY:Speed Puzzle Competition
DESCRIPTION:Get your team together and sign up! \n\n\n\nSnacks and prizes provided
URL:https://ruralnewfamilies.com/event/speed-puzzle-competition-2/
LOCATION:Marion Public Library\, North Main Street 120\, Marion\, Wisconsin\, 54950\, United States
CATEGORIES:FREE,Library/Museum
GEO:44.6712452;-88.8889175
X-APPLE-STRUCTURED-LOCATION;VALUE=URI;X-ADDRESS=Marion Public Library North Main Street 120 Marion Wisconsin 54950 United States;X-APPLE-RADIUS=500;X-TITLE=North Main Street 120:geo:-88.8889175,44.6712452
END:VEVENT
BEGIN:VEVENT
DTSTART;TZID=America/Chicago:20260318T130000
DTEND;TZID=America/Chicago:20260318T150000
DTSTAMP:20260422T204150
CREATED:20260308T091509Z
LAST-MODIFIED:20260308T091535Z
UID:10012813-1773838800-1773846000@ruralnewfamilies.com
SUMMARY:Clintonville Bingo
DESCRIPTION:Join us at the Clintonville Community Center as we gather for an afternoon of fun\, laughter\, prizes\, and community connection. Whether you’re a seasoned Bingo pro or brand new to the game\, this is the perfect way to spend your Wednesday afternoon! \n\n\n\n 🍿Complimentary snacks \n\n\n\nNo Daubers required \n\n\n\nWe play the first and third Wednesday of each month. \n\n\n\nBring a friend\, bring your lucky charm
URL:https://ruralnewfamilies.com/event/clintonville-bingo/2026-03-18/
LOCATION:Clintonville Community Center\, South Main Street 30\, Clintonville\, Wisconsin\, 54929\, United States
CATEGORIES:Indoor Event,Life Stages And Special Communities,Senior Connections
GEO:44.6221829;-88.7611618
X-APPLE-STRUCTURED-LOCATION;VALUE=URI;X-ADDRESS=Clintonville Community Center South Main Street 30 Clintonville Wisconsin 54929 United States;X-APPLE-RADIUS=500;X-TITLE=South Main Street 30:geo:-88.7611618,44.6221829
END:VEVENT
BEGIN:VEVENT
DTSTART;TZID=America/Chicago:20260318T100000
DTEND;TZID=America/Chicago:20260318T110000
DTSTAMP:20260422T204150
CREATED:20250820T034700Z
LAST-MODIFIED:20250820T034702Z
UID:10010929-1773828000-1773831600@ruralnewfamilies.com
SUMMARY:Drop In Playgroup
DESCRIPTION:Join Miss Kelly for drop-in playgroup!   \n\n\n\nStorytime\, free play\, snack\, music\, fun activities!
URL:https://ruralnewfamilies.com/event/drop-in-playgroup-2/2026-03-18/
LOCATION:Marion Public Library\, North Main Street 120\, Marion\, Wisconsin\, 54950\, United States
CATEGORIES:FREE,Indoor Event,Library/Museum,Storytime
GEO:44.6712452;-88.8889175
X-APPLE-STRUCTURED-LOCATION;VALUE=URI;X-ADDRESS=Marion Public Library North Main Street 120 Marion Wisconsin 54950 United States;X-APPLE-RADIUS=500;X-TITLE=North Main Street 120:geo:-88.8889175,44.6712452
END:VEVENT
BEGIN:VEVENT
DTSTART;TZID=America/Chicago:20260318T100000
DTEND;TZID=America/Chicago:20260318T113000
DTSTAMP:20260422T204150
CREATED:20260316T221636Z
LAST-MODIFIED:20260316T221639Z
UID:10012756-1773828000-1773833400@ruralnewfamilies.com
SUMMARY:🍀 Storytime: Leprechauns
DESCRIPTION:Come join us for our Storytime program designed to get all kids excited about the outdoors. Storytime includes stories\, crafts\, outside fun\, and more.  This Storytime topic is about Leprechauns! Registration is appreciated by calling 715-758-6999 or online to assist staff in material preparations and in case of cancellation. Come and experience Storytime at Navarino Nature Center!
URL:https://ruralnewfamilies.com/event/%f0%9f%8d%80-storytime-leprechauns-2/
LOCATION:Navarino Nature Center\, Lindsten Road W5646\, Shiocton\, WI\, 54170\, United States
CATEGORIES:Nature Center,Plan Ahead,Plan Ahead- RSVP Suggested- not required,St Patrick's Day,Storytime,Youth & Family Programs
GEO:44.6345188;-88.5130301
X-APPLE-STRUCTURED-LOCATION;VALUE=URI;X-ADDRESS=Navarino Nature Center Lindsten Road W5646 Shiocton WI 54170 United States;X-APPLE-RADIUS=500;X-TITLE=Lindsten Road W5646:geo:-88.5130301,44.6345188
END:VEVENT
BEGIN:VEVENT
DTSTART;TZID=America/Chicago:20260317T190000
DTEND;TZID=America/Chicago:20260317T210000
DTSTAMP:20260422T204150
CREATED:20240404T152054Z
LAST-MODIFIED:20240404T153249Z
UID:10003428-1773774000-1773781200@ruralnewfamilies.com
SUMMARY:AA Meeting
DESCRIPTION:
URL:https://ruralnewfamilies.com/event/aa-meeting-2/2026-03-17/
LOCATION:Clintonville United Methodist Church\, 13th Street 24\, Clintonville\, Wisconsin\, 54929\, United States
CATEGORIES:AA/NA Meetings
GEO:44.6252503;-88.7595837
X-APPLE-STRUCTURED-LOCATION;VALUE=URI;X-ADDRESS=Clintonville United Methodist Church 13th Street 24 Clintonville Wisconsin 54929 United States;X-APPLE-RADIUS=500;X-TITLE=13th Street 24:geo:-88.7595837,44.6252503
END:VEVENT
BEGIN:VEVENT
DTSTART;TZID=America/Chicago:20260317T190000
DTEND;TZID=America/Chicago:20260317T200000
DTSTAMP:20260422T204150
CREATED:20260316T235509Z
LAST-MODIFIED:20260316T235511Z
UID:10012896-1773774000-1773777600@ruralnewfamilies.com
SUMMARY:Weather 101 Virtual Classes: Global Circulations
DESCRIPTION:Check out the entire season’s lineup here: weather.gov/ohx/weather101.
URL:https://ruralnewfamilies.com/event/weather-101-virtual-classes-global-circulations/
LOCATION:Wisconsin
CATEGORIES:Class,Community Events & Parades,FREE,Health and Safety,Plan Ahead,RSVP - Pre-Registration Required
END:VEVENT
BEGIN:VEVENT
DTSTART;TZID=America/Chicago:20260317T163000
DTEND;TZID=America/Chicago:20260317T180000
DTSTAMP:20260422T204150
CREATED:20260308T100621Z
LAST-MODIFIED:20260308T100624Z
UID:10012844-1773765000-1773770400@ruralnewfamilies.com
SUMMARY:🍕 Teen Only Night - Books Bingo and Pizza
DESCRIPTION:Bring your favorite book or discover your next read. \n\n\n\nWin a limited edition Mr Charlesworth Brainrot Card \n\n\n\nFor more information – call the New London Public Library
URL:https://ruralnewfamilies.com/event/%f0%9f%8d%95-teen-only-night-books-bingo-and-pizza/
LOCATION:New London Public Library\, 406 S Pearl St\, New London\, Wisconsin\, 54961\, United States
CATEGORIES:FREE,Library/Museum,Teen
GEO:44.3895883;-88.7393637
X-APPLE-STRUCTURED-LOCATION;VALUE=URI;X-ADDRESS=New London Public Library 406 S Pearl St New London Wisconsin 54961 United States;X-APPLE-RADIUS=500;X-TITLE=406 S Pearl St:geo:-88.7393637,44.3895883
END:VEVENT
BEGIN:VEVENT
DTSTART;TZID=America/Chicago:20260317T160000
DTEND;TZID=America/Chicago:20260317T180000
DTSTAMP:20260422T204150
CREATED:20260317T213247Z
LAST-MODIFIED:20260317T213250Z
UID:10012903-1773763200-1773770400@ruralnewfamilies.com
SUMMARY:Kids Eat FREE Today -
DESCRIPTION:We have a couple of Local Restaurants offering to let our Kids Eat FREE!  Today is one of those days! \n\n\n\n \n\n\n\nFind all the details and a few more options here:  \n\n\n\n➡️ https://ruralnewfamilies.com/2024/01/24/restaurant-guide/
URL:https://ruralnewfamilies.com/event/kids-eat-free-today-4/2026-03-17/
LOCATION:Wisconsin
CATEGORIES:Youth & Family Programs
ATTACH;FMTTYPE=image/png:https://ruralnewfamilies.com/wp-content/uploads/2026/01/7df5c2ac-d6ae-4e93-b796-9db81ed50ef4.png
END:VEVENT
BEGIN:VEVENT
DTSTART;TZID=America/Chicago:20260317T154500
DTEND;TZID=America/Chicago:20260317T164500
DTSTAMP:20260422T204150
CREATED:20240409T192355Z
LAST-MODIFIED:20240409T192355Z
UID:10005277-1773762300-1773765900@ruralnewfamilies.com
SUMMARY:Tail Waggin' Tutors: Read to Jack at White Lake
DESCRIPTION:The White Lake Branch Library is excited to offer Tail-Waggin’ Tutors with Jack and his human partner Dodi. He comes to White Lake Library every third Tuesday from 3:45 – 4:45 p.m. To sign up to read to Jack\, call 715-623-3724.\nOur Tail-Waggin’ Tutors program is designed to help young readers become fluent and confident in their reading. The dogs are registered therapy dogs and their human partner has received additional training to help them be awesome literacy coaches for our young readers.
URL:https://ruralnewfamilies.com/event/tail-waggin-tutors-read-to-jack-at-white-lake-24/
LOCATION:Wisconsin
END:VEVENT
BEGIN:VEVENT
DTSTART;TZID=America/Chicago:20260317T130000
DTEND;TZID=America/Chicago:20260317T153000
DTSTAMP:20260422T204150
CREATED:20240409T192355Z
LAST-MODIFIED:20240409T192355Z
UID:10005276-1773752400-1773761400@ruralnewfamilies.com
SUMMARY:Cards for the Community
DESCRIPTION:Make cards. Play cards. Find Community. Intergenerational Program. All Ages Welcome.
URL:https://ruralnewfamilies.com/event/cards-for-the-community-24/
LOCATION:White Lake Community Center\, 615 School St\, White Lake\, WI\, 54491\, United States
GEO:45.156176;-88.7634604
X-APPLE-STRUCTURED-LOCATION;VALUE=URI;X-ADDRESS=White Lake Community Center 615 School St White Lake WI 54491 United States;X-APPLE-RADIUS=500;X-TITLE=615 School St:geo:-88.7634604,45.156176
END:VEVENT
BEGIN:VEVENT
DTSTART;TZID=America/Chicago:20260317T103000
DTEND;TZID=America/Chicago:20260317T110000
DTSTAMP:20260422T204150
CREATED:20250610T035623Z
LAST-MODIFIED:20250610T035626Z
UID:10009831-1773743400-1773745200@ruralnewfamilies.com
SUMMARY:📚 Bonduel/Story Time
DESCRIPTION:NEW DAY AND TIME! Bring the little ones to the library for a story\, a song\, and a fun craft!
URL:https://ruralnewfamilies.com/event/%f0%9f%93%9a-bonduel-story-time/2026-03-17/
LOCATION:Bonduel Library\, North Washington Street 125\, Bonduel\, WI\, 54107\, United States
CATEGORIES:FREE,Library/Museum,Storytime,Summer Reading Program
GEO:44.7384574;-88.4412828
X-APPLE-STRUCTURED-LOCATION;VALUE=URI;X-ADDRESS=Bonduel Library North Washington Street 125 Bonduel WI 54107 United States;X-APPLE-RADIUS=500;X-TITLE=North Washington Street 125:geo:-88.4412828,44.7384574
END:VEVENT
BEGIN:VEVENT
DTSTART;TZID=America/Chicago:20260317T093000
DTEND;TZID=America/Chicago:20260317T103000
DTSTAMP:20260422T204150
CREATED:20240322T221908Z
LAST-MODIFIED:20240322T221910Z
UID:10000720-1773739800-1773743400@ruralnewfamilies.com
SUMMARY:AA Meeting
DESCRIPTION:
URL:https://ruralnewfamilies.com/event/aa-meeting/2026-03-17/
LOCATION:Hope Community Church\, Tristan Drive 302\, Shawano\, Wisconsin\, 54166\, United States
CATEGORIES:AA/NA Meetings
GEO:44.7777864;-88.5480222
X-APPLE-STRUCTURED-LOCATION;VALUE=URI;X-ADDRESS=Hope Community Church Tristan Drive 302 Shawano Wisconsin 54166 United States;X-APPLE-RADIUS=500;X-TITLE=Tristan Drive 302:geo:-88.5480222,44.7777864
END:VEVENT
BEGIN:VEVENT
DTSTART;TZID=America/Chicago:20260317T090000
DTEND;TZID=America/Chicago:20260317T103000
DTSTAMP:20260422T204150
CREATED:20260120T234010Z
LAST-MODIFIED:20260121T001346Z
UID:10012127-1773738000-1773743400@ruralnewfamilies.com
SUMMARY:Waupaca County Board of Supervisors Meeting
DESCRIPTION:Waupaca COUNTY BOARD MEETING SCHEDULE 2026\n\n\n\nAgendas/Packets February 2018-present \n\n\n\n1-20-2026 Waupaca County Board Agenda\n\n\n\n01-20-2026 Waupaca County Board Packet\n\n\n\nMiron Owner Report 1-20-26 at County Board
URL:https://ruralnewfamilies.com/event/waupaca-county-board-of-supervisors-meeting/2026-03-17/
LOCATION:Waupaca County Highway Office\, 2710 County Rd A\, Waupaca\, Wisconsin\, United States
CATEGORIES:Community Meetings,County Board,Election
GEO:44.321444;-89.0468776
X-APPLE-STRUCTURED-LOCATION;VALUE=URI;X-ADDRESS=Waupaca County Highway Office 2710 County Rd A Waupaca Wisconsin United States;X-APPLE-RADIUS=500;X-TITLE=2710 County Rd A:geo:-89.0468776,44.321444
END:VEVENT
BEGIN:VEVENT
DTSTART;TZID=America/Chicago:20260317T080000
DTEND;TZID=America/Chicago:20260317T170000
DTSTAMP:20260422T204150
CREATED:20260317T213331Z
LAST-MODIFIED:20260317T213335Z
UID:10012908-1773734400-1773766800@ruralnewfamilies.com
SUMMARY:St Patrick's Day
DESCRIPTION:The Hungry Bear Bonduel \n\n\n\nWashington Inn \n\n\n\n\n\n\n\nKids Eat FREE Day
URL:https://ruralnewfamilies.com/event/st-patricks-day/
LOCATION:Wisconsin
END:VEVENT
BEGIN:VEVENT
DTSTART;TZID=America/Chicago:20260316T190000
DTEND;TZID=America/Chicago:20260316T210000
DTSTAMP:20260422T204150
CREATED:20240404T152054Z
LAST-MODIFIED:20240404T153249Z
UID:10003427-1773687600-1773694800@ruralnewfamilies.com
SUMMARY:AA Meeting
DESCRIPTION:
URL:https://ruralnewfamilies.com/event/aa-meeting-2/2026-03-16/
LOCATION:Clintonville United Methodist Church\, 13th Street 24\, Clintonville\, Wisconsin\, 54929\, United States
CATEGORIES:AA/NA Meetings
GEO:44.6252503;-88.7595837
X-APPLE-STRUCTURED-LOCATION;VALUE=URI;X-ADDRESS=Clintonville United Methodist Church 13th Street 24 Clintonville Wisconsin 54929 United States;X-APPLE-RADIUS=500;X-TITLE=13th Street 24:geo:-88.7595837,44.6252503
END:VEVENT
BEGIN:VEVENT
DTSTART;TZID=America/Chicago:20260316T190000
DTEND;TZID=America/Chicago:20260316T200000
DTSTAMP:20260422T204150
CREATED:20260316T235050Z
LAST-MODIFIED:20260316T235052Z
UID:10012895-1773687600-1773691200@ruralnewfamilies.com
SUMMARY:Weather 101 Virtual Classes: ⛈️Severe Storms
DESCRIPTION:Check out the entire season’s lineup here: weather.gov/ohx/weather101.
URL:https://ruralnewfamilies.com/event/weather-101-virtual-classes-%e2%9b%88%ef%b8%8fsevere-storms/
LOCATION:Wisconsin
CATEGORIES:Class,Community Events & Parades,FREE,Health and Safety,Plan Ahead,RSVP - Pre-Registration Required
END:VEVENT
BEGIN:VEVENT
DTSTART;TZID=America/Chicago:20260316T180000
DTEND;TZID=America/Chicago:20260316T200000
DTSTAMP:20260422T204150
CREATED:20260216T195749Z
LAST-MODIFIED:20260216T195751Z
UID:10012571-1773684000-1773691200@ruralnewfamilies.com
SUMMARY:Sam25 Free Eye Clinic
DESCRIPTION:Free eye exams for those uninsured and  living near the poverty line\n\n\n\nPrescriptions for eyeglasses provided\n\n\n\nAffordable eyeglasses available
URL:https://ruralnewfamilies.com/event/sam25-free-eye-clinic/2026-03-16/
LOCATION:Sam25\, East Richmond Street 105\, Shawano\, WI\, 54166\, United States
CATEGORIES:Community Resource,FREE,Health and Safety
GEO:44.7747944;-88.608432
X-APPLE-STRUCTURED-LOCATION;VALUE=URI;X-ADDRESS=Sam25 East Richmond Street 105 Shawano WI 54166 United States;X-APPLE-RADIUS=500;X-TITLE=East Richmond Street 105:geo:-88.608432,44.7747944
END:VEVENT
BEGIN:VEVENT
DTSTART;TZID=America/Chicago:20260316T110000
DTEND;TZID=America/Chicago:20260316T120000
DTSTAMP:20260422T204150
CREATED:20240404T154704Z
LAST-MODIFIED:20240404T154706Z
UID:10004905-1773658800-1773662400@ruralnewfamilies.com
SUMMARY:AA Meeting - Back to Basics
DESCRIPTION:
URL:https://ruralnewfamilies.com/event/aa-meeting-back-to-basics/2026-03-16/
LOCATION:First Presbyterian Church\, West Presbyterian Street 100\, Shawano\, WI\, 54166\, United States
CATEGORIES:AA/NA Meetings
GEO:44.7785164;-88.6096198
X-APPLE-STRUCTURED-LOCATION;VALUE=URI;X-ADDRESS=First Presbyterian Church West Presbyterian Street 100 Shawano WI 54166 United States;X-APPLE-RADIUS=500;X-TITLE=West Presbyterian Street 100:geo:-88.6096198,44.7785164
END:VEVENT
END:VCALENDAR