BEGIN:VCALENDAR
VERSION:2.0
PRODID:-//Rural Northeast Wisconsin Families - ECPv6.15.20//NONSGML v1.0//EN
CALSCALE:GREGORIAN
METHOD:PUBLISH
X-WR-CALNAME:Rural Northeast Wisconsin Families
X-ORIGINAL-URL:https://ruralnewfamilies.com
X-WR-CALDESC:Events for Rural Northeast Wisconsin Families
REFRESH-INTERVAL;VALUE=DURATION:PT1H
X-Robots-Tag:noindex
X-PUBLISHED-TTL:PT1H
BEGIN:VTIMEZONE
TZID:America/Chicago
BEGIN:DAYLIGHT
TZOFFSETFROM:-0600
TZOFFSETTO:-0500
TZNAME:CDT
DTSTART:20250309T080000
END:DAYLIGHT
BEGIN:STANDARD
TZOFFSETFROM:-0500
TZOFFSETTO:-0600
TZNAME:CST
DTSTART:20251102T070000
END:STANDARD
BEGIN:DAYLIGHT
TZOFFSETFROM:-0600
TZOFFSETTO:-0500
TZNAME:CDT
DTSTART:20260308T080000
END:DAYLIGHT
BEGIN:STANDARD
TZOFFSETFROM:-0500
TZOFFSETTO:-0600
TZNAME:CST
DTSTART:20261101T070000
END:STANDARD
BEGIN:DAYLIGHT
TZOFFSETFROM:-0600
TZOFFSETTO:-0500
TZNAME:CDT
DTSTART:20270314T080000
END:DAYLIGHT
BEGIN:STANDARD
TZOFFSETFROM:-0500
TZOFFSETTO:-0600
TZNAME:CST
DTSTART:20271107T070000
END:STANDARD
END:VTIMEZONE
BEGIN:VEVENT
DTSTART;TZID=America/Chicago:20260422T160000
DTEND;TZID=America/Chicago:20260422T190000
DTSTAMP:20260422T054605
CREATED:20260211T112323Z
LAST-MODIFIED:20260211T112325Z
UID:10012535-1776873600-1776884400@ruralnewfamilies.com
SUMMARY:🏊 Adult Open Swim
DESCRIPTION:Join us for open swimming! \n\n\n\nNo pre-registration required\,  Just make sure to arrive before 6:30pm with $3 per person. \n\n\n\nLap Swim Lanes and Water Walking available
URL:https://ruralnewfamilies.com/event/%f0%9f%8f%8a-adult-open-swim/2026-04-22/
LOCATION:Shawano High School\, County Road B 220\, Shawano\, WI\, 54166\, United States
CATEGORIES:Community Resource,Indoor Recreation,Swimming Pool/Splash Pad
GEO:44.7597082;-88.6014084
X-APPLE-STRUCTURED-LOCATION;VALUE=URI;X-ADDRESS=Shawano High School County Road B 220 Shawano WI 54166 United States;X-APPLE-RADIUS=500;X-TITLE=County Road B 220:geo:-88.6014084,44.7597082
END:VEVENT
BEGIN:VEVENT
DTSTART;TZID=America/Chicago:20260429T160000
DTEND;TZID=America/Chicago:20260429T190000
DTSTAMP:20260422T054605
CREATED:20260211T112323Z
LAST-MODIFIED:20260211T112325Z
UID:10012536-1777478400-1777489200@ruralnewfamilies.com
SUMMARY:🏊 Adult Open Swim
DESCRIPTION:Join us for open swimming! \n\n\n\nNo pre-registration required\,  Just make sure to arrive before 6:30pm with $3 per person. \n\n\n\nLap Swim Lanes and Water Walking available
URL:https://ruralnewfamilies.com/event/%f0%9f%8f%8a-adult-open-swim/2026-04-29/
LOCATION:Shawano High School\, County Road B 220\, Shawano\, WI\, 54166\, United States
CATEGORIES:Community Resource,Indoor Recreation,Swimming Pool/Splash Pad
GEO:44.7597082;-88.6014084
X-APPLE-STRUCTURED-LOCATION;VALUE=URI;X-ADDRESS=Shawano High School County Road B 220 Shawano WI 54166 United States;X-APPLE-RADIUS=500;X-TITLE=County Road B 220:geo:-88.6014084,44.7597082
END:VEVENT
BEGIN:VEVENT
DTSTART;TZID=America/Chicago:20260506T160000
DTEND;TZID=America/Chicago:20260506T190000
DTSTAMP:20260422T054605
CREATED:20260211T112323Z
LAST-MODIFIED:20260211T112325Z
UID:10012537-1778083200-1778094000@ruralnewfamilies.com
SUMMARY:🏊 Adult Open Swim
DESCRIPTION:Join us for open swimming! \n\n\n\nNo pre-registration required\,  Just make sure to arrive before 6:30pm with $3 per person. \n\n\n\nLap Swim Lanes and Water Walking available
URL:https://ruralnewfamilies.com/event/%f0%9f%8f%8a-adult-open-swim/2026-05-06/
LOCATION:Shawano High School\, County Road B 220\, Shawano\, WI\, 54166\, United States
CATEGORIES:Community Resource,Indoor Recreation,Swimming Pool/Splash Pad
GEO:44.7597082;-88.6014084
X-APPLE-STRUCTURED-LOCATION;VALUE=URI;X-ADDRESS=Shawano High School County Road B 220 Shawano WI 54166 United States;X-APPLE-RADIUS=500;X-TITLE=County Road B 220:geo:-88.6014084,44.7597082
END:VEVENT
END:VCALENDAR