BEGIN:VCALENDAR
VERSION:2.0
PRODID:-//Rural Northeast Wisconsin Families - ECPv6.15.20//NONSGML v1.0//EN
CALSCALE:GREGORIAN
METHOD:PUBLISH
X-ORIGINAL-URL:https://ruralnewfamilies.com
X-WR-CALDESC:Events for Rural Northeast Wisconsin Families
REFRESH-INTERVAL;VALUE=DURATION:PT1H
X-Robots-Tag:noindex
X-PUBLISHED-TTL:PT1H
BEGIN:VTIMEZONE
TZID:America/Chicago
BEGIN:DAYLIGHT
TZOFFSETFROM:-0600
TZOFFSETTO:-0500
TZNAME:CDT
DTSTART:20250309T080000
END:DAYLIGHT
BEGIN:STANDARD
TZOFFSETFROM:-0500
TZOFFSETTO:-0600
TZNAME:CST
DTSTART:20251102T070000
END:STANDARD
BEGIN:DAYLIGHT
TZOFFSETFROM:-0600
TZOFFSETTO:-0500
TZNAME:CDT
DTSTART:20260308T080000
END:DAYLIGHT
BEGIN:STANDARD
TZOFFSETFROM:-0500
TZOFFSETTO:-0600
TZNAME:CST
DTSTART:20261101T070000
END:STANDARD
BEGIN:DAYLIGHT
TZOFFSETFROM:-0600
TZOFFSETTO:-0500
TZNAME:CDT
DTSTART:20270314T080000
END:DAYLIGHT
BEGIN:STANDARD
TZOFFSETFROM:-0500
TZOFFSETTO:-0600
TZNAME:CST
DTSTART:20271107T070000
END:STANDARD
END:VTIMEZONE
BEGIN:VEVENT
DTSTART;TZID=America/Chicago:20260508T100000
DTEND;TZID=America/Chicago:20260508T110000
DTSTAMP:20260423T142609
CREATED:20260208T021802Z
LAST-MODIFIED:20260208T021804Z
UID:10012393-1778234400-1778238000@ruralnewfamilies.com
SUMMARY:Clintonville Little Trucks Playgroup
DESCRIPTION:The Little Trucks Playgroup is an opportunity for children birth to age 5 to play with other children in a developmentally appropriate environment.  Caregivers will have the chance to network with each other.  Staff are present throughout the event.  Caregivers/Parents are encouraged to complete a developmental questionnaire. \n\n\n\nAll children must be accompanied by an adult throughout the entire event. All adults need to register when they arrive and wear a visitors pass.
URL:https://ruralnewfamilies.com/event/clintonville-little-trucks-playgroup-5/2026-05-08/
LOCATION:Clintonville Elementary School\, 24 20th St\, Clintonville\, Wisconsin\, 54929\, United States
CATEGORIES:Community Events & Parades,FREE,Indoor Event,Youth & Family Programs
GEO:44.633134;-88.754685
X-APPLE-STRUCTURED-LOCATION;VALUE=URI;X-ADDRESS=Clintonville Elementary School 24 20th St Clintonville Wisconsin 54929 United States;X-APPLE-RADIUS=500;X-TITLE=24 20th St:geo:-88.754685,44.633134
END:VEVENT
END:VCALENDAR