BEGIN:VCALENDAR
VERSION:2.0
PRODID:-//Rural Northeast Wisconsin Families - ECPv6.15.20//NONSGML v1.0//EN
CALSCALE:GREGORIAN
METHOD:PUBLISH
X-ORIGINAL-URL:https://ruralnewfamilies.com
X-WR-CALDESC:Events for Rural Northeast Wisconsin Families
REFRESH-INTERVAL;VALUE=DURATION:PT1H
X-Robots-Tag:noindex
X-PUBLISHED-TTL:PT1H
BEGIN:VTIMEZONE
TZID:America/Chicago
BEGIN:DAYLIGHT
TZOFFSETFROM:-0600
TZOFFSETTO:-0500
TZNAME:CDT
DTSTART:20250309T080000
END:DAYLIGHT
BEGIN:STANDARD
TZOFFSETFROM:-0500
TZOFFSETTO:-0600
TZNAME:CST
DTSTART:20251102T070000
END:STANDARD
BEGIN:DAYLIGHT
TZOFFSETFROM:-0600
TZOFFSETTO:-0500
TZNAME:CDT
DTSTART:20260308T080000
END:DAYLIGHT
BEGIN:STANDARD
TZOFFSETFROM:-0500
TZOFFSETTO:-0600
TZNAME:CST
DTSTART:20261101T070000
END:STANDARD
BEGIN:DAYLIGHT
TZOFFSETFROM:-0600
TZOFFSETTO:-0500
TZNAME:CDT
DTSTART:20270314T080000
END:DAYLIGHT
BEGIN:STANDARD
TZOFFSETFROM:-0500
TZOFFSETTO:-0600
TZNAME:CST
DTSTART:20271107T070000
END:STANDARD
END:VTIMEZONE
BEGIN:VEVENT
DTSTART;TZID=America/Chicago:20260518T180000
DTEND;TZID=America/Chicago:20260518T200000
DTSTAMP:20260424T120116
CREATED:20260216T195749Z
LAST-MODIFIED:20260216T195751Z
UID:10012573-1779127200-1779134400@ruralnewfamilies.com
SUMMARY:Sam25 Free Eye Clinic
DESCRIPTION:Free eye exams for those uninsured and  living near the poverty line\n\n\n\nPrescriptions for eyeglasses provided\n\n\n\nAffordable eyeglasses available
URL:https://ruralnewfamilies.com/event/sam25-free-eye-clinic/2026-05-18/
LOCATION:Sam25\, East Richmond Street 105\, Shawano\, WI\, 54166\, United States
CATEGORIES:Community Resource,FREE,Health and Safety
GEO:44.7747944;-88.608432
X-APPLE-STRUCTURED-LOCATION;VALUE=URI;X-ADDRESS=Sam25 East Richmond Street 105 Shawano WI 54166 United States;X-APPLE-RADIUS=500;X-TITLE=East Richmond Street 105:geo:-88.608432,44.7747944
END:VEVENT
BEGIN:VEVENT
DTSTART;TZID=America/Chicago:20260615T180000
DTEND;TZID=America/Chicago:20260615T200000
DTSTAMP:20260424T120116
CREATED:20260216T195749Z
LAST-MODIFIED:20260216T195751Z
UID:10012574-1781546400-1781553600@ruralnewfamilies.com
SUMMARY:Sam25 Free Eye Clinic
DESCRIPTION:Free eye exams for those uninsured and  living near the poverty line\n\n\n\nPrescriptions for eyeglasses provided\n\n\n\nAffordable eyeglasses available
URL:https://ruralnewfamilies.com/event/sam25-free-eye-clinic/2026-06-15/
LOCATION:Sam25\, East Richmond Street 105\, Shawano\, WI\, 54166\, United States
CATEGORIES:Community Resource,FREE,Health and Safety
GEO:44.7747944;-88.608432
X-APPLE-STRUCTURED-LOCATION;VALUE=URI;X-ADDRESS=Sam25 East Richmond Street 105 Shawano WI 54166 United States;X-APPLE-RADIUS=500;X-TITLE=East Richmond Street 105:geo:-88.608432,44.7747944
END:VEVENT
BEGIN:VEVENT
DTSTART;TZID=America/Chicago:20260720T180000
DTEND;TZID=America/Chicago:20260720T200000
DTSTAMP:20260424T120116
CREATED:20260216T195749Z
LAST-MODIFIED:20260216T195751Z
UID:10012575-1784570400-1784577600@ruralnewfamilies.com
SUMMARY:Sam25 Free Eye Clinic
DESCRIPTION:Free eye exams for those uninsured and  living near the poverty line\n\n\n\nPrescriptions for eyeglasses provided\n\n\n\nAffordable eyeglasses available
URL:https://ruralnewfamilies.com/event/sam25-free-eye-clinic/2026-07-20/
LOCATION:Sam25\, East Richmond Street 105\, Shawano\, WI\, 54166\, United States
CATEGORIES:Community Resource,FREE,Health and Safety
GEO:44.7747944;-88.608432
X-APPLE-STRUCTURED-LOCATION;VALUE=URI;X-ADDRESS=Sam25 East Richmond Street 105 Shawano WI 54166 United States;X-APPLE-RADIUS=500;X-TITLE=East Richmond Street 105:geo:-88.608432,44.7747944
END:VEVENT
BEGIN:VEVENT
DTSTART;TZID=America/Chicago:20260817T180000
DTEND;TZID=America/Chicago:20260817T200000
DTSTAMP:20260424T120116
CREATED:20260216T195749Z
LAST-MODIFIED:20260216T195751Z
UID:10012576-1786989600-1786996800@ruralnewfamilies.com
SUMMARY:Sam25 Free Eye Clinic
DESCRIPTION:Free eye exams for those uninsured and  living near the poverty line\n\n\n\nPrescriptions for eyeglasses provided\n\n\n\nAffordable eyeglasses available
URL:https://ruralnewfamilies.com/event/sam25-free-eye-clinic/2026-08-17/
LOCATION:Sam25\, East Richmond Street 105\, Shawano\, WI\, 54166\, United States
CATEGORIES:Community Resource,FREE,Health and Safety
GEO:44.7747944;-88.608432
X-APPLE-STRUCTURED-LOCATION;VALUE=URI;X-ADDRESS=Sam25 East Richmond Street 105 Shawano WI 54166 United States;X-APPLE-RADIUS=500;X-TITLE=East Richmond Street 105:geo:-88.608432,44.7747944
END:VEVENT
BEGIN:VEVENT
DTSTART;TZID=America/Chicago:20260921T180000
DTEND;TZID=America/Chicago:20260921T200000
DTSTAMP:20260424T120116
CREATED:20260216T195749Z
LAST-MODIFIED:20260216T195751Z
UID:10012577-1790013600-1790020800@ruralnewfamilies.com
SUMMARY:Sam25 Free Eye Clinic
DESCRIPTION:Free eye exams for those uninsured and  living near the poverty line\n\n\n\nPrescriptions for eyeglasses provided\n\n\n\nAffordable eyeglasses available
URL:https://ruralnewfamilies.com/event/sam25-free-eye-clinic/2026-09-21/
LOCATION:Sam25\, East Richmond Street 105\, Shawano\, WI\, 54166\, United States
CATEGORIES:Community Resource,FREE,Health and Safety
GEO:44.7747944;-88.608432
X-APPLE-STRUCTURED-LOCATION;VALUE=URI;X-ADDRESS=Sam25 East Richmond Street 105 Shawano WI 54166 United States;X-APPLE-RADIUS=500;X-TITLE=East Richmond Street 105:geo:-88.608432,44.7747944
END:VEVENT
BEGIN:VEVENT
DTSTART;TZID=America/Chicago:20261019T180000
DTEND;TZID=America/Chicago:20261019T200000
DTSTAMP:20260424T120116
CREATED:20260216T195749Z
LAST-MODIFIED:20260216T195751Z
UID:10012578-1792432800-1792440000@ruralnewfamilies.com
SUMMARY:Sam25 Free Eye Clinic
DESCRIPTION:Free eye exams for those uninsured and  living near the poverty line\n\n\n\nPrescriptions for eyeglasses provided\n\n\n\nAffordable eyeglasses available
URL:https://ruralnewfamilies.com/event/sam25-free-eye-clinic/2026-10-19/
LOCATION:Sam25\, East Richmond Street 105\, Shawano\, WI\, 54166\, United States
CATEGORIES:Community Resource,FREE,Health and Safety
GEO:44.7747944;-88.608432
X-APPLE-STRUCTURED-LOCATION;VALUE=URI;X-ADDRESS=Sam25 East Richmond Street 105 Shawano WI 54166 United States;X-APPLE-RADIUS=500;X-TITLE=East Richmond Street 105:geo:-88.608432,44.7747944
END:VEVENT
BEGIN:VEVENT
DTSTART;TZID=America/Chicago:20261116T180000
DTEND;TZID=America/Chicago:20261116T200000
DTSTAMP:20260424T120116
CREATED:20260216T195749Z
LAST-MODIFIED:20260216T195751Z
UID:10012579-1794852000-1794859200@ruralnewfamilies.com
SUMMARY:Sam25 Free Eye Clinic
DESCRIPTION:Free eye exams for those uninsured and  living near the poverty line\n\n\n\nPrescriptions for eyeglasses provided\n\n\n\nAffordable eyeglasses available
URL:https://ruralnewfamilies.com/event/sam25-free-eye-clinic/2026-11-16/
LOCATION:Sam25\, East Richmond Street 105\, Shawano\, WI\, 54166\, United States
CATEGORIES:Community Resource,FREE,Health and Safety
GEO:44.7747944;-88.608432
X-APPLE-STRUCTURED-LOCATION;VALUE=URI;X-ADDRESS=Sam25 East Richmond Street 105 Shawano WI 54166 United States;X-APPLE-RADIUS=500;X-TITLE=East Richmond Street 105:geo:-88.608432,44.7747944
END:VEVENT
BEGIN:VEVENT
DTSTART;TZID=America/Chicago:20261221T180000
DTEND;TZID=America/Chicago:20261221T200000
DTSTAMP:20260424T120116
CREATED:20260216T195749Z
LAST-MODIFIED:20260216T195751Z
UID:10012580-1797876000-1797883200@ruralnewfamilies.com
SUMMARY:Sam25 Free Eye Clinic
DESCRIPTION:Free eye exams for those uninsured and  living near the poverty line\n\n\n\nPrescriptions for eyeglasses provided\n\n\n\nAffordable eyeglasses available
URL:https://ruralnewfamilies.com/event/sam25-free-eye-clinic/2026-12-21/
LOCATION:Sam25\, East Richmond Street 105\, Shawano\, WI\, 54166\, United States
CATEGORIES:Community Resource,FREE,Health and Safety
GEO:44.7747944;-88.608432
X-APPLE-STRUCTURED-LOCATION;VALUE=URI;X-ADDRESS=Sam25 East Richmond Street 105 Shawano WI 54166 United States;X-APPLE-RADIUS=500;X-TITLE=East Richmond Street 105:geo:-88.608432,44.7747944
END:VEVENT
END:VCALENDAR