BEGIN:VCALENDAR
VERSION:2.0
PRODID:-//Rural Northeast Wisconsin Families - ECPv6.15.20//NONSGML v1.0//EN
CALSCALE:GREGORIAN
METHOD:PUBLISH
X-WR-CALNAME:Rural Northeast Wisconsin Families
X-ORIGINAL-URL:https://ruralnewfamilies.com
X-WR-CALDESC:Events for Rural Northeast Wisconsin Families
REFRESH-INTERVAL;VALUE=DURATION:PT1H
X-Robots-Tag:noindex
X-PUBLISHED-TTL:PT1H
BEGIN:VTIMEZONE
TZID:America/Chicago
BEGIN:DAYLIGHT
TZOFFSETFROM:-0600
TZOFFSETTO:-0500
TZNAME:CDT
DTSTART:20260308T080000
END:DAYLIGHT
BEGIN:STANDARD
TZOFFSETFROM:-0500
TZOFFSETTO:-0600
TZNAME:CST
DTSTART:20261101T070000
END:STANDARD
BEGIN:DAYLIGHT
TZOFFSETFROM:-0600
TZOFFSETTO:-0500
TZNAME:CDT
DTSTART:20270314T080000
END:DAYLIGHT
BEGIN:STANDARD
TZOFFSETFROM:-0500
TZOFFSETTO:-0600
TZNAME:CST
DTSTART:20271107T070000
END:STANDARD
BEGIN:DAYLIGHT
TZOFFSETFROM:-0600
TZOFFSETTO:-0500
TZNAME:CDT
DTSTART:20280312T080000
END:DAYLIGHT
BEGIN:STANDARD
TZOFFSETFROM:-0500
TZOFFSETTO:-0600
TZNAME:CST
DTSTART:20281105T070000
END:STANDARD
BEGIN:DAYLIGHT
TZOFFSETFROM:-0600
TZOFFSETTO:-0500
TZNAME:CDT
DTSTART:20290311T080000
END:DAYLIGHT
BEGIN:STANDARD
TZOFFSETFROM:-0500
TZOFFSETTO:-0600
TZNAME:CST
DTSTART:20291104T070000
END:STANDARD
BEGIN:DAYLIGHT
TZOFFSETFROM:-0600
TZOFFSETTO:-0500
TZNAME:CDT
DTSTART:20300310T080000
END:DAYLIGHT
BEGIN:STANDARD
TZOFFSETFROM:-0500
TZOFFSETTO:-0600
TZNAME:CST
DTSTART:20301103T070000
END:STANDARD
END:VTIMEZONE
BEGIN:VEVENT
DTSTART;TZID=America/Chicago:20270811T100000
DTEND;TZID=America/Chicago:20270811T110000
DTSTAMP:20260424T093418
CREATED:20240424T184449Z
LAST-MODIFIED:20240424T184452Z
UID:10005910-1817978400-1817982000@ruralnewfamilies.com
SUMMARY:🇺🇸 ☕️ Veteran Coffee Clutch
DESCRIPTION:Come chat with fellow Veterans over coffee and snacks!
URL:https://ruralnewfamilies.com/event/%f0%9f%87%ba%f0%9f%87%b8-%e2%98%95%ef%b8%8f-veteran-coffee-clutch/2027-08-11/
LOCATION:Shawano Health Services\, South Lincoln Street 1436\, Shawano\, Wisconsin\, 54166\, United States
CATEGORIES:Veterans
GEO:44.7631921;-88.602917
X-APPLE-STRUCTURED-LOCATION;VALUE=URI;X-ADDRESS=Shawano Health Services South Lincoln Street 1436 Shawano Wisconsin 54166 United States;X-APPLE-RADIUS=500;X-TITLE=South Lincoln Street 1436:geo:-88.602917,44.7631921
END:VEVENT
BEGIN:VEVENT
DTSTART;TZID=America/Chicago:20270908T100000
DTEND;TZID=America/Chicago:20270908T110000
DTSTAMP:20260424T093418
CREATED:20240424T184449Z
LAST-MODIFIED:20240424T184452Z
UID:10005911-1820397600-1820401200@ruralnewfamilies.com
SUMMARY:🇺🇸 ☕️ Veteran Coffee Clutch
DESCRIPTION:Come chat with fellow Veterans over coffee and snacks!
URL:https://ruralnewfamilies.com/event/%f0%9f%87%ba%f0%9f%87%b8-%e2%98%95%ef%b8%8f-veteran-coffee-clutch/2027-09-08/
LOCATION:Shawano Health Services\, South Lincoln Street 1436\, Shawano\, Wisconsin\, 54166\, United States
CATEGORIES:Veterans
GEO:44.7631921;-88.602917
X-APPLE-STRUCTURED-LOCATION;VALUE=URI;X-ADDRESS=Shawano Health Services South Lincoln Street 1436 Shawano Wisconsin 54166 United States;X-APPLE-RADIUS=500;X-TITLE=South Lincoln Street 1436:geo:-88.602917,44.7631921
END:VEVENT
BEGIN:VEVENT
DTSTART;TZID=America/Chicago:20271013T100000
DTEND;TZID=America/Chicago:20271013T110000
DTSTAMP:20260424T093418
CREATED:20240424T184449Z
LAST-MODIFIED:20240424T184452Z
UID:10005912-1823421600-1823425200@ruralnewfamilies.com
SUMMARY:🇺🇸 ☕️ Veteran Coffee Clutch
DESCRIPTION:Come chat with fellow Veterans over coffee and snacks!
URL:https://ruralnewfamilies.com/event/%f0%9f%87%ba%f0%9f%87%b8-%e2%98%95%ef%b8%8f-veteran-coffee-clutch/2027-10-13/
LOCATION:Shawano Health Services\, South Lincoln Street 1436\, Shawano\, Wisconsin\, 54166\, United States
CATEGORIES:Veterans
GEO:44.7631921;-88.602917
X-APPLE-STRUCTURED-LOCATION;VALUE=URI;X-ADDRESS=Shawano Health Services South Lincoln Street 1436 Shawano Wisconsin 54166 United States;X-APPLE-RADIUS=500;X-TITLE=South Lincoln Street 1436:geo:-88.602917,44.7631921
END:VEVENT
BEGIN:VEVENT
DTSTART;TZID=America/Chicago:20271110T100000
DTEND;TZID=America/Chicago:20271110T110000
DTSTAMP:20260424T093418
CREATED:20240424T184449Z
LAST-MODIFIED:20240424T184452Z
UID:10005913-1825840800-1825844400@ruralnewfamilies.com
SUMMARY:🇺🇸 ☕️ Veteran Coffee Clutch
DESCRIPTION:Come chat with fellow Veterans over coffee and snacks!
URL:https://ruralnewfamilies.com/event/%f0%9f%87%ba%f0%9f%87%b8-%e2%98%95%ef%b8%8f-veteran-coffee-clutch/2027-11-10/
LOCATION:Shawano Health Services\, South Lincoln Street 1436\, Shawano\, Wisconsin\, 54166\, United States
CATEGORIES:Veterans
GEO:44.7631921;-88.602917
X-APPLE-STRUCTURED-LOCATION;VALUE=URI;X-ADDRESS=Shawano Health Services South Lincoln Street 1436 Shawano Wisconsin 54166 United States;X-APPLE-RADIUS=500;X-TITLE=South Lincoln Street 1436:geo:-88.602917,44.7631921
END:VEVENT
BEGIN:VEVENT
DTSTART;TZID=America/Chicago:20271208T100000
DTEND;TZID=America/Chicago:20271208T110000
DTSTAMP:20260424T093418
CREATED:20240424T184449Z
LAST-MODIFIED:20240424T184452Z
UID:10005914-1828260000-1828263600@ruralnewfamilies.com
SUMMARY:🇺🇸 ☕️ Veteran Coffee Clutch
DESCRIPTION:Come chat with fellow Veterans over coffee and snacks!
URL:https://ruralnewfamilies.com/event/%f0%9f%87%ba%f0%9f%87%b8-%e2%98%95%ef%b8%8f-veteran-coffee-clutch/2027-12-08/
LOCATION:Shawano Health Services\, South Lincoln Street 1436\, Shawano\, Wisconsin\, 54166\, United States
CATEGORIES:Veterans
GEO:44.7631921;-88.602917
X-APPLE-STRUCTURED-LOCATION;VALUE=URI;X-ADDRESS=Shawano Health Services South Lincoln Street 1436 Shawano Wisconsin 54166 United States;X-APPLE-RADIUS=500;X-TITLE=South Lincoln Street 1436:geo:-88.602917,44.7631921
END:VEVENT
BEGIN:VEVENT
DTSTART;TZID=America/Chicago:20280112T100000
DTEND;TZID=America/Chicago:20280112T110000
DTSTAMP:20260424T093418
CREATED:20240424T184449Z
LAST-MODIFIED:20240424T184452Z
UID:10005915-1831284000-1831287600@ruralnewfamilies.com
SUMMARY:🇺🇸 ☕️ Veteran Coffee Clutch
DESCRIPTION:Come chat with fellow Veterans over coffee and snacks!
URL:https://ruralnewfamilies.com/event/%f0%9f%87%ba%f0%9f%87%b8-%e2%98%95%ef%b8%8f-veteran-coffee-clutch/2028-01-12/
LOCATION:Shawano Health Services\, South Lincoln Street 1436\, Shawano\, Wisconsin\, 54166\, United States
CATEGORIES:Veterans
GEO:44.7631921;-88.602917
X-APPLE-STRUCTURED-LOCATION;VALUE=URI;X-ADDRESS=Shawano Health Services South Lincoln Street 1436 Shawano Wisconsin 54166 United States;X-APPLE-RADIUS=500;X-TITLE=South Lincoln Street 1436:geo:-88.602917,44.7631921
END:VEVENT
BEGIN:VEVENT
DTSTART;TZID=America/Chicago:20280209T100000
DTEND;TZID=America/Chicago:20280209T110000
DTSTAMP:20260424T093418
CREATED:20240424T184449Z
LAST-MODIFIED:20240424T184452Z
UID:10005916-1833703200-1833706800@ruralnewfamilies.com
SUMMARY:🇺🇸 ☕️ Veteran Coffee Clutch
DESCRIPTION:Come chat with fellow Veterans over coffee and snacks!
URL:https://ruralnewfamilies.com/event/%f0%9f%87%ba%f0%9f%87%b8-%e2%98%95%ef%b8%8f-veteran-coffee-clutch/2028-02-09/
LOCATION:Shawano Health Services\, South Lincoln Street 1436\, Shawano\, Wisconsin\, 54166\, United States
CATEGORIES:Veterans
GEO:44.7631921;-88.602917
X-APPLE-STRUCTURED-LOCATION;VALUE=URI;X-ADDRESS=Shawano Health Services South Lincoln Street 1436 Shawano Wisconsin 54166 United States;X-APPLE-RADIUS=500;X-TITLE=South Lincoln Street 1436:geo:-88.602917,44.7631921
END:VEVENT
BEGIN:VEVENT
DTSTART;TZID=America/Chicago:20280308T100000
DTEND;TZID=America/Chicago:20280308T110000
DTSTAMP:20260424T093418
CREATED:20240424T184449Z
LAST-MODIFIED:20240424T184452Z
UID:10005917-1836122400-1836126000@ruralnewfamilies.com
SUMMARY:🇺🇸 ☕️ Veteran Coffee Clutch
DESCRIPTION:Come chat with fellow Veterans over coffee and snacks!
URL:https://ruralnewfamilies.com/event/%f0%9f%87%ba%f0%9f%87%b8-%e2%98%95%ef%b8%8f-veteran-coffee-clutch/2028-03-08/
LOCATION:Shawano Health Services\, South Lincoln Street 1436\, Shawano\, Wisconsin\, 54166\, United States
CATEGORIES:Veterans
GEO:44.7631921;-88.602917
X-APPLE-STRUCTURED-LOCATION;VALUE=URI;X-ADDRESS=Shawano Health Services South Lincoln Street 1436 Shawano Wisconsin 54166 United States;X-APPLE-RADIUS=500;X-TITLE=South Lincoln Street 1436:geo:-88.602917,44.7631921
END:VEVENT
BEGIN:VEVENT
DTSTART;TZID=America/Chicago:20280412T100000
DTEND;TZID=America/Chicago:20280412T110000
DTSTAMP:20260424T093418
CREATED:20240424T184449Z
LAST-MODIFIED:20240424T184452Z
UID:10005918-1839146400-1839150000@ruralnewfamilies.com
SUMMARY:🇺🇸 ☕️ Veteran Coffee Clutch
DESCRIPTION:Come chat with fellow Veterans over coffee and snacks!
URL:https://ruralnewfamilies.com/event/%f0%9f%87%ba%f0%9f%87%b8-%e2%98%95%ef%b8%8f-veteran-coffee-clutch/2028-04-12/
LOCATION:Shawano Health Services\, South Lincoln Street 1436\, Shawano\, Wisconsin\, 54166\, United States
CATEGORIES:Veterans
GEO:44.7631921;-88.602917
X-APPLE-STRUCTURED-LOCATION;VALUE=URI;X-ADDRESS=Shawano Health Services South Lincoln Street 1436 Shawano Wisconsin 54166 United States;X-APPLE-RADIUS=500;X-TITLE=South Lincoln Street 1436:geo:-88.602917,44.7631921
END:VEVENT
BEGIN:VEVENT
DTSTART;TZID=America/Chicago:20280510T100000
DTEND;TZID=America/Chicago:20280510T110000
DTSTAMP:20260424T093418
CREATED:20240424T184449Z
LAST-MODIFIED:20240424T184452Z
UID:10005919-1841565600-1841569200@ruralnewfamilies.com
SUMMARY:🇺🇸 ☕️ Veteran Coffee Clutch
DESCRIPTION:Come chat with fellow Veterans over coffee and snacks!
URL:https://ruralnewfamilies.com/event/%f0%9f%87%ba%f0%9f%87%b8-%e2%98%95%ef%b8%8f-veteran-coffee-clutch/2028-05-10/
LOCATION:Shawano Health Services\, South Lincoln Street 1436\, Shawano\, Wisconsin\, 54166\, United States
CATEGORIES:Veterans
GEO:44.7631921;-88.602917
X-APPLE-STRUCTURED-LOCATION;VALUE=URI;X-ADDRESS=Shawano Health Services South Lincoln Street 1436 Shawano Wisconsin 54166 United States;X-APPLE-RADIUS=500;X-TITLE=South Lincoln Street 1436:geo:-88.602917,44.7631921
END:VEVENT
BEGIN:VEVENT
DTSTART;TZID=America/Chicago:20280614T100000
DTEND;TZID=America/Chicago:20280614T110000
DTSTAMP:20260424T093418
CREATED:20240424T184449Z
LAST-MODIFIED:20240424T184452Z
UID:10005920-1844589600-1844593200@ruralnewfamilies.com
SUMMARY:🇺🇸 ☕️ Veteran Coffee Clutch
DESCRIPTION:Come chat with fellow Veterans over coffee and snacks!
URL:https://ruralnewfamilies.com/event/%f0%9f%87%ba%f0%9f%87%b8-%e2%98%95%ef%b8%8f-veteran-coffee-clutch/2028-06-14/
LOCATION:Shawano Health Services\, South Lincoln Street 1436\, Shawano\, Wisconsin\, 54166\, United States
CATEGORIES:Veterans
GEO:44.7631921;-88.602917
X-APPLE-STRUCTURED-LOCATION;VALUE=URI;X-ADDRESS=Shawano Health Services South Lincoln Street 1436 Shawano Wisconsin 54166 United States;X-APPLE-RADIUS=500;X-TITLE=South Lincoln Street 1436:geo:-88.602917,44.7631921
END:VEVENT
BEGIN:VEVENT
DTSTART;TZID=America/Chicago:20280712T100000
DTEND;TZID=America/Chicago:20280712T110000
DTSTAMP:20260424T093418
CREATED:20240424T184449Z
LAST-MODIFIED:20240424T184452Z
UID:10005921-1847008800-1847012400@ruralnewfamilies.com
SUMMARY:🇺🇸 ☕️ Veteran Coffee Clutch
DESCRIPTION:Come chat with fellow Veterans over coffee and snacks!
URL:https://ruralnewfamilies.com/event/%f0%9f%87%ba%f0%9f%87%b8-%e2%98%95%ef%b8%8f-veteran-coffee-clutch/2028-07-12/
LOCATION:Shawano Health Services\, South Lincoln Street 1436\, Shawano\, Wisconsin\, 54166\, United States
CATEGORIES:Veterans
GEO:44.7631921;-88.602917
X-APPLE-STRUCTURED-LOCATION;VALUE=URI;X-ADDRESS=Shawano Health Services South Lincoln Street 1436 Shawano Wisconsin 54166 United States;X-APPLE-RADIUS=500;X-TITLE=South Lincoln Street 1436:geo:-88.602917,44.7631921
END:VEVENT
BEGIN:VEVENT
DTSTART;TZID=America/Chicago:20280809T100000
DTEND;TZID=America/Chicago:20280809T110000
DTSTAMP:20260424T093418
CREATED:20240424T184449Z
LAST-MODIFIED:20240424T184452Z
UID:10005922-1849428000-1849431600@ruralnewfamilies.com
SUMMARY:🇺🇸 ☕️ Veteran Coffee Clutch
DESCRIPTION:Come chat with fellow Veterans over coffee and snacks!
URL:https://ruralnewfamilies.com/event/%f0%9f%87%ba%f0%9f%87%b8-%e2%98%95%ef%b8%8f-veteran-coffee-clutch/2028-08-09/
LOCATION:Shawano Health Services\, South Lincoln Street 1436\, Shawano\, Wisconsin\, 54166\, United States
CATEGORIES:Veterans
GEO:44.7631921;-88.602917
X-APPLE-STRUCTURED-LOCATION;VALUE=URI;X-ADDRESS=Shawano Health Services South Lincoln Street 1436 Shawano Wisconsin 54166 United States;X-APPLE-RADIUS=500;X-TITLE=South Lincoln Street 1436:geo:-88.602917,44.7631921
END:VEVENT
BEGIN:VEVENT
DTSTART;TZID=America/Chicago:20280913T100000
DTEND;TZID=America/Chicago:20280913T110000
DTSTAMP:20260424T093418
CREATED:20240424T184449Z
LAST-MODIFIED:20240424T184452Z
UID:10005923-1852452000-1852455600@ruralnewfamilies.com
SUMMARY:🇺🇸 ☕️ Veteran Coffee Clutch
DESCRIPTION:Come chat with fellow Veterans over coffee and snacks!
URL:https://ruralnewfamilies.com/event/%f0%9f%87%ba%f0%9f%87%b8-%e2%98%95%ef%b8%8f-veteran-coffee-clutch/2028-09-13/
LOCATION:Shawano Health Services\, South Lincoln Street 1436\, Shawano\, Wisconsin\, 54166\, United States
CATEGORIES:Veterans
GEO:44.7631921;-88.602917
X-APPLE-STRUCTURED-LOCATION;VALUE=URI;X-ADDRESS=Shawano Health Services South Lincoln Street 1436 Shawano Wisconsin 54166 United States;X-APPLE-RADIUS=500;X-TITLE=South Lincoln Street 1436:geo:-88.602917,44.7631921
END:VEVENT
BEGIN:VEVENT
DTSTART;TZID=America/Chicago:20281011T100000
DTEND;TZID=America/Chicago:20281011T110000
DTSTAMP:20260424T093418
CREATED:20240424T184449Z
LAST-MODIFIED:20240424T184452Z
UID:10005924-1854871200-1854874800@ruralnewfamilies.com
SUMMARY:🇺🇸 ☕️ Veteran Coffee Clutch
DESCRIPTION:Come chat with fellow Veterans over coffee and snacks!
URL:https://ruralnewfamilies.com/event/%f0%9f%87%ba%f0%9f%87%b8-%e2%98%95%ef%b8%8f-veteran-coffee-clutch/2028-10-11/
LOCATION:Shawano Health Services\, South Lincoln Street 1436\, Shawano\, Wisconsin\, 54166\, United States
CATEGORIES:Veterans
GEO:44.7631921;-88.602917
X-APPLE-STRUCTURED-LOCATION;VALUE=URI;X-ADDRESS=Shawano Health Services South Lincoln Street 1436 Shawano Wisconsin 54166 United States;X-APPLE-RADIUS=500;X-TITLE=South Lincoln Street 1436:geo:-88.602917,44.7631921
END:VEVENT
BEGIN:VEVENT
DTSTART;TZID=America/Chicago:20281108T100000
DTEND;TZID=America/Chicago:20281108T110000
DTSTAMP:20260424T093418
CREATED:20240424T184449Z
LAST-MODIFIED:20240424T184452Z
UID:10005925-1857290400-1857294000@ruralnewfamilies.com
SUMMARY:🇺🇸 ☕️ Veteran Coffee Clutch
DESCRIPTION:Come chat with fellow Veterans over coffee and snacks!
URL:https://ruralnewfamilies.com/event/%f0%9f%87%ba%f0%9f%87%b8-%e2%98%95%ef%b8%8f-veteran-coffee-clutch/2028-11-08/
LOCATION:Shawano Health Services\, South Lincoln Street 1436\, Shawano\, Wisconsin\, 54166\, United States
CATEGORIES:Veterans
GEO:44.7631921;-88.602917
X-APPLE-STRUCTURED-LOCATION;VALUE=URI;X-ADDRESS=Shawano Health Services South Lincoln Street 1436 Shawano Wisconsin 54166 United States;X-APPLE-RADIUS=500;X-TITLE=South Lincoln Street 1436:geo:-88.602917,44.7631921
END:VEVENT
BEGIN:VEVENT
DTSTART;TZID=America/Chicago:20281213T100000
DTEND;TZID=America/Chicago:20281213T110000
DTSTAMP:20260424T093418
CREATED:20240424T184449Z
LAST-MODIFIED:20240424T184452Z
UID:10005926-1860314400-1860318000@ruralnewfamilies.com
SUMMARY:🇺🇸 ☕️ Veteran Coffee Clutch
DESCRIPTION:Come chat with fellow Veterans over coffee and snacks!
URL:https://ruralnewfamilies.com/event/%f0%9f%87%ba%f0%9f%87%b8-%e2%98%95%ef%b8%8f-veteran-coffee-clutch/2028-12-13/
LOCATION:Shawano Health Services\, South Lincoln Street 1436\, Shawano\, Wisconsin\, 54166\, United States
CATEGORIES:Veterans
GEO:44.7631921;-88.602917
X-APPLE-STRUCTURED-LOCATION;VALUE=URI;X-ADDRESS=Shawano Health Services South Lincoln Street 1436 Shawano Wisconsin 54166 United States;X-APPLE-RADIUS=500;X-TITLE=South Lincoln Street 1436:geo:-88.602917,44.7631921
END:VEVENT
BEGIN:VEVENT
DTSTART;TZID=America/Chicago:20290110T100000
DTEND;TZID=America/Chicago:20290110T110000
DTSTAMP:20260424T093418
CREATED:20240424T184449Z
LAST-MODIFIED:20240424T184452Z
UID:10005927-1862733600-1862737200@ruralnewfamilies.com
SUMMARY:🇺🇸 ☕️ Veteran Coffee Clutch
DESCRIPTION:Come chat with fellow Veterans over coffee and snacks!
URL:https://ruralnewfamilies.com/event/%f0%9f%87%ba%f0%9f%87%b8-%e2%98%95%ef%b8%8f-veteran-coffee-clutch/2029-01-10/
LOCATION:Shawano Health Services\, South Lincoln Street 1436\, Shawano\, Wisconsin\, 54166\, United States
CATEGORIES:Veterans
GEO:44.7631921;-88.602917
X-APPLE-STRUCTURED-LOCATION;VALUE=URI;X-ADDRESS=Shawano Health Services South Lincoln Street 1436 Shawano Wisconsin 54166 United States;X-APPLE-RADIUS=500;X-TITLE=South Lincoln Street 1436:geo:-88.602917,44.7631921
END:VEVENT
BEGIN:VEVENT
DTSTART;TZID=America/Chicago:20290214T100000
DTEND;TZID=America/Chicago:20290214T110000
DTSTAMP:20260424T093418
CREATED:20240424T184449Z
LAST-MODIFIED:20240424T184452Z
UID:10005928-1865757600-1865761200@ruralnewfamilies.com
SUMMARY:🇺🇸 ☕️ Veteran Coffee Clutch
DESCRIPTION:Come chat with fellow Veterans over coffee and snacks!
URL:https://ruralnewfamilies.com/event/%f0%9f%87%ba%f0%9f%87%b8-%e2%98%95%ef%b8%8f-veteran-coffee-clutch/2029-02-14/
LOCATION:Shawano Health Services\, South Lincoln Street 1436\, Shawano\, Wisconsin\, 54166\, United States
CATEGORIES:Veterans
GEO:44.7631921;-88.602917
X-APPLE-STRUCTURED-LOCATION;VALUE=URI;X-ADDRESS=Shawano Health Services South Lincoln Street 1436 Shawano Wisconsin 54166 United States;X-APPLE-RADIUS=500;X-TITLE=South Lincoln Street 1436:geo:-88.602917,44.7631921
END:VEVENT
BEGIN:VEVENT
DTSTART;TZID=America/Chicago:20290314T100000
DTEND;TZID=America/Chicago:20290314T110000
DTSTAMP:20260424T093418
CREATED:20240424T184449Z
LAST-MODIFIED:20240424T184452Z
UID:10005929-1868176800-1868180400@ruralnewfamilies.com
SUMMARY:🇺🇸 ☕️ Veteran Coffee Clutch
DESCRIPTION:Come chat with fellow Veterans over coffee and snacks!
URL:https://ruralnewfamilies.com/event/%f0%9f%87%ba%f0%9f%87%b8-%e2%98%95%ef%b8%8f-veteran-coffee-clutch/2029-03-14/
LOCATION:Shawano Health Services\, South Lincoln Street 1436\, Shawano\, Wisconsin\, 54166\, United States
CATEGORIES:Veterans
GEO:44.7631921;-88.602917
X-APPLE-STRUCTURED-LOCATION;VALUE=URI;X-ADDRESS=Shawano Health Services South Lincoln Street 1436 Shawano Wisconsin 54166 United States;X-APPLE-RADIUS=500;X-TITLE=South Lincoln Street 1436:geo:-88.602917,44.7631921
END:VEVENT
BEGIN:VEVENT
DTSTART;TZID=America/Chicago:20290411T100000
DTEND;TZID=America/Chicago:20290411T110000
DTSTAMP:20260424T093418
CREATED:20240424T184449Z
LAST-MODIFIED:20240424T184452Z
UID:10005930-1870596000-1870599600@ruralnewfamilies.com
SUMMARY:🇺🇸 ☕️ Veteran Coffee Clutch
DESCRIPTION:Come chat with fellow Veterans over coffee and snacks!
URL:https://ruralnewfamilies.com/event/%f0%9f%87%ba%f0%9f%87%b8-%e2%98%95%ef%b8%8f-veteran-coffee-clutch/2029-04-11/
LOCATION:Shawano Health Services\, South Lincoln Street 1436\, Shawano\, Wisconsin\, 54166\, United States
CATEGORIES:Veterans
GEO:44.7631921;-88.602917
X-APPLE-STRUCTURED-LOCATION;VALUE=URI;X-ADDRESS=Shawano Health Services South Lincoln Street 1436 Shawano Wisconsin 54166 United States;X-APPLE-RADIUS=500;X-TITLE=South Lincoln Street 1436:geo:-88.602917,44.7631921
END:VEVENT
END:VCALENDAR