BEGIN:VCALENDAR
VERSION:2.0
PRODID:-//Rural Northeast Wisconsin Families - ECPv6.15.20//NONSGML v1.0//EN
CALSCALE:GREGORIAN
METHOD:PUBLISH
X-WR-CALNAME:Rural Northeast Wisconsin Families
X-ORIGINAL-URL:https://ruralnewfamilies.com
X-WR-CALDESC:Events for Rural Northeast Wisconsin Families
REFRESH-INTERVAL;VALUE=DURATION:PT1H
X-Robots-Tag:noindex
X-PUBLISHED-TTL:PT1H
BEGIN:VTIMEZONE
TZID:America/Chicago
BEGIN:DAYLIGHT
TZOFFSETFROM:-0600
TZOFFSETTO:-0500
TZNAME:CDT
DTSTART:20250309T080000
END:DAYLIGHT
BEGIN:STANDARD
TZOFFSETFROM:-0500
TZOFFSETTO:-0600
TZNAME:CST
DTSTART:20251102T070000
END:STANDARD
BEGIN:DAYLIGHT
TZOFFSETFROM:-0600
TZOFFSETTO:-0500
TZNAME:CDT
DTSTART:20260308T080000
END:DAYLIGHT
BEGIN:STANDARD
TZOFFSETFROM:-0500
TZOFFSETTO:-0600
TZNAME:CST
DTSTART:20261101T070000
END:STANDARD
BEGIN:DAYLIGHT
TZOFFSETFROM:-0600
TZOFFSETTO:-0500
TZNAME:CDT
DTSTART:20270314T080000
END:DAYLIGHT
BEGIN:STANDARD
TZOFFSETFROM:-0500
TZOFFSETTO:-0600
TZNAME:CST
DTSTART:20271107T070000
END:STANDARD
END:VTIMEZONE
BEGIN:VEVENT
DTSTART;TZID=America/Chicago:20261020T090000
DTEND;TZID=America/Chicago:20261020T103000
DTSTAMP:20260422T235845
CREATED:20260120T234010Z
LAST-MODIFIED:20260121T001346Z
UID:10012134-1792486800-1792492200@ruralnewfamilies.com
SUMMARY:Waupaca County Board of Supervisors Meeting
DESCRIPTION:Waupaca COUNTY BOARD MEETING SCHEDULE 2026\n\n\n\nAgendas/Packets February 2018-present \n\n\n\n1-20-2026 Waupaca County Board Agenda\n\n\n\n01-20-2026 Waupaca County Board Packet\n\n\n\nMiron Owner Report 1-20-26 at County Board
URL:https://ruralnewfamilies.com/event/waupaca-county-board-of-supervisors-meeting/2026-10-20/
LOCATION:Waupaca County Highway Office\, 2710 County Rd A\, Waupaca\, Wisconsin\, United States
CATEGORIES:Community Meetings,County Board,Election
GEO:44.321444;-89.0468776
X-APPLE-STRUCTURED-LOCATION;VALUE=URI;X-ADDRESS=Waupaca County Highway Office 2710 County Rd A Waupaca Wisconsin United States;X-APPLE-RADIUS=500;X-TITLE=2710 County Rd A:geo:-89.0468776,44.321444
END:VEVENT
BEGIN:VEVENT
DTSTART;TZID=America/Chicago:20261027T090000
DTEND;TZID=America/Chicago:20261027T103000
DTSTAMP:20260422T235845
CREATED:20260120T234010Z
LAST-MODIFIED:20260121T001346Z
UID:10012135-1793091600-1793097000@ruralnewfamilies.com
SUMMARY:Waupaca County Board of Supervisors Meeting
DESCRIPTION:Waupaca COUNTY BOARD MEETING SCHEDULE 2026\n\n\n\nAgendas/Packets February 2018-present \n\n\n\n1-20-2026 Waupaca County Board Agenda\n\n\n\n01-20-2026 Waupaca County Board Packet\n\n\n\nMiron Owner Report 1-20-26 at County Board
URL:https://ruralnewfamilies.com/event/waupaca-county-board-of-supervisors-meeting/2026-10-27/
LOCATION:Waupaca County Highway Office\, 2710 County Rd A\, Waupaca\, Wisconsin\, United States
CATEGORIES:Community Meetings,County Board,Election
GEO:44.321444;-89.0468776
X-APPLE-STRUCTURED-LOCATION;VALUE=URI;X-ADDRESS=Waupaca County Highway Office 2710 County Rd A Waupaca Wisconsin United States;X-APPLE-RADIUS=500;X-TITLE=2710 County Rd A:geo:-89.0468776,44.321444
END:VEVENT
BEGIN:VEVENT
DTSTART;TZID=America/Chicago:20261110T090000
DTEND;TZID=America/Chicago:20261110T103000
DTSTAMP:20260422T235845
CREATED:20260120T234010Z
LAST-MODIFIED:20260121T001346Z
UID:10012136-1794301200-1794306600@ruralnewfamilies.com
SUMMARY:Waupaca County Board of Supervisors Meeting
DESCRIPTION:Waupaca COUNTY BOARD MEETING SCHEDULE 2026\n\n\n\nAgendas/Packets February 2018-present \n\n\n\n1-20-2026 Waupaca County Board Agenda\n\n\n\n01-20-2026 Waupaca County Board Packet\n\n\n\nMiron Owner Report 1-20-26 at County Board
URL:https://ruralnewfamilies.com/event/waupaca-county-board-of-supervisors-meeting/2026-11-10/
LOCATION:Waupaca County Highway Office\, 2710 County Rd A\, Waupaca\, Wisconsin\, United States
CATEGORIES:Community Meetings,County Board,Election
GEO:44.321444;-89.0468776
X-APPLE-STRUCTURED-LOCATION;VALUE=URI;X-ADDRESS=Waupaca County Highway Office 2710 County Rd A Waupaca Wisconsin United States;X-APPLE-RADIUS=500;X-TITLE=2710 County Rd A:geo:-89.0468776,44.321444
END:VEVENT
BEGIN:VEVENT
DTSTART;TZID=America/Chicago:20261117T090000
DTEND;TZID=America/Chicago:20261117T103000
DTSTAMP:20260422T235845
CREATED:20260120T234010Z
LAST-MODIFIED:20260121T001346Z
UID:10012137-1794906000-1794911400@ruralnewfamilies.com
SUMMARY:Waupaca County Board of Supervisors Meeting
DESCRIPTION:Waupaca COUNTY BOARD MEETING SCHEDULE 2026\n\n\n\nAgendas/Packets February 2018-present \n\n\n\n1-20-2026 Waupaca County Board Agenda\n\n\n\n01-20-2026 Waupaca County Board Packet\n\n\n\nMiron Owner Report 1-20-26 at County Board
URL:https://ruralnewfamilies.com/event/waupaca-county-board-of-supervisors-meeting/2026-11-17/
LOCATION:Waupaca County Highway Office\, 2710 County Rd A\, Waupaca\, Wisconsin\, United States
CATEGORIES:Community Meetings,County Board,Election
GEO:44.321444;-89.0468776
X-APPLE-STRUCTURED-LOCATION;VALUE=URI;X-ADDRESS=Waupaca County Highway Office 2710 County Rd A Waupaca Wisconsin United States;X-APPLE-RADIUS=500;X-TITLE=2710 County Rd A:geo:-89.0468776,44.321444
END:VEVENT
BEGIN:VEVENT
DTSTART;TZID=America/Chicago:20261215T090000
DTEND;TZID=America/Chicago:20261215T103000
DTSTAMP:20260422T235845
CREATED:20260120T234010Z
LAST-MODIFIED:20260121T001346Z
UID:10012138-1797325200-1797330600@ruralnewfamilies.com
SUMMARY:Waupaca County Board of Supervisors Meeting
DESCRIPTION:Waupaca COUNTY BOARD MEETING SCHEDULE 2026\n\n\n\nAgendas/Packets February 2018-present \n\n\n\n1-20-2026 Waupaca County Board Agenda\n\n\n\n01-20-2026 Waupaca County Board Packet\n\n\n\nMiron Owner Report 1-20-26 at County Board
URL:https://ruralnewfamilies.com/event/waupaca-county-board-of-supervisors-meeting/2026-12-15/
LOCATION:Waupaca County Highway Office\, 2710 County Rd A\, Waupaca\, Wisconsin\, United States
CATEGORIES:Community Meetings,County Board,Election
GEO:44.321444;-89.0468776
X-APPLE-STRUCTURED-LOCATION;VALUE=URI;X-ADDRESS=Waupaca County Highway Office 2710 County Rd A Waupaca Wisconsin United States;X-APPLE-RADIUS=500;X-TITLE=2710 County Rd A:geo:-89.0468776,44.321444
END:VEVENT
END:VCALENDAR