BEGIN:VCALENDAR
VERSION:2.0
PRODID:-//Rural Northeast Wisconsin Families - ECPv6.15.20//NONSGML v1.0//EN
CALSCALE:GREGORIAN
METHOD:PUBLISH
X-WR-CALNAME:Rural Northeast Wisconsin Families
X-ORIGINAL-URL:https://ruralnewfamilies.com
X-WR-CALDESC:Events for Rural Northeast Wisconsin Families
REFRESH-INTERVAL;VALUE=DURATION:PT1H
X-Robots-Tag:noindex
X-PUBLISHED-TTL:PT1H
BEGIN:VTIMEZONE
TZID:America/Chicago
BEGIN:DAYLIGHT
TZOFFSETFROM:-0600
TZOFFSETTO:-0500
TZNAME:CDT
DTSTART:20250309T080000
END:DAYLIGHT
BEGIN:STANDARD
TZOFFSETFROM:-0500
TZOFFSETTO:-0600
TZNAME:CST
DTSTART:20251102T070000
END:STANDARD
BEGIN:DAYLIGHT
TZOFFSETFROM:-0600
TZOFFSETTO:-0500
TZNAME:CDT
DTSTART:20260308T080000
END:DAYLIGHT
BEGIN:STANDARD
TZOFFSETFROM:-0500
TZOFFSETTO:-0600
TZNAME:CST
DTSTART:20261101T070000
END:STANDARD
BEGIN:DAYLIGHT
TZOFFSETFROM:-0600
TZOFFSETTO:-0500
TZNAME:CDT
DTSTART:20270314T080000
END:DAYLIGHT
BEGIN:STANDARD
TZOFFSETFROM:-0500
TZOFFSETTO:-0600
TZNAME:CST
DTSTART:20271107T070000
END:STANDARD
BEGIN:DAYLIGHT
TZOFFSETFROM:-0600
TZOFFSETTO:-0500
TZNAME:CDT
DTSTART:20280312T080000
END:DAYLIGHT
BEGIN:STANDARD
TZOFFSETFROM:-0500
TZOFFSETTO:-0600
TZNAME:CST
DTSTART:20281105T070000
END:STANDARD
END:VTIMEZONE
BEGIN:VEVENT
DTSTART;TZID=America/Chicago:20260828T100000
DTEND;TZID=America/Chicago:20260828T140000
DTSTAMP:20260425T100655
CREATED:20260419T031416Z
LAST-MODIFIED:20260419T031418Z
UID:10015148-1787911200-1787925600@ruralnewfamilies.com
SUMMARY:🍔🌭 American Legion Brat Fry
DESCRIPTION:Menu: \n\n\n\n\nBrat\n\n\n\nHamburger\n\n\n\nCheeseburger\n\n\n\nChedderwurst\n\n\n\nHot dog\n\n\n\nChips/Soda/Water
URL:https://ruralnewfamilies.com/event/%f0%9f%8d%94%f0%9f%8c%ad-american-legion-brat-fry/2026-08-28/
LOCATION:BP – Clintonville\, 325 S Main St\, Clintonville\, Wisconsin\, 54929\, United States
CATEGORIES:Fundraiser,Veterans
GEO:44.604443;-88.7641666
X-APPLE-STRUCTURED-LOCATION;VALUE=URI;X-ADDRESS=BP – Clintonville 325 S Main St Clintonville Wisconsin 54929 United States;X-APPLE-RADIUS=500;X-TITLE=325 S Main St:geo:-88.7641666,44.604443
END:VEVENT
BEGIN:VEVENT
DTSTART;TZID=America/Chicago:20260903T100000
DTEND;TZID=America/Chicago:20260903T140000
DTSTAMP:20260425T100655
CREATED:20260419T031416Z
LAST-MODIFIED:20260419T031418Z
UID:10015149-1788429600-1788444000@ruralnewfamilies.com
SUMMARY:🍔🌭 American Legion Brat Fry
DESCRIPTION:Menu: \n\n\n\n\nBrat\n\n\n\nHamburger\n\n\n\nCheeseburger\n\n\n\nChedderwurst\n\n\n\nHot dog\n\n\n\nChips/Soda/Water
URL:https://ruralnewfamilies.com/event/%f0%9f%8d%94%f0%9f%8c%ad-american-legion-brat-fry/2026-09-03/
LOCATION:BP – Clintonville\, 325 S Main St\, Clintonville\, Wisconsin\, 54929\, United States
CATEGORIES:Fundraiser,Veterans
GEO:44.604443;-88.7641666
X-APPLE-STRUCTURED-LOCATION;VALUE=URI;X-ADDRESS=BP – Clintonville 325 S Main St Clintonville Wisconsin 54929 United States;X-APPLE-RADIUS=500;X-TITLE=325 S Main St:geo:-88.7641666,44.604443
END:VEVENT
BEGIN:VEVENT
DTSTART;TZID=America/Chicago:20260904T100000
DTEND;TZID=America/Chicago:20260904T140000
DTSTAMP:20260425T100655
CREATED:20260419T031416Z
LAST-MODIFIED:20260419T031418Z
UID:10015150-1788516000-1788530400@ruralnewfamilies.com
SUMMARY:🍔🌭 American Legion Brat Fry
DESCRIPTION:Menu: \n\n\n\n\nBrat\n\n\n\nHamburger\n\n\n\nCheeseburger\n\n\n\nChedderwurst\n\n\n\nHot dog\n\n\n\nChips/Soda/Water
URL:https://ruralnewfamilies.com/event/%f0%9f%8d%94%f0%9f%8c%ad-american-legion-brat-fry/2026-09-04/
LOCATION:BP – Clintonville\, 325 S Main St\, Clintonville\, Wisconsin\, 54929\, United States
CATEGORIES:Fundraiser,Veterans
GEO:44.604443;-88.7641666
X-APPLE-STRUCTURED-LOCATION;VALUE=URI;X-ADDRESS=BP – Clintonville 325 S Main St Clintonville Wisconsin 54929 United States;X-APPLE-RADIUS=500;X-TITLE=325 S Main St:geo:-88.7641666,44.604443
END:VEVENT
BEGIN:VEVENT
DTSTART;TZID=America/Chicago:20260909T100000
DTEND;TZID=America/Chicago:20260909T110000
DTSTAMP:20260425T100655
CREATED:20240424T184449Z
LAST-MODIFIED:20240424T184452Z
UID:10005899-1788948000-1788951600@ruralnewfamilies.com
SUMMARY:🇺🇸 ☕️ Veteran Coffee Clutch
DESCRIPTION:Come chat with fellow Veterans over coffee and snacks!
URL:https://ruralnewfamilies.com/event/%f0%9f%87%ba%f0%9f%87%b8-%e2%98%95%ef%b8%8f-veteran-coffee-clutch/2026-09-09/
LOCATION:Shawano Health Services\, South Lincoln Street 1436\, Shawano\, Wisconsin\, 54166\, United States
CATEGORIES:Veterans
GEO:44.7631921;-88.602917
X-APPLE-STRUCTURED-LOCATION;VALUE=URI;X-ADDRESS=Shawano Health Services South Lincoln Street 1436 Shawano Wisconsin 54166 United States;X-APPLE-RADIUS=500;X-TITLE=South Lincoln Street 1436:geo:-88.602917,44.7631921
END:VEVENT
BEGIN:VEVENT
DTSTART;TZID=America/Chicago:20260910T100000
DTEND;TZID=America/Chicago:20260910T140000
DTSTAMP:20260425T100655
CREATED:20260419T031416Z
LAST-MODIFIED:20260419T031418Z
UID:10015151-1789034400-1789048800@ruralnewfamilies.com
SUMMARY:🍔🌭 American Legion Brat Fry
DESCRIPTION:Menu: \n\n\n\n\nBrat\n\n\n\nHamburger\n\n\n\nCheeseburger\n\n\n\nChedderwurst\n\n\n\nHot dog\n\n\n\nChips/Soda/Water
URL:https://ruralnewfamilies.com/event/%f0%9f%8d%94%f0%9f%8c%ad-american-legion-brat-fry/2026-09-10/
LOCATION:BP – Clintonville\, 325 S Main St\, Clintonville\, Wisconsin\, 54929\, United States
CATEGORIES:Fundraiser,Veterans
GEO:44.604443;-88.7641666
X-APPLE-STRUCTURED-LOCATION;VALUE=URI;X-ADDRESS=BP – Clintonville 325 S Main St Clintonville Wisconsin 54929 United States;X-APPLE-RADIUS=500;X-TITLE=325 S Main St:geo:-88.7641666,44.604443
END:VEVENT
BEGIN:VEVENT
DTSTART;TZID=America/Chicago:20260911T100000
DTEND;TZID=America/Chicago:20260911T140000
DTSTAMP:20260425T100655
CREATED:20260419T031416Z
LAST-MODIFIED:20260419T031418Z
UID:10015152-1789120800-1789135200@ruralnewfamilies.com
SUMMARY:🍔🌭 American Legion Brat Fry
DESCRIPTION:Menu: \n\n\n\n\nBrat\n\n\n\nHamburger\n\n\n\nCheeseburger\n\n\n\nChedderwurst\n\n\n\nHot dog\n\n\n\nChips/Soda/Water
URL:https://ruralnewfamilies.com/event/%f0%9f%8d%94%f0%9f%8c%ad-american-legion-brat-fry/2026-09-11/
LOCATION:BP – Clintonville\, 325 S Main St\, Clintonville\, Wisconsin\, 54929\, United States
CATEGORIES:Fundraiser,Veterans
GEO:44.604443;-88.7641666
X-APPLE-STRUCTURED-LOCATION;VALUE=URI;X-ADDRESS=BP – Clintonville 325 S Main St Clintonville Wisconsin 54929 United States;X-APPLE-RADIUS=500;X-TITLE=325 S Main St:geo:-88.7641666,44.604443
END:VEVENT
BEGIN:VEVENT
DTSTART;TZID=America/Chicago:20260917T100000
DTEND;TZID=America/Chicago:20260917T140000
DTSTAMP:20260425T100655
CREATED:20260419T031416Z
LAST-MODIFIED:20260419T031418Z
UID:10015153-1789639200-1789653600@ruralnewfamilies.com
SUMMARY:🍔🌭 American Legion Brat Fry
DESCRIPTION:Menu: \n\n\n\n\nBrat\n\n\n\nHamburger\n\n\n\nCheeseburger\n\n\n\nChedderwurst\n\n\n\nHot dog\n\n\n\nChips/Soda/Water
URL:https://ruralnewfamilies.com/event/%f0%9f%8d%94%f0%9f%8c%ad-american-legion-brat-fry/2026-09-17/
LOCATION:BP – Clintonville\, 325 S Main St\, Clintonville\, Wisconsin\, 54929\, United States
CATEGORIES:Fundraiser,Veterans
GEO:44.604443;-88.7641666
X-APPLE-STRUCTURED-LOCATION;VALUE=URI;X-ADDRESS=BP – Clintonville 325 S Main St Clintonville Wisconsin 54929 United States;X-APPLE-RADIUS=500;X-TITLE=325 S Main St:geo:-88.7641666,44.604443
END:VEVENT
BEGIN:VEVENT
DTSTART;TZID=America/Chicago:20260918T100000
DTEND;TZID=America/Chicago:20260918T140000
DTSTAMP:20260425T100655
CREATED:20260419T031416Z
LAST-MODIFIED:20260419T031418Z
UID:10015154-1789725600-1789740000@ruralnewfamilies.com
SUMMARY:🍔🌭 American Legion Brat Fry
DESCRIPTION:Menu: \n\n\n\n\nBrat\n\n\n\nHamburger\n\n\n\nCheeseburger\n\n\n\nChedderwurst\n\n\n\nHot dog\n\n\n\nChips/Soda/Water
URL:https://ruralnewfamilies.com/event/%f0%9f%8d%94%f0%9f%8c%ad-american-legion-brat-fry/2026-09-18/
LOCATION:BP – Clintonville\, 325 S Main St\, Clintonville\, Wisconsin\, 54929\, United States
CATEGORIES:Fundraiser,Veterans
GEO:44.604443;-88.7641666
X-APPLE-STRUCTURED-LOCATION;VALUE=URI;X-ADDRESS=BP – Clintonville 325 S Main St Clintonville Wisconsin 54929 United States;X-APPLE-RADIUS=500;X-TITLE=325 S Main St:geo:-88.7641666,44.604443
END:VEVENT
BEGIN:VEVENT
DTSTART;TZID=America/Chicago:20260924T100000
DTEND;TZID=America/Chicago:20260924T140000
DTSTAMP:20260425T100655
CREATED:20260419T031416Z
LAST-MODIFIED:20260419T031418Z
UID:10015155-1790244000-1790258400@ruralnewfamilies.com
SUMMARY:🍔🌭 American Legion Brat Fry
DESCRIPTION:Menu: \n\n\n\n\nBrat\n\n\n\nHamburger\n\n\n\nCheeseburger\n\n\n\nChedderwurst\n\n\n\nHot dog\n\n\n\nChips/Soda/Water
URL:https://ruralnewfamilies.com/event/%f0%9f%8d%94%f0%9f%8c%ad-american-legion-brat-fry/2026-09-24/
LOCATION:BP – Clintonville\, 325 S Main St\, Clintonville\, Wisconsin\, 54929\, United States
CATEGORIES:Fundraiser,Veterans
GEO:44.604443;-88.7641666
X-APPLE-STRUCTURED-LOCATION;VALUE=URI;X-ADDRESS=BP – Clintonville 325 S Main St Clintonville Wisconsin 54929 United States;X-APPLE-RADIUS=500;X-TITLE=325 S Main St:geo:-88.7641666,44.604443
END:VEVENT
BEGIN:VEVENT
DTSTART;TZID=America/Chicago:20260925T100000
DTEND;TZID=America/Chicago:20260925T140000
DTSTAMP:20260425T100655
CREATED:20260419T031416Z
LAST-MODIFIED:20260419T031418Z
UID:10015156-1790330400-1790344800@ruralnewfamilies.com
SUMMARY:🍔🌭 American Legion Brat Fry
DESCRIPTION:Menu: \n\n\n\n\nBrat\n\n\n\nHamburger\n\n\n\nCheeseburger\n\n\n\nChedderwurst\n\n\n\nHot dog\n\n\n\nChips/Soda/Water
URL:https://ruralnewfamilies.com/event/%f0%9f%8d%94%f0%9f%8c%ad-american-legion-brat-fry/2026-09-25/
LOCATION:BP – Clintonville\, 325 S Main St\, Clintonville\, Wisconsin\, 54929\, United States
CATEGORIES:Fundraiser,Veterans
GEO:44.604443;-88.7641666
X-APPLE-STRUCTURED-LOCATION;VALUE=URI;X-ADDRESS=BP – Clintonville 325 S Main St Clintonville Wisconsin 54929 United States;X-APPLE-RADIUS=500;X-TITLE=325 S Main St:geo:-88.7641666,44.604443
END:VEVENT
BEGIN:VEVENT
DTSTART;TZID=America/Chicago:20261001T100000
DTEND;TZID=America/Chicago:20261001T140000
DTSTAMP:20260425T100655
CREATED:20260419T031416Z
LAST-MODIFIED:20260419T031418Z
UID:10015157-1790848800-1790863200@ruralnewfamilies.com
SUMMARY:🍔🌭 American Legion Brat Fry
DESCRIPTION:Menu: \n\n\n\n\nBrat\n\n\n\nHamburger\n\n\n\nCheeseburger\n\n\n\nChedderwurst\n\n\n\nHot dog\n\n\n\nChips/Soda/Water
URL:https://ruralnewfamilies.com/event/%f0%9f%8d%94%f0%9f%8c%ad-american-legion-brat-fry/2026-10-01/
LOCATION:BP – Clintonville\, 325 S Main St\, Clintonville\, Wisconsin\, 54929\, United States
CATEGORIES:Fundraiser,Veterans
GEO:44.604443;-88.7641666
X-APPLE-STRUCTURED-LOCATION;VALUE=URI;X-ADDRESS=BP – Clintonville 325 S Main St Clintonville Wisconsin 54929 United States;X-APPLE-RADIUS=500;X-TITLE=325 S Main St:geo:-88.7641666,44.604443
END:VEVENT
BEGIN:VEVENT
DTSTART;TZID=America/Chicago:20261002T100000
DTEND;TZID=America/Chicago:20261002T140000
DTSTAMP:20260425T100655
CREATED:20260419T031416Z
LAST-MODIFIED:20260419T031418Z
UID:10015158-1790935200-1790949600@ruralnewfamilies.com
SUMMARY:🍔🌭 American Legion Brat Fry
DESCRIPTION:Menu: \n\n\n\n\nBrat\n\n\n\nHamburger\n\n\n\nCheeseburger\n\n\n\nChedderwurst\n\n\n\nHot dog\n\n\n\nChips/Soda/Water
URL:https://ruralnewfamilies.com/event/%f0%9f%8d%94%f0%9f%8c%ad-american-legion-brat-fry/2026-10-02/
LOCATION:BP – Clintonville\, 325 S Main St\, Clintonville\, Wisconsin\, 54929\, United States
CATEGORIES:Fundraiser,Veterans
GEO:44.604443;-88.7641666
X-APPLE-STRUCTURED-LOCATION;VALUE=URI;X-ADDRESS=BP – Clintonville 325 S Main St Clintonville Wisconsin 54929 United States;X-APPLE-RADIUS=500;X-TITLE=325 S Main St:geo:-88.7641666,44.604443
END:VEVENT
BEGIN:VEVENT
DTSTART;TZID=America/Chicago:20261008T100000
DTEND;TZID=America/Chicago:20261008T140000
DTSTAMP:20260425T100655
CREATED:20260419T031416Z
LAST-MODIFIED:20260419T031418Z
UID:10015159-1791453600-1791468000@ruralnewfamilies.com
SUMMARY:🍔🌭 American Legion Brat Fry
DESCRIPTION:Menu: \n\n\n\n\nBrat\n\n\n\nHamburger\n\n\n\nCheeseburger\n\n\n\nChedderwurst\n\n\n\nHot dog\n\n\n\nChips/Soda/Water
URL:https://ruralnewfamilies.com/event/%f0%9f%8d%94%f0%9f%8c%ad-american-legion-brat-fry/2026-10-08/
LOCATION:BP – Clintonville\, 325 S Main St\, Clintonville\, Wisconsin\, 54929\, United States
CATEGORIES:Fundraiser,Veterans
GEO:44.604443;-88.7641666
X-APPLE-STRUCTURED-LOCATION;VALUE=URI;X-ADDRESS=BP – Clintonville 325 S Main St Clintonville Wisconsin 54929 United States;X-APPLE-RADIUS=500;X-TITLE=325 S Main St:geo:-88.7641666,44.604443
END:VEVENT
BEGIN:VEVENT
DTSTART;TZID=America/Chicago:20261009T100000
DTEND;TZID=America/Chicago:20261009T140000
DTSTAMP:20260425T100655
CREATED:20260419T031416Z
LAST-MODIFIED:20260419T031418Z
UID:10015160-1791540000-1791554400@ruralnewfamilies.com
SUMMARY:🍔🌭 American Legion Brat Fry
DESCRIPTION:Menu: \n\n\n\n\nBrat\n\n\n\nHamburger\n\n\n\nCheeseburger\n\n\n\nChedderwurst\n\n\n\nHot dog\n\n\n\nChips/Soda/Water
URL:https://ruralnewfamilies.com/event/%f0%9f%8d%94%f0%9f%8c%ad-american-legion-brat-fry/2026-10-09/
LOCATION:BP – Clintonville\, 325 S Main St\, Clintonville\, Wisconsin\, 54929\, United States
CATEGORIES:Fundraiser,Veterans
GEO:44.604443;-88.7641666
X-APPLE-STRUCTURED-LOCATION;VALUE=URI;X-ADDRESS=BP – Clintonville 325 S Main St Clintonville Wisconsin 54929 United States;X-APPLE-RADIUS=500;X-TITLE=325 S Main St:geo:-88.7641666,44.604443
END:VEVENT
BEGIN:VEVENT
DTSTART;TZID=America/Chicago:20261014T100000
DTEND;TZID=America/Chicago:20261014T110000
DTSTAMP:20260425T100655
CREATED:20240424T184449Z
LAST-MODIFIED:20240424T184452Z
UID:10005900-1791972000-1791975600@ruralnewfamilies.com
SUMMARY:🇺🇸 ☕️ Veteran Coffee Clutch
DESCRIPTION:Come chat with fellow Veterans over coffee and snacks!
URL:https://ruralnewfamilies.com/event/%f0%9f%87%ba%f0%9f%87%b8-%e2%98%95%ef%b8%8f-veteran-coffee-clutch/2026-10-14/
LOCATION:Shawano Health Services\, South Lincoln Street 1436\, Shawano\, Wisconsin\, 54166\, United States
CATEGORIES:Veterans
GEO:44.7631921;-88.602917
X-APPLE-STRUCTURED-LOCATION;VALUE=URI;X-ADDRESS=Shawano Health Services South Lincoln Street 1436 Shawano Wisconsin 54166 United States;X-APPLE-RADIUS=500;X-TITLE=South Lincoln Street 1436:geo:-88.602917,44.7631921
END:VEVENT
BEGIN:VEVENT
DTSTART;TZID=America/Chicago:20261015T100000
DTEND;TZID=America/Chicago:20261015T140000
DTSTAMP:20260425T100655
CREATED:20260419T031416Z
LAST-MODIFIED:20260419T031418Z
UID:10015161-1792058400-1792072800@ruralnewfamilies.com
SUMMARY:🍔🌭 American Legion Brat Fry
DESCRIPTION:Menu: \n\n\n\n\nBrat\n\n\n\nHamburger\n\n\n\nCheeseburger\n\n\n\nChedderwurst\n\n\n\nHot dog\n\n\n\nChips/Soda/Water
URL:https://ruralnewfamilies.com/event/%f0%9f%8d%94%f0%9f%8c%ad-american-legion-brat-fry/2026-10-15/
LOCATION:BP – Clintonville\, 325 S Main St\, Clintonville\, Wisconsin\, 54929\, United States
CATEGORIES:Fundraiser,Veterans
GEO:44.604443;-88.7641666
X-APPLE-STRUCTURED-LOCATION;VALUE=URI;X-ADDRESS=BP – Clintonville 325 S Main St Clintonville Wisconsin 54929 United States;X-APPLE-RADIUS=500;X-TITLE=325 S Main St:geo:-88.7641666,44.604443
END:VEVENT
BEGIN:VEVENT
DTSTART;TZID=America/Chicago:20261016T100000
DTEND;TZID=America/Chicago:20261016T140000
DTSTAMP:20260425T100655
CREATED:20260419T031416Z
LAST-MODIFIED:20260419T031418Z
UID:10015162-1792144800-1792159200@ruralnewfamilies.com
SUMMARY:🍔🌭 American Legion Brat Fry
DESCRIPTION:Menu: \n\n\n\n\nBrat\n\n\n\nHamburger\n\n\n\nCheeseburger\n\n\n\nChedderwurst\n\n\n\nHot dog\n\n\n\nChips/Soda/Water
URL:https://ruralnewfamilies.com/event/%f0%9f%8d%94%f0%9f%8c%ad-american-legion-brat-fry/2026-10-16/
LOCATION:BP – Clintonville\, 325 S Main St\, Clintonville\, Wisconsin\, 54929\, United States
CATEGORIES:Fundraiser,Veterans
GEO:44.604443;-88.7641666
X-APPLE-STRUCTURED-LOCATION;VALUE=URI;X-ADDRESS=BP – Clintonville 325 S Main St Clintonville Wisconsin 54929 United States;X-APPLE-RADIUS=500;X-TITLE=325 S Main St:geo:-88.7641666,44.604443
END:VEVENT
BEGIN:VEVENT
DTSTART;TZID=America/Chicago:20261022T100000
DTEND;TZID=America/Chicago:20261022T140000
DTSTAMP:20260425T100655
CREATED:20260419T031416Z
LAST-MODIFIED:20260419T031418Z
UID:10015163-1792663200-1792677600@ruralnewfamilies.com
SUMMARY:🍔🌭 American Legion Brat Fry
DESCRIPTION:Menu: \n\n\n\n\nBrat\n\n\n\nHamburger\n\n\n\nCheeseburger\n\n\n\nChedderwurst\n\n\n\nHot dog\n\n\n\nChips/Soda/Water
URL:https://ruralnewfamilies.com/event/%f0%9f%8d%94%f0%9f%8c%ad-american-legion-brat-fry/2026-10-22/
LOCATION:BP – Clintonville\, 325 S Main St\, Clintonville\, Wisconsin\, 54929\, United States
CATEGORIES:Fundraiser,Veterans
GEO:44.604443;-88.7641666
X-APPLE-STRUCTURED-LOCATION;VALUE=URI;X-ADDRESS=BP – Clintonville 325 S Main St Clintonville Wisconsin 54929 United States;X-APPLE-RADIUS=500;X-TITLE=325 S Main St:geo:-88.7641666,44.604443
END:VEVENT
BEGIN:VEVENT
DTSTART;TZID=America/Chicago:20261023T100000
DTEND;TZID=America/Chicago:20261023T140000
DTSTAMP:20260425T100655
CREATED:20260419T031416Z
LAST-MODIFIED:20260419T031418Z
UID:10015164-1792749600-1792764000@ruralnewfamilies.com
SUMMARY:🍔🌭 American Legion Brat Fry
DESCRIPTION:Menu: \n\n\n\n\nBrat\n\n\n\nHamburger\n\n\n\nCheeseburger\n\n\n\nChedderwurst\n\n\n\nHot dog\n\n\n\nChips/Soda/Water
URL:https://ruralnewfamilies.com/event/%f0%9f%8d%94%f0%9f%8c%ad-american-legion-brat-fry/2026-10-23/
LOCATION:BP – Clintonville\, 325 S Main St\, Clintonville\, Wisconsin\, 54929\, United States
CATEGORIES:Fundraiser,Veterans
GEO:44.604443;-88.7641666
X-APPLE-STRUCTURED-LOCATION;VALUE=URI;X-ADDRESS=BP – Clintonville 325 S Main St Clintonville Wisconsin 54929 United States;X-APPLE-RADIUS=500;X-TITLE=325 S Main St:geo:-88.7641666,44.604443
END:VEVENT
BEGIN:VEVENT
DTSTART;TZID=America/Chicago:20261029T100000
DTEND;TZID=America/Chicago:20261029T140000
DTSTAMP:20260425T100655
CREATED:20260419T031416Z
LAST-MODIFIED:20260419T031418Z
UID:10015165-1793268000-1793282400@ruralnewfamilies.com
SUMMARY:🍔🌭 American Legion Brat Fry
DESCRIPTION:Menu: \n\n\n\n\nBrat\n\n\n\nHamburger\n\n\n\nCheeseburger\n\n\n\nChedderwurst\n\n\n\nHot dog\n\n\n\nChips/Soda/Water
URL:https://ruralnewfamilies.com/event/%f0%9f%8d%94%f0%9f%8c%ad-american-legion-brat-fry/2026-10-29/
LOCATION:BP – Clintonville\, 325 S Main St\, Clintonville\, Wisconsin\, 54929\, United States
CATEGORIES:Fundraiser,Veterans
GEO:44.604443;-88.7641666
X-APPLE-STRUCTURED-LOCATION;VALUE=URI;X-ADDRESS=BP – Clintonville 325 S Main St Clintonville Wisconsin 54929 United States;X-APPLE-RADIUS=500;X-TITLE=325 S Main St:geo:-88.7641666,44.604443
END:VEVENT
BEGIN:VEVENT
DTSTART;TZID=America/Chicago:20261030T100000
DTEND;TZID=America/Chicago:20261030T140000
DTSTAMP:20260425T100655
CREATED:20260419T031416Z
LAST-MODIFIED:20260419T031418Z
UID:10015166-1793354400-1793368800@ruralnewfamilies.com
SUMMARY:🍔🌭 American Legion Brat Fry
DESCRIPTION:Menu: \n\n\n\n\nBrat\n\n\n\nHamburger\n\n\n\nCheeseburger\n\n\n\nChedderwurst\n\n\n\nHot dog\n\n\n\nChips/Soda/Water
URL:https://ruralnewfamilies.com/event/%f0%9f%8d%94%f0%9f%8c%ad-american-legion-brat-fry/2026-10-30/
LOCATION:BP – Clintonville\, 325 S Main St\, Clintonville\, Wisconsin\, 54929\, United States
CATEGORIES:Fundraiser,Veterans
GEO:44.604443;-88.7641666
X-APPLE-STRUCTURED-LOCATION;VALUE=URI;X-ADDRESS=BP – Clintonville 325 S Main St Clintonville Wisconsin 54929 United States;X-APPLE-RADIUS=500;X-TITLE=325 S Main St:geo:-88.7641666,44.604443
END:VEVENT
BEGIN:VEVENT
DTSTART;TZID=America/Chicago:20261111T100000
DTEND;TZID=America/Chicago:20261111T110000
DTSTAMP:20260425T100655
CREATED:20240424T184449Z
LAST-MODIFIED:20240424T184452Z
UID:10005901-1794391200-1794394800@ruralnewfamilies.com
SUMMARY:🇺🇸 ☕️ Veteran Coffee Clutch
DESCRIPTION:Come chat with fellow Veterans over coffee and snacks!
URL:https://ruralnewfamilies.com/event/%f0%9f%87%ba%f0%9f%87%b8-%e2%98%95%ef%b8%8f-veteran-coffee-clutch/2026-11-11/
LOCATION:Shawano Health Services\, South Lincoln Street 1436\, Shawano\, Wisconsin\, 54166\, United States
CATEGORIES:Veterans
GEO:44.7631921;-88.602917
X-APPLE-STRUCTURED-LOCATION;VALUE=URI;X-ADDRESS=Shawano Health Services South Lincoln Street 1436 Shawano Wisconsin 54166 United States;X-APPLE-RADIUS=500;X-TITLE=South Lincoln Street 1436:geo:-88.602917,44.7631921
END:VEVENT
BEGIN:VEVENT
DTSTART;TZID=America/Chicago:20261209T100000
DTEND;TZID=America/Chicago:20261209T110000
DTSTAMP:20260425T100655
CREATED:20240424T184449Z
LAST-MODIFIED:20240424T184452Z
UID:10005902-1796810400-1796814000@ruralnewfamilies.com
SUMMARY:🇺🇸 ☕️ Veteran Coffee Clutch
DESCRIPTION:Come chat with fellow Veterans over coffee and snacks!
URL:https://ruralnewfamilies.com/event/%f0%9f%87%ba%f0%9f%87%b8-%e2%98%95%ef%b8%8f-veteran-coffee-clutch/2026-12-09/
LOCATION:Shawano Health Services\, South Lincoln Street 1436\, Shawano\, Wisconsin\, 54166\, United States
CATEGORIES:Veterans
GEO:44.7631921;-88.602917
X-APPLE-STRUCTURED-LOCATION;VALUE=URI;X-ADDRESS=Shawano Health Services South Lincoln Street 1436 Shawano Wisconsin 54166 United States;X-APPLE-RADIUS=500;X-TITLE=South Lincoln Street 1436:geo:-88.602917,44.7631921
END:VEVENT
BEGIN:VEVENT
DTSTART;TZID=America/Chicago:20270113T100000
DTEND;TZID=America/Chicago:20270113T110000
DTSTAMP:20260425T100655
CREATED:20240424T184449Z
LAST-MODIFIED:20240424T184452Z
UID:10005903-1799834400-1799838000@ruralnewfamilies.com
SUMMARY:🇺🇸 ☕️ Veteran Coffee Clutch
DESCRIPTION:Come chat with fellow Veterans over coffee and snacks!
URL:https://ruralnewfamilies.com/event/%f0%9f%87%ba%f0%9f%87%b8-%e2%98%95%ef%b8%8f-veteran-coffee-clutch/2027-01-13/
LOCATION:Shawano Health Services\, South Lincoln Street 1436\, Shawano\, Wisconsin\, 54166\, United States
CATEGORIES:Veterans
GEO:44.7631921;-88.602917
X-APPLE-STRUCTURED-LOCATION;VALUE=URI;X-ADDRESS=Shawano Health Services South Lincoln Street 1436 Shawano Wisconsin 54166 United States;X-APPLE-RADIUS=500;X-TITLE=South Lincoln Street 1436:geo:-88.602917,44.7631921
END:VEVENT
BEGIN:VEVENT
DTSTART;TZID=America/Chicago:20270210T100000
DTEND;TZID=America/Chicago:20270210T110000
DTSTAMP:20260425T100655
CREATED:20240424T184449Z
LAST-MODIFIED:20240424T184452Z
UID:10005904-1802253600-1802257200@ruralnewfamilies.com
SUMMARY:🇺🇸 ☕️ Veteran Coffee Clutch
DESCRIPTION:Come chat with fellow Veterans over coffee and snacks!
URL:https://ruralnewfamilies.com/event/%f0%9f%87%ba%f0%9f%87%b8-%e2%98%95%ef%b8%8f-veteran-coffee-clutch/2027-02-10/
LOCATION:Shawano Health Services\, South Lincoln Street 1436\, Shawano\, Wisconsin\, 54166\, United States
CATEGORIES:Veterans
GEO:44.7631921;-88.602917
X-APPLE-STRUCTURED-LOCATION;VALUE=URI;X-ADDRESS=Shawano Health Services South Lincoln Street 1436 Shawano Wisconsin 54166 United States;X-APPLE-RADIUS=500;X-TITLE=South Lincoln Street 1436:geo:-88.602917,44.7631921
END:VEVENT
BEGIN:VEVENT
DTSTART;TZID=America/Chicago:20270310T100000
DTEND;TZID=America/Chicago:20270310T110000
DTSTAMP:20260425T100655
CREATED:20240424T184449Z
LAST-MODIFIED:20240424T184452Z
UID:10005905-1804672800-1804676400@ruralnewfamilies.com
SUMMARY:🇺🇸 ☕️ Veteran Coffee Clutch
DESCRIPTION:Come chat with fellow Veterans over coffee and snacks!
URL:https://ruralnewfamilies.com/event/%f0%9f%87%ba%f0%9f%87%b8-%e2%98%95%ef%b8%8f-veteran-coffee-clutch/2027-03-10/
LOCATION:Shawano Health Services\, South Lincoln Street 1436\, Shawano\, Wisconsin\, 54166\, United States
CATEGORIES:Veterans
GEO:44.7631921;-88.602917
X-APPLE-STRUCTURED-LOCATION;VALUE=URI;X-ADDRESS=Shawano Health Services South Lincoln Street 1436 Shawano Wisconsin 54166 United States;X-APPLE-RADIUS=500;X-TITLE=South Lincoln Street 1436:geo:-88.602917,44.7631921
END:VEVENT
BEGIN:VEVENT
DTSTART;TZID=America/Chicago:20270414T100000
DTEND;TZID=America/Chicago:20270414T110000
DTSTAMP:20260425T100655
CREATED:20240424T184449Z
LAST-MODIFIED:20240424T184452Z
UID:10005906-1807696800-1807700400@ruralnewfamilies.com
SUMMARY:🇺🇸 ☕️ Veteran Coffee Clutch
DESCRIPTION:Come chat with fellow Veterans over coffee and snacks!
URL:https://ruralnewfamilies.com/event/%f0%9f%87%ba%f0%9f%87%b8-%e2%98%95%ef%b8%8f-veteran-coffee-clutch/2027-04-14/
LOCATION:Shawano Health Services\, South Lincoln Street 1436\, Shawano\, Wisconsin\, 54166\, United States
CATEGORIES:Veterans
GEO:44.7631921;-88.602917
X-APPLE-STRUCTURED-LOCATION;VALUE=URI;X-ADDRESS=Shawano Health Services South Lincoln Street 1436 Shawano Wisconsin 54166 United States;X-APPLE-RADIUS=500;X-TITLE=South Lincoln Street 1436:geo:-88.602917,44.7631921
END:VEVENT
BEGIN:VEVENT
DTSTART;TZID=America/Chicago:20270512T100000
DTEND;TZID=America/Chicago:20270512T110000
DTSTAMP:20260425T100655
CREATED:20240424T184449Z
LAST-MODIFIED:20240424T184452Z
UID:10005907-1810116000-1810119600@ruralnewfamilies.com
SUMMARY:🇺🇸 ☕️ Veteran Coffee Clutch
DESCRIPTION:Come chat with fellow Veterans over coffee and snacks!
URL:https://ruralnewfamilies.com/event/%f0%9f%87%ba%f0%9f%87%b8-%e2%98%95%ef%b8%8f-veteran-coffee-clutch/2027-05-12/
LOCATION:Shawano Health Services\, South Lincoln Street 1436\, Shawano\, Wisconsin\, 54166\, United States
CATEGORIES:Veterans
GEO:44.7631921;-88.602917
X-APPLE-STRUCTURED-LOCATION;VALUE=URI;X-ADDRESS=Shawano Health Services South Lincoln Street 1436 Shawano Wisconsin 54166 United States;X-APPLE-RADIUS=500;X-TITLE=South Lincoln Street 1436:geo:-88.602917,44.7631921
END:VEVENT
BEGIN:VEVENT
DTSTART;TZID=America/Chicago:20270609T100000
DTEND;TZID=America/Chicago:20270609T110000
DTSTAMP:20260425T100655
CREATED:20240424T184449Z
LAST-MODIFIED:20240424T184452Z
UID:10005908-1812535200-1812538800@ruralnewfamilies.com
SUMMARY:🇺🇸 ☕️ Veteran Coffee Clutch
DESCRIPTION:Come chat with fellow Veterans over coffee and snacks!
URL:https://ruralnewfamilies.com/event/%f0%9f%87%ba%f0%9f%87%b8-%e2%98%95%ef%b8%8f-veteran-coffee-clutch/2027-06-09/
LOCATION:Shawano Health Services\, South Lincoln Street 1436\, Shawano\, Wisconsin\, 54166\, United States
CATEGORIES:Veterans
GEO:44.7631921;-88.602917
X-APPLE-STRUCTURED-LOCATION;VALUE=URI;X-ADDRESS=Shawano Health Services South Lincoln Street 1436 Shawano Wisconsin 54166 United States;X-APPLE-RADIUS=500;X-TITLE=South Lincoln Street 1436:geo:-88.602917,44.7631921
END:VEVENT
BEGIN:VEVENT
DTSTART;TZID=America/Chicago:20270714T100000
DTEND;TZID=America/Chicago:20270714T110000
DTSTAMP:20260425T100655
CREATED:20240424T184449Z
LAST-MODIFIED:20240424T184452Z
UID:10005909-1815559200-1815562800@ruralnewfamilies.com
SUMMARY:🇺🇸 ☕️ Veteran Coffee Clutch
DESCRIPTION:Come chat with fellow Veterans over coffee and snacks!
URL:https://ruralnewfamilies.com/event/%f0%9f%87%ba%f0%9f%87%b8-%e2%98%95%ef%b8%8f-veteran-coffee-clutch/2027-07-14/
LOCATION:Shawano Health Services\, South Lincoln Street 1436\, Shawano\, Wisconsin\, 54166\, United States
CATEGORIES:Veterans
GEO:44.7631921;-88.602917
X-APPLE-STRUCTURED-LOCATION;VALUE=URI;X-ADDRESS=Shawano Health Services South Lincoln Street 1436 Shawano Wisconsin 54166 United States;X-APPLE-RADIUS=500;X-TITLE=South Lincoln Street 1436:geo:-88.602917,44.7631921
END:VEVENT
END:VCALENDAR