BEGIN:VCALENDAR
VERSION:2.0
PRODID:-//Rural Northeast Wisconsin Families - ECPv6.15.20//NONSGML v1.0//EN
CALSCALE:GREGORIAN
METHOD:PUBLISH
X-ORIGINAL-URL:https://ruralnewfamilies.com
X-WR-CALDESC:Events for Rural Northeast Wisconsin Families
REFRESH-INTERVAL;VALUE=DURATION:PT1H
X-Robots-Tag:noindex
X-PUBLISHED-TTL:PT1H
BEGIN:VTIMEZONE
TZID:America/Chicago
BEGIN:DAYLIGHT
TZOFFSETFROM:-0600
TZOFFSETTO:-0500
TZNAME:CDT
DTSTART:20250309T080000
END:DAYLIGHT
BEGIN:STANDARD
TZOFFSETFROM:-0500
TZOFFSETTO:-0600
TZNAME:CST
DTSTART:20251102T070000
END:STANDARD
BEGIN:DAYLIGHT
TZOFFSETFROM:-0600
TZOFFSETTO:-0500
TZNAME:CDT
DTSTART:20260308T080000
END:DAYLIGHT
BEGIN:STANDARD
TZOFFSETFROM:-0500
TZOFFSETTO:-0600
TZNAME:CST
DTSTART:20261101T070000
END:STANDARD
BEGIN:DAYLIGHT
TZOFFSETFROM:-0600
TZOFFSETTO:-0500
TZNAME:CDT
DTSTART:20270314T080000
END:DAYLIGHT
BEGIN:STANDARD
TZOFFSETFROM:-0500
TZOFFSETTO:-0600
TZNAME:CST
DTSTART:20271107T070000
END:STANDARD
END:VTIMEZONE
BEGIN:VEVENT
DTSTART;TZID=America/Chicago:20260510T130000
DTEND;TZID=America/Chicago:20260510T170000
DTSTAMP:20260421T093124
CREATED:20240314T191335Z
LAST-MODIFIED:20240412T032609Z
UID:10005316-1778418000-1778432400@ruralnewfamilies.com
SUMMARY:🃏 ♟️Free Family Game Day
DESCRIPTION:Join us for a FREE Family Game Day \n\nBingo\nHorse Races\nSwing Ball\nCards\nBoard Games\nMore!\n\nKids must be accompanied by parents – no drop offs \n 
URL:https://ruralnewfamilies.com/event/free-family-game-day/2026-05-10/
LOCATION:Manawa Masonic Center\,\, Manawa\, WI 54949\, USA\, North Bridge Street 520\, Manawa\, WI\, 54949\, United States
GEO:44.4746809;-88.918618
X-APPLE-STRUCTURED-LOCATION;VALUE=URI;X-ADDRESS=Manawa Masonic Center Manawa WI 54949 USA North Bridge Street 520 Manawa WI 54949 United States;X-APPLE-RADIUS=500;X-TITLE=North Bridge Street 520:geo:-88.918618,44.4746809
END:VEVENT
END:VCALENDAR