BEGIN:VCALENDAR
VERSION:2.0
PRODID:-//Rural Northeast Wisconsin Families - ECPv6.15.20//NONSGML v1.0//EN
CALSCALE:GREGORIAN
METHOD:PUBLISH
X-ORIGINAL-URL:https://ruralnewfamilies.com
X-WR-CALDESC:Events for Rural Northeast Wisconsin Families
REFRESH-INTERVAL;VALUE=DURATION:PT1H
X-Robots-Tag:noindex
X-PUBLISHED-TTL:PT1H
BEGIN:VTIMEZONE
TZID:America/Chicago
BEGIN:DAYLIGHT
TZOFFSETFROM:-0600
TZOFFSETTO:-0500
TZNAME:CDT
DTSTART:20270314T080000
END:DAYLIGHT
BEGIN:STANDARD
TZOFFSETFROM:-0500
TZOFFSETTO:-0600
TZNAME:CST
DTSTART:20271107T070000
END:STANDARD
BEGIN:DAYLIGHT
TZOFFSETFROM:-0600
TZOFFSETTO:-0500
TZNAME:CDT
DTSTART:20280312T080000
END:DAYLIGHT
BEGIN:STANDARD
TZOFFSETFROM:-0500
TZOFFSETTO:-0600
TZNAME:CST
DTSTART:20281105T070000
END:STANDARD
BEGIN:DAYLIGHT
TZOFFSETFROM:-0600
TZOFFSETTO:-0500
TZNAME:CDT
DTSTART:20290311T080000
END:DAYLIGHT
BEGIN:STANDARD
TZOFFSETFROM:-0500
TZOFFSETTO:-0600
TZNAME:CST
DTSTART:20291104T070000
END:STANDARD
BEGIN:DAYLIGHT
TZOFFSETFROM:-0600
TZOFFSETTO:-0500
TZNAME:CDT
DTSTART:20300310T080000
END:DAYLIGHT
BEGIN:STANDARD
TZOFFSETFROM:-0500
TZOFFSETTO:-0600
TZNAME:CST
DTSTART:20301103T070000
END:STANDARD
END:VTIMEZONE
BEGIN:VEVENT
DTSTART;TZID=America/Chicago:20280109T130000
DTEND;TZID=America/Chicago:20280109T170000
DTSTAMP:20260423T123337
CREATED:20240314T191335Z
LAST-MODIFIED:20240412T032609Z
UID:10005336-1831035600-1831050000@ruralnewfamilies.com
SUMMARY:🃏 ♟️Free Family Game Day
DESCRIPTION:Join us for a FREE Family Game Day \n\nBingo\nHorse Races\nSwing Ball\nCards\nBoard Games\nMore!\n\nKids must be accompanied by parents – no drop offs \n 
URL:https://ruralnewfamilies.com/event/free-family-game-day/2028-01-09/
LOCATION:Manawa Masonic Center\,\, Manawa\, WI 54949\, USA\, North Bridge Street 520\, Manawa\, WI\, 54949\, United States
GEO:44.4746809;-88.918618
X-APPLE-STRUCTURED-LOCATION;VALUE=URI;X-ADDRESS=Manawa Masonic Center Manawa WI 54949 USA North Bridge Street 520 Manawa WI 54949 United States;X-APPLE-RADIUS=500;X-TITLE=North Bridge Street 520:geo:-88.918618,44.4746809
END:VEVENT
BEGIN:VEVENT
DTSTART;TZID=America/Chicago:20280213T130000
DTEND;TZID=America/Chicago:20280213T170000
DTSTAMP:20260423T123337
CREATED:20240314T191335Z
LAST-MODIFIED:20240412T032609Z
UID:10005337-1834059600-1834074000@ruralnewfamilies.com
SUMMARY:🃏 ♟️Free Family Game Day
DESCRIPTION:Join us for a FREE Family Game Day \n\nBingo\nHorse Races\nSwing Ball\nCards\nBoard Games\nMore!\n\nKids must be accompanied by parents – no drop offs \n 
URL:https://ruralnewfamilies.com/event/free-family-game-day/2028-02-13/
LOCATION:Manawa Masonic Center\,\, Manawa\, WI 54949\, USA\, North Bridge Street 520\, Manawa\, WI\, 54949\, United States
GEO:44.4746809;-88.918618
X-APPLE-STRUCTURED-LOCATION;VALUE=URI;X-ADDRESS=Manawa Masonic Center Manawa WI 54949 USA North Bridge Street 520 Manawa WI 54949 United States;X-APPLE-RADIUS=500;X-TITLE=North Bridge Street 520:geo:-88.918618,44.4746809
END:VEVENT
BEGIN:VEVENT
DTSTART;TZID=America/Chicago:20280312T130000
DTEND;TZID=America/Chicago:20280312T170000
DTSTAMP:20260423T123337
CREATED:20240314T191335Z
LAST-MODIFIED:20240412T032609Z
UID:10005338-1836478800-1836493200@ruralnewfamilies.com
SUMMARY:🃏 ♟️Free Family Game Day
DESCRIPTION:Join us for a FREE Family Game Day \n\nBingo\nHorse Races\nSwing Ball\nCards\nBoard Games\nMore!\n\nKids must be accompanied by parents – no drop offs \n 
URL:https://ruralnewfamilies.com/event/free-family-game-day/2028-03-12/
LOCATION:Manawa Masonic Center\,\, Manawa\, WI 54949\, USA\, North Bridge Street 520\, Manawa\, WI\, 54949\, United States
GEO:44.4746809;-88.918618
X-APPLE-STRUCTURED-LOCATION;VALUE=URI;X-ADDRESS=Manawa Masonic Center Manawa WI 54949 USA North Bridge Street 520 Manawa WI 54949 United States;X-APPLE-RADIUS=500;X-TITLE=North Bridge Street 520:geo:-88.918618,44.4746809
END:VEVENT
BEGIN:VEVENT
DTSTART;TZID=America/Chicago:20280409T130000
DTEND;TZID=America/Chicago:20280409T170000
DTSTAMP:20260423T123337
CREATED:20240314T191335Z
LAST-MODIFIED:20240412T032609Z
UID:10005339-1838898000-1838912400@ruralnewfamilies.com
SUMMARY:🃏 ♟️Free Family Game Day
DESCRIPTION:Join us for a FREE Family Game Day \n\nBingo\nHorse Races\nSwing Ball\nCards\nBoard Games\nMore!\n\nKids must be accompanied by parents – no drop offs \n 
URL:https://ruralnewfamilies.com/event/free-family-game-day/2028-04-09/
LOCATION:Manawa Masonic Center\,\, Manawa\, WI 54949\, USA\, North Bridge Street 520\, Manawa\, WI\, 54949\, United States
GEO:44.4746809;-88.918618
X-APPLE-STRUCTURED-LOCATION;VALUE=URI;X-ADDRESS=Manawa Masonic Center Manawa WI 54949 USA North Bridge Street 520 Manawa WI 54949 United States;X-APPLE-RADIUS=500;X-TITLE=North Bridge Street 520:geo:-88.918618,44.4746809
END:VEVENT
BEGIN:VEVENT
DTSTART;TZID=America/Chicago:20280514T130000
DTEND;TZID=America/Chicago:20280514T170000
DTSTAMP:20260423T123337
CREATED:20240314T191335Z
LAST-MODIFIED:20240412T032609Z
UID:10005340-1841922000-1841936400@ruralnewfamilies.com
SUMMARY:🃏 ♟️Free Family Game Day
DESCRIPTION:Join us for a FREE Family Game Day \n\nBingo\nHorse Races\nSwing Ball\nCards\nBoard Games\nMore!\n\nKids must be accompanied by parents – no drop offs \n 
URL:https://ruralnewfamilies.com/event/free-family-game-day/2028-05-14/
LOCATION:Manawa Masonic Center\,\, Manawa\, WI 54949\, USA\, North Bridge Street 520\, Manawa\, WI\, 54949\, United States
GEO:44.4746809;-88.918618
X-APPLE-STRUCTURED-LOCATION;VALUE=URI;X-ADDRESS=Manawa Masonic Center Manawa WI 54949 USA North Bridge Street 520 Manawa WI 54949 United States;X-APPLE-RADIUS=500;X-TITLE=North Bridge Street 520:geo:-88.918618,44.4746809
END:VEVENT
BEGIN:VEVENT
DTSTART;TZID=America/Chicago:20280611T130000
DTEND;TZID=America/Chicago:20280611T170000
DTSTAMP:20260423T123337
CREATED:20240314T191335Z
LAST-MODIFIED:20240412T032609Z
UID:10005341-1844341200-1844355600@ruralnewfamilies.com
SUMMARY:🃏 ♟️Free Family Game Day
DESCRIPTION:Join us for a FREE Family Game Day \n\nBingo\nHorse Races\nSwing Ball\nCards\nBoard Games\nMore!\n\nKids must be accompanied by parents – no drop offs \n 
URL:https://ruralnewfamilies.com/event/free-family-game-day/2028-06-11/
LOCATION:Manawa Masonic Center\,\, Manawa\, WI 54949\, USA\, North Bridge Street 520\, Manawa\, WI\, 54949\, United States
GEO:44.4746809;-88.918618
X-APPLE-STRUCTURED-LOCATION;VALUE=URI;X-ADDRESS=Manawa Masonic Center Manawa WI 54949 USA North Bridge Street 520 Manawa WI 54949 United States;X-APPLE-RADIUS=500;X-TITLE=North Bridge Street 520:geo:-88.918618,44.4746809
END:VEVENT
BEGIN:VEVENT
DTSTART;TZID=America/Chicago:20280709T130000
DTEND;TZID=America/Chicago:20280709T170000
DTSTAMP:20260423T123337
CREATED:20240314T191335Z
LAST-MODIFIED:20240412T032609Z
UID:10005342-1846760400-1846774800@ruralnewfamilies.com
SUMMARY:🃏 ♟️Free Family Game Day
DESCRIPTION:Join us for a FREE Family Game Day \n\nBingo\nHorse Races\nSwing Ball\nCards\nBoard Games\nMore!\n\nKids must be accompanied by parents – no drop offs \n 
URL:https://ruralnewfamilies.com/event/free-family-game-day/2028-07-09/
LOCATION:Manawa Masonic Center\,\, Manawa\, WI 54949\, USA\, North Bridge Street 520\, Manawa\, WI\, 54949\, United States
GEO:44.4746809;-88.918618
X-APPLE-STRUCTURED-LOCATION;VALUE=URI;X-ADDRESS=Manawa Masonic Center Manawa WI 54949 USA North Bridge Street 520 Manawa WI 54949 United States;X-APPLE-RADIUS=500;X-TITLE=North Bridge Street 520:geo:-88.918618,44.4746809
END:VEVENT
BEGIN:VEVENT
DTSTART;TZID=America/Chicago:20280813T130000
DTEND;TZID=America/Chicago:20280813T170000
DTSTAMP:20260423T123337
CREATED:20240314T191335Z
LAST-MODIFIED:20240412T032609Z
UID:10005343-1849784400-1849798800@ruralnewfamilies.com
SUMMARY:🃏 ♟️Free Family Game Day
DESCRIPTION:Join us for a FREE Family Game Day \n\nBingo\nHorse Races\nSwing Ball\nCards\nBoard Games\nMore!\n\nKids must be accompanied by parents – no drop offs \n 
URL:https://ruralnewfamilies.com/event/free-family-game-day/2028-08-13/
LOCATION:Manawa Masonic Center\,\, Manawa\, WI 54949\, USA\, North Bridge Street 520\, Manawa\, WI\, 54949\, United States
GEO:44.4746809;-88.918618
X-APPLE-STRUCTURED-LOCATION;VALUE=URI;X-ADDRESS=Manawa Masonic Center Manawa WI 54949 USA North Bridge Street 520 Manawa WI 54949 United States;X-APPLE-RADIUS=500;X-TITLE=North Bridge Street 520:geo:-88.918618,44.4746809
END:VEVENT
BEGIN:VEVENT
DTSTART;TZID=America/Chicago:20280910T130000
DTEND;TZID=America/Chicago:20280910T170000
DTSTAMP:20260423T123337
CREATED:20240314T191335Z
LAST-MODIFIED:20240412T032609Z
UID:10005344-1852203600-1852218000@ruralnewfamilies.com
SUMMARY:🃏 ♟️Free Family Game Day
DESCRIPTION:Join us for a FREE Family Game Day \n\nBingo\nHorse Races\nSwing Ball\nCards\nBoard Games\nMore!\n\nKids must be accompanied by parents – no drop offs \n 
URL:https://ruralnewfamilies.com/event/free-family-game-day/2028-09-10/
LOCATION:Manawa Masonic Center\,\, Manawa\, WI 54949\, USA\, North Bridge Street 520\, Manawa\, WI\, 54949\, United States
GEO:44.4746809;-88.918618
X-APPLE-STRUCTURED-LOCATION;VALUE=URI;X-ADDRESS=Manawa Masonic Center Manawa WI 54949 USA North Bridge Street 520 Manawa WI 54949 United States;X-APPLE-RADIUS=500;X-TITLE=North Bridge Street 520:geo:-88.918618,44.4746809
END:VEVENT
BEGIN:VEVENT
DTSTART;TZID=America/Chicago:20281008T130000
DTEND;TZID=America/Chicago:20281008T170000
DTSTAMP:20260423T123337
CREATED:20240314T191335Z
LAST-MODIFIED:20240412T032609Z
UID:10005345-1854622800-1854637200@ruralnewfamilies.com
SUMMARY:🃏 ♟️Free Family Game Day
DESCRIPTION:Join us for a FREE Family Game Day \n\nBingo\nHorse Races\nSwing Ball\nCards\nBoard Games\nMore!\n\nKids must be accompanied by parents – no drop offs \n 
URL:https://ruralnewfamilies.com/event/free-family-game-day/2028-10-08/
LOCATION:Manawa Masonic Center\,\, Manawa\, WI 54949\, USA\, North Bridge Street 520\, Manawa\, WI\, 54949\, United States
GEO:44.4746809;-88.918618
X-APPLE-STRUCTURED-LOCATION;VALUE=URI;X-ADDRESS=Manawa Masonic Center Manawa WI 54949 USA North Bridge Street 520 Manawa WI 54949 United States;X-APPLE-RADIUS=500;X-TITLE=North Bridge Street 520:geo:-88.918618,44.4746809
END:VEVENT
BEGIN:VEVENT
DTSTART;TZID=America/Chicago:20281112T130000
DTEND;TZID=America/Chicago:20281112T170000
DTSTAMP:20260423T123337
CREATED:20240314T191335Z
LAST-MODIFIED:20240412T032609Z
UID:10005346-1857646800-1857661200@ruralnewfamilies.com
SUMMARY:🃏 ♟️Free Family Game Day
DESCRIPTION:Join us for a FREE Family Game Day \n\nBingo\nHorse Races\nSwing Ball\nCards\nBoard Games\nMore!\n\nKids must be accompanied by parents – no drop offs \n 
URL:https://ruralnewfamilies.com/event/free-family-game-day/2028-11-12/
LOCATION:Manawa Masonic Center\,\, Manawa\, WI 54949\, USA\, North Bridge Street 520\, Manawa\, WI\, 54949\, United States
GEO:44.4746809;-88.918618
X-APPLE-STRUCTURED-LOCATION;VALUE=URI;X-ADDRESS=Manawa Masonic Center Manawa WI 54949 USA North Bridge Street 520 Manawa WI 54949 United States;X-APPLE-RADIUS=500;X-TITLE=North Bridge Street 520:geo:-88.918618,44.4746809
END:VEVENT
BEGIN:VEVENT
DTSTART;TZID=America/Chicago:20281210T130000
DTEND;TZID=America/Chicago:20281210T170000
DTSTAMP:20260423T123337
CREATED:20240314T191335Z
LAST-MODIFIED:20240412T032609Z
UID:10005347-1860066000-1860080400@ruralnewfamilies.com
SUMMARY:🃏 ♟️Free Family Game Day
DESCRIPTION:Join us for a FREE Family Game Day \n\nBingo\nHorse Races\nSwing Ball\nCards\nBoard Games\nMore!\n\nKids must be accompanied by parents – no drop offs \n 
URL:https://ruralnewfamilies.com/event/free-family-game-day/2028-12-10/
LOCATION:Manawa Masonic Center\,\, Manawa\, WI 54949\, USA\, North Bridge Street 520\, Manawa\, WI\, 54949\, United States
GEO:44.4746809;-88.918618
X-APPLE-STRUCTURED-LOCATION;VALUE=URI;X-ADDRESS=Manawa Masonic Center Manawa WI 54949 USA North Bridge Street 520 Manawa WI 54949 United States;X-APPLE-RADIUS=500;X-TITLE=North Bridge Street 520:geo:-88.918618,44.4746809
END:VEVENT
BEGIN:VEVENT
DTSTART;TZID=America/Chicago:20290114T130000
DTEND;TZID=America/Chicago:20290114T170000
DTSTAMP:20260423T123337
CREATED:20240314T191335Z
LAST-MODIFIED:20240412T032609Z
UID:10005348-1863090000-1863104400@ruralnewfamilies.com
SUMMARY:🃏 ♟️Free Family Game Day
DESCRIPTION:Join us for a FREE Family Game Day \n\nBingo\nHorse Races\nSwing Ball\nCards\nBoard Games\nMore!\n\nKids must be accompanied by parents – no drop offs \n 
URL:https://ruralnewfamilies.com/event/free-family-game-day/2029-01-14/
LOCATION:Manawa Masonic Center\,\, Manawa\, WI 54949\, USA\, North Bridge Street 520\, Manawa\, WI\, 54949\, United States
GEO:44.4746809;-88.918618
X-APPLE-STRUCTURED-LOCATION;VALUE=URI;X-ADDRESS=Manawa Masonic Center Manawa WI 54949 USA North Bridge Street 520 Manawa WI 54949 United States;X-APPLE-RADIUS=500;X-TITLE=North Bridge Street 520:geo:-88.918618,44.4746809
END:VEVENT
BEGIN:VEVENT
DTSTART;TZID=America/Chicago:20290211T130000
DTEND;TZID=America/Chicago:20290211T170000
DTSTAMP:20260423T123337
CREATED:20240314T191335Z
LAST-MODIFIED:20240412T032609Z
UID:10005349-1865509200-1865523600@ruralnewfamilies.com
SUMMARY:🃏 ♟️Free Family Game Day
DESCRIPTION:Join us for a FREE Family Game Day \n\nBingo\nHorse Races\nSwing Ball\nCards\nBoard Games\nMore!\n\nKids must be accompanied by parents – no drop offs \n 
URL:https://ruralnewfamilies.com/event/free-family-game-day/2029-02-11/
LOCATION:Manawa Masonic Center\,\, Manawa\, WI 54949\, USA\, North Bridge Street 520\, Manawa\, WI\, 54949\, United States
GEO:44.4746809;-88.918618
X-APPLE-STRUCTURED-LOCATION;VALUE=URI;X-ADDRESS=Manawa Masonic Center Manawa WI 54949 USA North Bridge Street 520 Manawa WI 54949 United States;X-APPLE-RADIUS=500;X-TITLE=North Bridge Street 520:geo:-88.918618,44.4746809
END:VEVENT
BEGIN:VEVENT
DTSTART;TZID=America/Chicago:20290311T130000
DTEND;TZID=America/Chicago:20290311T170000
DTSTAMP:20260423T123337
CREATED:20240314T191335Z
LAST-MODIFIED:20240412T032609Z
UID:10005350-1867928400-1867942800@ruralnewfamilies.com
SUMMARY:🃏 ♟️Free Family Game Day
DESCRIPTION:Join us for a FREE Family Game Day \n\nBingo\nHorse Races\nSwing Ball\nCards\nBoard Games\nMore!\n\nKids must be accompanied by parents – no drop offs \n 
URL:https://ruralnewfamilies.com/event/free-family-game-day/2029-03-11/
LOCATION:Manawa Masonic Center\,\, Manawa\, WI 54949\, USA\, North Bridge Street 520\, Manawa\, WI\, 54949\, United States
GEO:44.4746809;-88.918618
X-APPLE-STRUCTURED-LOCATION;VALUE=URI;X-ADDRESS=Manawa Masonic Center Manawa WI 54949 USA North Bridge Street 520 Manawa WI 54949 United States;X-APPLE-RADIUS=500;X-TITLE=North Bridge Street 520:geo:-88.918618,44.4746809
END:VEVENT
BEGIN:VEVENT
DTSTART;TZID=America/Chicago:20290408T130000
DTEND;TZID=America/Chicago:20290408T170000
DTSTAMP:20260423T123337
CREATED:20240314T191335Z
LAST-MODIFIED:20240412T032609Z
UID:10005351-1870347600-1870362000@ruralnewfamilies.com
SUMMARY:🃏 ♟️Free Family Game Day
DESCRIPTION:Join us for a FREE Family Game Day \n\nBingo\nHorse Races\nSwing Ball\nCards\nBoard Games\nMore!\n\nKids must be accompanied by parents – no drop offs \n 
URL:https://ruralnewfamilies.com/event/free-family-game-day/2029-04-08/
LOCATION:Manawa Masonic Center\,\, Manawa\, WI 54949\, USA\, North Bridge Street 520\, Manawa\, WI\, 54949\, United States
GEO:44.4746809;-88.918618
X-APPLE-STRUCTURED-LOCATION;VALUE=URI;X-ADDRESS=Manawa Masonic Center Manawa WI 54949 USA North Bridge Street 520 Manawa WI 54949 United States;X-APPLE-RADIUS=500;X-TITLE=North Bridge Street 520:geo:-88.918618,44.4746809
END:VEVENT
END:VCALENDAR